{"text_format":"1","workbook":"xlsx","n_sheets":5,"sheets":["入力","科目情報","月別グラフ","月比較グラフ","年別グラフ"],"not_rendered":{"charts":12,"images":0,"macros":1,"external_links":0,"defined_names":5,"comments":0,"pivot_tables":0},"unopened":[],"bounds":{"document_bytes":16777216,"sheet_cells":100000,"rows_first":2000,"rows_last":500,"rows_between":2000,"halvings":0,"cell_chars":16384,"cell_head_chars":4096},"cells_cut":0,"cells_raw":0,"read":"whole","date_system":"1900"}

{"sheet":"入力","index":0,"n_rows":25,"n_cols":25,"rows_kept":25,"cut":false,"hidden":false,"merged":[]}
[]
[]
[null,"◆個別データ入力"]
[null,null,"●データ記入",null,null,null,null,"●勘定科目ボタン"]
[null,null,null,null,null,null,null,"収入",null,"固定費",null,"変動費",null,null,null,"日付","金額","勘定科目","内容","メモ","収入/支出","固定費/変動費","収支","年","月"]
[null,null,"日付","金額","内容","メモ",null,"給料",null,"家賃",null,"食費",null,null,null,"2023-03-01",10000,"保険代","Dﾎｹﾝ",null,{"$f":"IFERROR(IF(OFFSET(科目情報[[#Headers],[収入/固定費/変動費]],MATCH(家計簿[[#This Row],[勘定科目]],科目情報[勘定科目],0),0)=\"収入\",\"収入\",\"支出\"),\"\")","v":"支出"},{"$f":"IFERROR(IF(OFFSET(科目情報[[#Headers],[収入/固定費/変動費]],MATCH(家計簿[[#This Row],[勘定科目]],科目情報[勘定科目],0),0)=\"収入\",\"\",OFFSET(科目情報[[#Headers],[収入/固定費/変動費]],MATCH(家計簿[[#This Row],[勘定科目]],科目情報[勘定科目],0),0)),\"\")","v":"固定費"},{"$f":"IFERROR(IF(家計簿[[#This Row],[収入/支出]]=\"収入\",家計簿[[#This Row],[金額]],-家計簿[[#This Row],[金額]]),0)","v":-10000},{"$f":"YEAR(家計簿[[#This Row],[日付]])","v":2023},{"$f":"MONTH(家計簿[[#This Row],[日付]])","v":3}]
[null,null,null,null,null,null,null,"ボーナス",null,"電気代",null,"日用品",null,null,null,"2023-03-02",3000,"保険代","Eｾｲﾒｲﾎｹﾝ",null,{"$f":"IFERROR(IF(OFFSET(科目情報[[#Headers],[収入/固定費/変動費]],MATCH(家計簿[[#This Row],[勘定科目]],科目情報[勘定科目],0),0)=\"収入\",\"収入\",\"支出\"),\"\")","v":"支出"},{"$f":"IFERROR(IF(OFFSET(科目情報[[#Headers],[収入/固定費/変動費]],MATCH(家計簿[[#This Row],[勘定科目]],科目情報[勘定科目],0),0)=\"収入\",\"\",OFFSET(科目情報[[#Headers],[収入/固定費/変動費]],MATCH(家計簿[[#This Row],[勘定科目]],科目情報[勘定科目],0),0)),\"\")","v":"固定費"},{"$f":"IFERROR(IF(家計簿[[#This Row],[収入/支出]]=\"収入\",家計簿[[#This Row],[金額]],-家計簿[[#This Row],[金額]]),0)","v":-3000},{"$f":"YEAR(家計簿[[#This Row],[日付]])","v":2023},{"$f":"MONTH(家計簿[[#This Row],[日付]])","v":3}]
[null,null,"（※赤文字：必須入力、黒文字：任意入力）",null,null,null,null,"家賃補助",null,"ガス代",null,"衣服",null,null,null,"2023-03-07",5000,"水道代","ｽｲﾄﾞｳ",null,{"$f":"IFERROR(IF(OFFSET(科目情報[[#Headers],[収入/固定費/変動費]],MATCH(家計簿[[#This Row],[勘定科目]],科目情報[勘定科目],0),0)=\"収入\",\"収入\",\"支出\"),\"\")","v":"支出"},{"$f":"IFERROR(IF(OFFSET(科目情報[[#Headers],[収入/固定費/変動費]],MATCH(家計簿[[#This Row],[勘定科目]],科目情報[勘定科目],0),0)=\"収入\",\"\",OFFSET(科目情報[[#Headers],[収入/固定費/変動費]],MATCH(家計簿[[#This Row],[勘定科目]],科目情報[勘定科目],0),0)),\"\")","v":"固定費"},{"$f":"IFERROR(IF(家計簿[[#This Row],[収入/支出]]=\"収入\",家計簿[[#This Row],[金額]],-家計簿[[#This Row],[金額]]),0)","v":-5000},{"$f":"YEAR(家計簿[[#This Row],[日付]])","v":2023},{"$f":"MONTH(家計簿[[#This Row],[日付]])","v":3}]
[null,null,null,null,null,null,null,"児童手当",null,"水道代",null,"教育費",null,null,null,"2023-03-09",4000,"ガス代","ｶﾞｽ",null,{"$f":"IFERROR(IF(OFFSET(科目情報[[#Headers],[収入/固定費/変動費]],MATCH(家計簿[[#This Row],[勘定科目]],科目情報[勘定科目],0),0)=\"収入\",\"収入\",\"支出\"),\"\")","v":"支出"},{"$f":"IFERROR(IF(OFFSET(科目情報[[#Headers],[収入/固定費/変動費]],MATCH(家計簿[[#This Row],[勘定科目]],科目情報[勘定科目],0),0)=\"収入\",\"\",OFFSET(科目情報[[#Headers],[収入/固定費/変動費]],MATCH(家計簿[[#This Row],[勘定科目]],科目情報[勘定科目],0),0)),\"\")","v":"固定費"},{"$f":"IFERROR(IF(家計簿[[#This Row],[収入/支出]]=\"収入\",家計簿[[#This Row],[金額]],-家計簿[[#This Row],[金額]]),0)","v":-4000},{"$f":"YEAR(家計簿[[#This Row],[日付]])","v":2023},{"$f":"MONTH(家計簿[[#This Row],[日付]])","v":3}]
[null,null,null,null,null,null,null,"配当金",null,"通信費",null,"外食費",null,null,null,"2023-03-15",10000,"特別出費","その他",null,{"$f":"IFERROR(IF(OFFSET(科目情報[[#Headers],[収入/固定費/変動費]],MATCH(家計簿[[#This Row],[勘定科目]],科目情報[勘定科目],0),0)=\"収入\",\"収入\",\"支出\"),\"\")","v":"支出"},{"$f":"IFERROR(IF(OFFSET(科目情報[[#Headers],[収入/固定費/変動費]],MATCH(家計簿[[#This Row],[勘定科目]],科目情報[勘定科目],0),0)=\"収入\",\"\",OFFSET(科目情報[[#Headers],[収入/固定費/変動費]],MATCH(家計簿[[#This Row],[勘定科目]],科目情報[勘定科目],0),0)),\"\")","v":"変動費"},{"$f":"IFERROR(IF(家計簿[[#This Row],[収入/支出]]=\"収入\",家計簿[[#This Row],[金額]],-家計簿[[#This Row],[金額]]),0)","v":-10000},{"$f":"YEAR(家計簿[[#This Row],[日付]])","v":2023},{"$f":"MONTH(家計簿[[#This Row],[日付]])","v":3}]
[null,null,null,null,null,null,null,"特別収入",null,"保険代",null,"移動費",null,null,null,"2023-03-14",3500,"食費","Cﾄﾞﾗｯｸﾞｽﾄｱ",null,{"$f":"IFERROR(IF(OFFSET(科目情報[[#Headers],[収入/固定費/変動費]],MATCH(家計簿[[#This Row],[勘定科目]],科目情報[勘定科目],0),0)=\"収入\",\"収入\",\"支出\"),\"\")","v":"支出"},{"$f":"IFERROR(IF(OFFSET(科目情報[[#Headers],[収入/固定費/変動費]],MATCH(家計簿[[#This Row],[勘定科目]],科目情報[勘定科目],0),0)=\"収入\",\"\",OFFSET(科目情報[[#Headers],[収入/固定費/変動費]],MATCH(家計簿[[#This Row],[勘定科目]],科目情報[勘定科目],0),0)),\"\")","v":"変動費"},{"$f":"IFERROR(IF(家計簿[[#This Row],[収入/支出]]=\"収入\",家計簿[[#This Row],[金額]],-家計簿[[#This Row],[金額]]),0)","v":-3500},{"$f":"YEAR(家計簿[[#This Row],[日付]])","v":2023},{"$f":"MONTH(家計簿[[#This Row],[日付]])","v":3}]
[null,null,null,null,null,null,null,null,null,"サブスク",null,"旅費",null,null,null,"2023-03-17",1400,"サブスク","Aｽｰﾊﾟｰ",null,{"$f":"IFERROR(IF(OFFSET(科目情報[[#Headers],[収入/固定費/変動費]],MATCH(家計簿[[#This Row],[勘定科目]],科目情報[勘定科目],0),0)=\"収入\",\"収入\",\"支出\"),\"\")","v":"支出"},{"$f":"IFERROR(IF(OFFSET(科目情報[[#Headers],[収入/固定費/変動費]],MATCH(家計簿[[#This Row],[勘定科目]],科目情報[勘定科目],0),0)=\"収入\",\"\",OFFSET(科目情報[[#Headers],[収入/固定費/変動費]],MATCH(家計簿[[#This Row],[勘定科目]],科目情報[勘定科目],0),0)),\"\")","v":"固定費"},{"$f":"IFERROR(IF(家計簿[[#This Row],[収入/支出]]=\"収入\",家計簿[[#This Row],[金額]],-家計簿[[#This Row],[金額]]),0)","v":-1400},{"$f":"YEAR(家計簿[[#This Row],[日付]])","v":2023},{"$f":"MONTH(家計簿[[#This Row],[日付]])","v":3}]
[null,null,null,null,null,null,null,null,null,"税金（固定資産、自動車）",null,"娯楽費",null,null,null,"2023-03-18",8000,"通信費","その他",null,{"$f":"IFERROR(IF(OFFSET(科目情報[[#Headers],[収入/固定費/変動費]],MATCH(家計簿[[#This Row],[勘定科目]],科目情報[勘定科目],0),0)=\"収入\",\"収入\",\"支出\"),\"\")","v":"支出"},{"$f":"IFERROR(IF(OFFSET(科目情報[[#Headers],[収入/固定費/変動費]],MATCH(家計簿[[#This Row],[勘定科目]],科目情報[勘定科目],0),0)=\"収入\",\"\",OFFSET(科目情報[[#Headers],[収入/固定費/変動費]],MATCH(家計簿[[#This Row],[勘定科目]],科目情報[勘定科目],0),0)),\"\")","v":"固定費"},{"$f":"IFERROR(IF(家計簿[[#This Row],[収入/支出]]=\"収入\",家計簿[[#This Row],[金額]],-家計簿[[#This Row],[金額]]),0)","v":-8000},{"$f":"YEAR(家計簿[[#This Row],[日付]])","v":2023},{"$f":"MONTH(家計簿[[#This Row],[日付]])","v":3}]
[null,null,null,null,null,null,null,null,null,null,null,"医療費",null,null,null,"2023-03-19",1300,"配当金","Aｽｰﾊﾟｰ",null,{"$f":"IFERROR(IF(OFFSET(科目情報[[#Headers],[収入/固定費/変動費]],MATCH(家計簿[[#This Row],[勘定科目]],科目情報[勘定科目],0),0)=\"収入\",\"収入\",\"支出\"),\"\")","v":"収入"},{"$f":"IFERROR(IF(OFFSET(科目情報[[#Headers],[収入/固定費/変動費]],MATCH(家計簿[[#This Row],[勘定科目]],科目情報[勘定科目],0),0)=\"収入\",\"\",OFFSET(科目情報[[#Headers],[収入/固定費/変動費]],MATCH(家計簿[[#This Row],[勘定科目]],科目情報[勘定科目],0),0)),\"\")","v":""},{"$f":"IFERROR(IF(家計簿[[#This Row],[収入/支出]]=\"収入\",家計簿[[#This Row],[金額]],-家計簿[[#This Row],[金額]]),0)","v":1300},{"$f":"YEAR(家計簿[[#This Row],[日付]])","v":2023},{"$f":"MONTH(家計簿[[#This Row],[日付]])","v":3}]
[null,null,null,null,null,null,null,null,null,null,null,"特別出費",null,null,null,"2023-04-03",20000,"特別出費",null,null,{"$f":"IFERROR(IF(OFFSET(科目情報[[#Headers],[収入/固定費/変動費]],MATCH(家計簿[[#This Row],[勘定科目]],科目情報[勘定科目],0),0)=\"収入\",\"収入\",\"支出\"),\"\")","v":"支出"},{"$f":"IFERROR(IF(OFFSET(科目情報[[#Headers],[収入/固定費/変動費]],MATCH(家計簿[[#This Row],[勘定科目]],科目情報[勘定科目],0),0)=\"収入\",\"\",OFFSET(科目情報[[#Headers],[収入/固定費/変動費]],MATCH(家計簿[[#This Row],[勘定科目]],科目情報[勘定科目],0),0)),\"\")","v":"変動費"},{"$f":"IFERROR(IF(家計簿[[#This Row],[収入/支出]]=\"収入\",家計簿[[#This Row],[金額]],-家計簿[[#This Row],[金額]]),0)","v":-20000},{"$f":"YEAR(家計簿[[#This Row],[日付]])","v":2023},{"$f":"MONTH(家計簿[[#This Row],[日付]])","v":4}]
[null,null,null,null,null,null,null,null,null,null,null,null,null,null,null,"2023-04-05",15000,"児童手当",null,null,{"$f":"IFERROR(IF(OFFSET(科目情報[[#Headers],[収入/固定費/変動費]],MATCH(家計簿[[#This Row],[勘定科目]],科目情報[勘定科目],0),0)=\"収入\",\"収入\",\"支出\"),\"\")","v":"収入"},{"$f":"IFERROR(IF(OFFSET(科目情報[[#Headers],[収入/固定費/変動費]],MATCH(家計簿[[#This Row],[勘定科目]],科目情報[勘定科目],0),0)=\"収入\",\"\",OFFSET(科目情報[[#Headers],[収入/固定費/変動費]],MATCH(家計簿[[#This Row],[勘定科目]],科目情報[勘定科目],0),0)),\"\")","v":""},{"$f":"IFERROR(IF(家計簿[[#This Row],[収入/支出]]=\"収入\",家計簿[[#This Row],[金額]],-家計簿[[#This Row],[金額]]),0)","v":15000},{"$f":"YEAR(家計簿[[#This Row],[日付]])","v":2023},{"$f":"MONTH(家計簿[[#This Row],[日付]])","v":4}]
[null,null,null,null,null,null,null,null,null,null,null,null,null,null,null,"2023-04-11",3500,"日用品",null,null,{"$f":"IFERROR(IF(OFFSET(科目情報[[#Headers],[収入/固定費/変動費]],MATCH(家計簿[[#This Row],[勘定科目]],科目情報[勘定科目],0),0)=\"収入\",\"収入\",\"支出\"),\"\")","v":"支出"},{"$f":"IFERROR(IF(OFFSET(科目情報[[#Headers],[収入/固定費/変動費]],MATCH(家計簿[[#This Row],[勘定科目]],科目情報[勘定科目],0),0)=\"収入\",\"\",OFFSET(科目情報[[#Headers],[収入/固定費/変動費]],MATCH(家計簿[[#This Row],[勘定科目]],科目情報[勘定科目],0),0)),\"\")","v":"変動費"},{"$f":"IFERROR(IF(家計簿[[#This Row],[収入/支出]]=\"収入\",家計簿[[#This Row],[金額]],-家計簿[[#This Row],[金額]]),0)","v":-3500},{"$f":"YEAR(家計簿[[#This Row],[日付]])","v":2023},{"$f":"MONTH(家計簿[[#This Row],[日付]])","v":4}]
[null,null,null,null,null,null,null,null,null,null,null,null,null,null,null,"2023-04-16",1400,"食費",null,null,{"$f":"IFERROR(IF(OFFSET(科目情報[[#Headers],[収入/固定費/変動費]],MATCH(家計簿[[#This Row],[勘定科目]],科目情報[勘定科目],0),0)=\"収入\",\"収入\",\"支出\"),\"\")","v":"支出"},{"$f":"IFERROR(IF(OFFSET(科目情報[[#Headers],[収入/固定費/変動費]],MATCH(家計簿[[#This Row],[勘定科目]],科目情報[勘定科目],0),0)=\"収入\",\"\",OFFSET(科目情報[[#Headers],[収入/固定費/変動費]],MATCH(家計簿[[#This Row],[勘定科目]],科目情報[勘定科目],0),0)),\"\")","v":"変動費"},{"$f":"IFERROR(IF(家計簿[[#This Row],[収入/支出]]=\"収入\",家計簿[[#This Row],[金額]],-家計簿[[#This Row],[金額]]),0)","v":-1400},{"$f":"YEAR(家計簿[[#This Row],[日付]])","v":2023},{"$f":"MONTH(家計簿[[#This Row],[日付]])","v":4}]
[null,null,null,null,null,null,null,null,null,null,null,null,null,null,null,"2023-04-07",8000,"特別出費",null,null,{"$f":"IFERROR(IF(OFFSET(科目情報[[#Headers],[収入/固定費/変動費]],MATCH(家計簿[[#This Row],[勘定科目]],科目情報[勘定科目],0),0)=\"収入\",\"収入\",\"支出\"),\"\")","v":"支出"},{"$f":"IFERROR(IF(OFFSET(科目情報[[#Headers],[収入/固定費/変動費]],MATCH(家計簿[[#This Row],[勘定科目]],科目情報[勘定科目],0),0)=\"収入\",\"\",OFFSET(科目情報[[#Headers],[収入/固定費/変動費]],MATCH(家計簿[[#This Row],[勘定科目]],科目情報[勘定科目],0),0)),\"\")","v":"変動費"},{"$f":"IFERROR(IF(家計簿[[#This Row],[収入/支出]]=\"収入\",家計簿[[#This Row],[金額]],-家計簿[[#This Row],[金額]]),0)","v":-8000},{"$f":"YEAR(家計簿[[#This Row],[日付]])","v":2023},{"$f":"MONTH(家計簿[[#This Row],[日付]])","v":4}]
[null,null,null,null,null,null,null,null,null,null,null,null,null,null,null,"2023-04-22",1300,"食費",null,null,{"$f":"IFERROR(IF(OFFSET(科目情報[[#Headers],[収入/固定費/変動費]],MATCH(家計簿[[#This Row],[勘定科目]],科目情報[勘定科目],0),0)=\"収入\",\"収入\",\"支出\"),\"\")","v":"支出"},{"$f":"IFERROR(IF(OFFSET(科目情報[[#Headers],[収入/固定費/変動費]],MATCH(家計簿[[#This Row],[勘定科目]],科目情報[勘定科目],0),0)=\"収入\",\"\",OFFSET(科目情報[[#Headers],[収入/固定費/変動費]],MATCH(家計簿[[#This Row],[勘定科目]],科目情報[勘定科目],0),0)),\"\")","v":"変動費"},{"$f":"IFERROR(IF(家計簿[[#This Row],[収入/支出]]=\"収入\",家計簿[[#This Row],[金額]],-家計簿[[#This Row],[金額]]),0)","v":-1300},{"$f":"YEAR(家計簿[[#This Row],[日付]])","v":2023},{"$f":"MONTH(家計簿[[#This Row],[日付]])","v":4}]
[null,null,null,null,null,null,null,null,null,null,null,null,null,null,null,"2023-04-30",70000,"家賃",null,null,{"$f":"IFERROR(IF(OFFSET(科目情報[[#Headers],[収入/固定費/変動費]],MATCH(家計簿[[#This Row],[勘定科目]],科目情報[勘定科目],0),0)=\"収入\",\"収入\",\"支出\"),\"\")","v":"支出"},{"$f":"IFERROR(IF(OFFSET(科目情報[[#Headers],[収入/固定費/変動費]],MATCH(家計簿[[#This Row],[勘定科目]],科目情報[勘定科目],0),0)=\"収入\",\"\",OFFSET(科目情報[[#Headers],[収入/固定費/変動費]],MATCH(家計簿[[#This Row],[勘定科目]],科目情報[勘定科目],0),0)),\"\")","v":"固定費"},{"$f":"IFERROR(IF(家計簿[[#This Row],[収入/支出]]=\"収入\",家計簿[[#This Row],[金額]],-家計簿[[#This Row],[金額]]),0)","v":-70000},{"$f":"YEAR(家計簿[[#This Row],[日付]])","v":2023},{"$f":"MONTH(家計簿[[#This Row],[日付]])","v":4}]
[null,null,null,null,null,null,null,null,null,null,null,null,null,null,null,"2024-01-03",5000,"通信費",null,null,{"$f":"IFERROR(IF(OFFSET(科目情報[[#Headers],[収入/固定費/変動費]],MATCH(家計簿[[#This Row],[勘定科目]],科目情報[勘定科目],0),0)=\"収入\",\"収入\",\"支出\"),\"\")","v":"支出"},{"$f":"IFERROR(IF(OFFSET(科目情報[[#Headers],[収入/固定費/変動費]],MATCH(家計簿[[#This Row],[勘定科目]],科目情報[勘定科目],0),0)=\"収入\",\"\",OFFSET(科目情報[[#Headers],[収入/固定費/変動費]],MATCH(家計簿[[#This Row],[勘定科目]],科目情報[勘定科目],0),0)),\"\")","v":"固定費"},{"$f":"IFERROR(IF(家計簿[[#This Row],[収入/支出]]=\"収入\",家計簿[[#This Row],[金額]],-家計簿[[#This Row],[金額]]),0)","v":-5000},{"$f":"YEAR(家計簿[[#This Row],[日付]])","v":2024},{"$f":"MONTH(家計簿[[#This Row],[日付]])","v":1}]
[null,null,null,null,null,null,null,null,null,null,null,null,null,null,null,"2024-01-03",5000,"移動費",null,null,{"$f":"IFERROR(IF(OFFSET(科目情報[[#Headers],[収入/固定費/変動費]],MATCH(家計簿[[#This Row],[勘定科目]],科目情報[勘定科目],0),0)=\"収入\",\"収入\",\"支出\"),\"\")","v":"支出"},{"$f":"IFERROR(IF(OFFSET(科目情報[[#Headers],[収入/固定費/変動費]],MATCH(家計簿[[#This Row],[勘定科目]],科目情報[勘定科目],0),0)=\"収入\",\"\",OFFSET(科目情報[[#Headers],[収入/固定費/変動費]],MATCH(家計簿[[#This Row],[勘定科目]],科目情報[勘定科目],0),0)),\"\")","v":"変動費"},{"$f":"IFERROR(IF(家計簿[[#This Row],[収入/支出]]=\"収入\",家計簿[[#This Row],[金額]],-家計簿[[#This Row],[金額]]),0)","v":-5000},{"$f":"YEAR(家計簿[[#This Row],[日付]])","v":2024},{"$f":"MONTH(家計簿[[#This Row],[日付]])","v":1}]
[null,null,null,null,null,null,null,null,null,null,null,null,null,null,null,"2024-01-03",5000,"移動費",null,null,{"$f":"IFERROR(IF(OFFSET(科目情報[[#Headers],[収入/固定費/変動費]],MATCH(家計簿[[#This Row],[勘定科目]],科目情報[勘定科目],0),0)=\"収入\",\"収入\",\"支出\"),\"\")","v":"支出"},{"$f":"IFERROR(IF(OFFSET(科目情報[[#Headers],[収入/固定費/変動費]],MATCH(家計簿[[#This Row],[勘定科目]],科目情報[勘定科目],0),0)=\"収入\",\"\",OFFSET(科目情報[[#Headers],[収入/固定費/変動費]],MATCH(家計簿[[#This Row],[勘定科目]],科目情報[勘定科目],0),0)),\"\")","v":"変動費"},{"$f":"IFERROR(IF(家計簿[[#This Row],[収入/支出]]=\"収入\",家計簿[[#This Row],[金額]],-家計簿[[#This Row],[金額]]),0)","v":-5000},{"$f":"YEAR(家計簿[[#This Row],[日付]])","v":2024},{"$f":"MONTH(家計簿[[#This Row],[日付]])","v":1}]
[null,null,null,null,null,null,null,null,null,null,null,null,null,null,null,"2024-01-04",5000,"児童手当",null,null,{"$f":"IFERROR(IF(OFFSET(科目情報[[#Headers],[収入/固定費/変動費]],MATCH(家計簿[[#This Row],[勘定科目]],科目情報[勘定科目],0),0)=\"収入\",\"収入\",\"支出\"),\"\")","v":"収入"},{"$f":"IFERROR(IF(OFFSET(科目情報[[#Headers],[収入/固定費/変動費]],MATCH(家計簿[[#This Row],[勘定科目]],科目情報[勘定科目],0),0)=\"収入\",\"\",OFFSET(科目情報[[#Headers],[収入/固定費/変動費]],MATCH(家計簿[[#This Row],[勘定科目]],科目情報[勘定科目],0),0)),\"\")","v":""},{"$f":"IFERROR(IF(家計簿[[#This Row],[収入/支出]]=\"収入\",家計簿[[#This Row],[金額]],-家計簿[[#This Row],[金額]]),0)","v":5000},{"$f":"YEAR(家計簿[[#This Row],[日付]])","v":2024},{"$f":"MONTH(家計簿[[#This Row],[日付]])","v":1}]

{"sheet":"科目情報","index":1,"n_rows":25,"n_cols":2,"rows_kept":25,"cut":false,"hidden":false,"merged":[]}
["収入/固定費/変動費","勘定科目"]
["固定費","家賃"]
["固定費","電気代"]
["固定費","ガス代"]
["固定費","水道代"]
["固定費","通信費"]
["固定費","保険代"]
["固定費","サブスク"]
["固定費","税金（固定資産、自動車）"]
["収入","給料"]
["収入","ボーナス"]
["収入","家賃補助"]
["収入","児童手当"]
["収入","配当金"]
["収入","特別収入"]
["変動費","食費"]
["変動費","日用品"]
["変動費","衣服"]
["変動費","教育費"]
["変動費","外食費"]
["変動費","移動費"]
["変動費","旅費"]
["変動費","娯楽費"]
["変動費","医療費"]
["変動費","特別出費"]

{"sheet":"月別グラフ","index":2,"n_rows":28,"n_cols":9,"rows_kept":28,"cut":false,"hidden":false,"merged":[]}
["年",2023,"月初",{"$f":"IF(OR(B1=\"\",B2=\"\"),\"\",DATE(B1,B2,1))","v":"2023-03-01"},"集計結果","収入",{"$f":"SUMIF(月別情報[収入/支出],F1,月別情報[金額])","v":1300},"固定費",{"$f":"SUMIF(月別情報[固定費/変動費],H1,月別情報[金額])","v":31400}]
["月",3,"月末",{"$f":"IF(OR(B1=\"\",B2=\"\"),\"\",DATE(B1,B2+1,1)-1)","v":"2023-03-31"},null,"支出",{"$f":"SUMIF(月別情報[収入/支出],F2,月別情報[金額])","v":44900},"変動費",{"$f":"SUMIF(月別情報[固定費/変動費],H2,月別情報[金額])","v":13500}]
[]
["勘定科目","金額","収入/支出","固定費/変動費","収支"]
["給料",{"$f":"SUMIFS(家計簿[金額],家計簿[勘定科目],\"=\"&月別情報[[#This Row],[勘定科目]],家計簿[日付],\">=\"&月別グラフ!$D$1,家計簿[日付],\"<=\"&月別グラフ!$D$2)","v":0},{"$f":"IFERROR(IF(OFFSET(科目情報[[#Headers],[収入/固定費/変動費]],MATCH(月別情報[[#This Row],[勘定科目]],科目情報[勘定科目],0),0)=\"収入\",\"収入\",\"支出\"),\"\")","v":"収入"},{"$f":"IFERROR(IF(OFFSET(科目情報[[#Headers],[収入/固定費/変動費]],MATCH(月別情報[[#This Row],[勘定科目]],科目情報[勘定科目],0),0)=\"収入\",\"\",OFFSET(科目情報[[#Headers],[収入/固定費/変動費]],MATCH(月別情報[[#This Row],[勘定科目]],科目情報[勘定科目],0),0)),\"\")","v":""},{"$f":"IFERROR(IF(月別情報[[#This Row],[収入/支出]]=\"収入\",月別情報[[#This Row],[金額]],-月別情報[[#This Row],[金額]]),0)","v":0}]
["ボーナス",{"$f":"SUMIFS(家計簿[金額],家計簿[勘定科目],\"=\"&月別情報[[#This Row],[勘定科目]],家計簿[日付],\">=\"&月別グラフ!$D$1,家計簿[日付],\"<=\"&月別グラフ!$D$2)","v":0},{"$f":"IFERROR(IF(OFFSET(科目情報[[#Headers],[収入/固定費/変動費]],MATCH(月別情報[[#This Row],[勘定科目]],科目情報[勘定科目],0),0)=\"収入\",\"収入\",\"支出\"),\"\")","v":"収入"},{"$f":"IFERROR(IF(OFFSET(科目情報[[#Headers],[収入/固定費/変動費]],MATCH(月別情報[[#This Row],[勘定科目]],科目情報[勘定科目],0),0)=\"収入\",\"\",OFFSET(科目情報[[#Headers],[収入/固定費/変動費]],MATCH(月別情報[[#This Row],[勘定科目]],科目情報[勘定科目],0),0)),\"\")","v":""},{"$f":"IFERROR(IF(月別情報[[#This Row],[収入/支出]]=\"収入\",月別情報[[#This Row],[金額]],-月別情報[[#This Row],[金額]]),0)","v":0}]
["家賃補助",{"$f":"SUMIFS(家計簿[金額],家計簿[勘定科目],\"=\"&月別情報[[#This Row],[勘定科目]],家計簿[日付],\">=\"&月別グラフ!$D$1,家計簿[日付],\"<=\"&月別グラフ!$D$2)","v":0},{"$f":"IFERROR(IF(OFFSET(科目情報[[#Headers],[収入/固定費/変動費]],MATCH(月別情報[[#This Row],[勘定科目]],科目情報[勘定科目],0),0)=\"収入\",\"収入\",\"支出\"),\"\")","v":"収入"},{"$f":"IFERROR(IF(OFFSET(科目情報[[#Headers],[収入/固定費/変動費]],MATCH(月別情報[[#This Row],[勘定科目]],科目情報[勘定科目],0),0)=\"収入\",\"\",OFFSET(科目情報[[#Headers],[収入/固定費/変動費]],MATCH(月別情報[[#This Row],[勘定科目]],科目情報[勘定科目],0),0)),\"\")","v":""},{"$f":"IFERROR(IF(月別情報[[#This Row],[収入/支出]]=\"収入\",月別情報[[#This Row],[金額]],-月別情報[[#This Row],[金額]]),0)","v":0}]
["児童手当",{"$f":"SUMIFS(家計簿[金額],家計簿[勘定科目],\"=\"&月別情報[[#This Row],[勘定科目]],家計簿[日付],\">=\"&月別グラフ!$D$1,家計簿[日付],\"<=\"&月別グラフ!$D$2)","v":0},{"$f":"IFERROR(IF(OFFSET(科目情報[[#Headers],[収入/固定費/変動費]],MATCH(月別情報[[#This Row],[勘定科目]],科目情報[勘定科目],0),0)=\"収入\",\"収入\",\"支出\"),\"\")","v":"収入"},{"$f":"IFERROR(IF(OFFSET(科目情報[[#Headers],[収入/固定費/変動費]],MATCH(月別情報[[#This Row],[勘定科目]],科目情報[勘定科目],0),0)=\"収入\",\"\",OFFSET(科目情報[[#Headers],[収入/固定費/変動費]],MATCH(月別情報[[#This Row],[勘定科目]],科目情報[勘定科目],0),0)),\"\")","v":""},{"$f":"IFERROR(IF(月別情報[[#This Row],[収入/支出]]=\"収入\",月別情報[[#This Row],[金額]],-月別情報[[#This Row],[金額]]),0)","v":0}]
["配当金",{"$f":"SUMIFS(家計簿[金額],家計簿[勘定科目],\"=\"&月別情報[[#This Row],[勘定科目]],家計簿[日付],\">=\"&月別グラフ!$D$1,家計簿[日付],\"<=\"&月別グラフ!$D$2)","v":1300},{"$f":"IFERROR(IF(OFFSET(科目情報[[#Headers],[収入/固定費/変動費]],MATCH(月別情報[[#This Row],[勘定科目]],科目情報[勘定科目],0),0)=\"収入\",\"収入\",\"支出\"),\"\")","v":"収入"},{"$f":"IFERROR(IF(OFFSET(科目情報[[#Headers],[収入/固定費/変動費]],MATCH(月別情報[[#This Row],[勘定科目]],科目情報[勘定科目],0),0)=\"収入\",\"\",OFFSET(科目情報[[#Headers],[収入/固定費/変動費]],MATCH(月別情報[[#This Row],[勘定科目]],科目情報[勘定科目],0),0)),\"\")","v":""},{"$f":"IFERROR(IF(月別情報[[#This Row],[収入/支出]]=\"収入\",月別情報[[#This Row],[金額]],-月別情報[[#This Row],[金額]]),0)","v":1300}]
["特別収入",{"$f":"SUMIFS(家計簿[金額],家計簿[勘定科目],\"=\"&月別情報[[#This Row],[勘定科目]],家計簿[日付],\">=\"&月別グラフ!$D$1,家計簿[日付],\"<=\"&月別グラフ!$D$2)","v":0},{"$f":"IFERROR(IF(OFFSET(科目情報[[#Headers],[収入/固定費/変動費]],MATCH(月別情報[[#This Row],[勘定科目]],科目情報[勘定科目],0),0)=\"収入\",\"収入\",\"支出\"),\"\")","v":"収入"},{"$f":"IFERROR(IF(OFFSET(科目情報[[#Headers],[収入/固定費/変動費]],MATCH(月別情報[[#This Row],[勘定科目]],科目情報[勘定科目],0),0)=\"収入\",\"\",OFFSET(科目情報[[#Headers],[収入/固定費/変動費]],MATCH(月別情報[[#This Row],[勘定科目]],科目情報[勘定科目],0),0)),\"\")","v":""},{"$f":"IFERROR(IF(月別情報[[#This Row],[収入/支出]]=\"収入\",月別情報[[#This Row],[金額]],-月別情報[[#This Row],[金額]]),0)","v":0}]
["家賃",{"$f":"SUMIFS(家計簿[金額],家計簿[勘定科目],\"=\"&月別情報[[#This Row],[勘定科目]],家計簿[日付],\">=\"&月別グラフ!$D$1,家計簿[日付],\"<=\"&月別グラフ!$D$2)","v":0},{"$f":"IFERROR(IF(OFFSET(科目情報[[#Headers],[収入/固定費/変動費]],MATCH(月別情報[[#This Row],[勘定科目]],科目情報[勘定科目],0),0)=\"収入\",\"収入\",\"支出\"),\"\")","v":"支出"},{"$f":"IFERROR(IF(OFFSET(科目情報[[#Headers],[収入/固定費/変動費]],MATCH(月別情報[[#This Row],[勘定科目]],科目情報[勘定科目],0),0)=\"収入\",\"\",OFFSET(科目情報[[#Headers],[収入/固定費/変動費]],MATCH(月別情報[[#This Row],[勘定科目]],科目情報[勘定科目],0),0)),\"\")","v":"固定費"},{"$f":"IFERROR(IF(月別情報[[#This Row],[収入/支出]]=\"収入\",月別情報[[#This Row],[金額]],-月別情報[[#This Row],[金額]]),0)","v":0}]
["電気代",{"$f":"SUMIFS(家計簿[金額],家計簿[勘定科目],\"=\"&月別情報[[#This Row],[勘定科目]],家計簿[日付],\">=\"&月別グラフ!$D$1,家計簿[日付],\"<=\"&月別グラフ!$D$2)","v":0},{"$f":"IFERROR(IF(OFFSET(科目情報[[#Headers],[収入/固定費/変動費]],MATCH(月別情報[[#This Row],[勘定科目]],科目情報[勘定科目],0),0)=\"収入\",\"収入\",\"支出\"),\"\")","v":"支出"},{"$f":"IFERROR(IF(OFFSET(科目情報[[#Headers],[収入/固定費/変動費]],MATCH(月別情報[[#This Row],[勘定科目]],科目情報[勘定科目],0),0)=\"収入\",\"\",OFFSET(科目情報[[#Headers],[収入/固定費/変動費]],MATCH(月別情報[[#This Row],[勘定科目]],科目情報[勘定科目],0),0)),\"\")","v":"固定費"},{"$f":"IFERROR(IF(月別情報[[#This Row],[収入/支出]]=\"収入\",月別情報[[#This Row],[金額]],-月別情報[[#This Row],[金額]]),0)","v":0}]
["ガス代",{"$f":"SUMIFS(家計簿[金額],家計簿[勘定科目],\"=\"&月別情報[[#This Row],[勘定科目]],家計簿[日付],\">=\"&月別グラフ!$D$1,家計簿[日付],\"<=\"&月別グラフ!$D$2)","v":4000},{"$f":"IFERROR(IF(OFFSET(科目情報[[#Headers],[収入/固定費/変動費]],MATCH(月別情報[[#This Row],[勘定科目]],科目情報[勘定科目],0),0)=\"収入\",\"収入\",\"支出\"),\"\")","v":"支出"},{"$f":"IFERROR(IF(OFFSET(科目情報[[#Headers],[収入/固定費/変動費]],MATCH(月別情報[[#This Row],[勘定科目]],科目情報[勘定科目],0),0)=\"収入\",\"\",OFFSET(科目情報[[#Headers],[収入/固定費/変動費]],MATCH(月別情報[[#This Row],[勘定科目]],科目情報[勘定科目],0),0)),\"\")","v":"固定費"},{"$f":"IFERROR(IF(月別情報[[#This Row],[収入/支出]]=\"収入\",月別情報[[#This Row],[金額]],-月別情報[[#This Row],[金額]]),0)","v":-4000}]
["水道代",{"$f":"SUMIFS(家計簿[金額],家計簿[勘定科目],\"=\"&月別情報[[#This Row],[勘定科目]],家計簿[日付],\">=\"&月別グラフ!$D$1,家計簿[日付],\"<=\"&月別グラフ!$D$2)","v":5000},{"$f":"IFERROR(IF(OFFSET(科目情報[[#Headers],[収入/固定費/変動費]],MATCH(月別情報[[#This Row],[勘定科目]],科目情報[勘定科目],0),0)=\"収入\",\"収入\",\"支出\"),\"\")","v":"支出"},{"$f":"IFERROR(IF(OFFSET(科目情報[[#Headers],[収入/固定費/変動費]],MATCH(月別情報[[#This Row],[勘定科目]],科目情報[勘定科目],0),0)=\"収入\",\"\",OFFSET(科目情報[[#Headers],[収入/固定費/変動費]],MATCH(月別情報[[#This Row],[勘定科目]],科目情報[勘定科目],0),0)),\"\")","v":"固定費"},{"$f":"IFERROR(IF(月別情報[[#This Row],[収入/支出]]=\"収入\",月別情報[[#This Row],[金額]],-月別情報[[#This Row],[金額]]),0)","v":-5000}]
["通信費",{"$f":"SUMIFS(家計簿[金額],家計簿[勘定科目],\"=\"&月別情報[[#This Row],[勘定科目]],家計簿[日付],\">=\"&月別グラフ!$D$1,家計簿[日付],\"<=\"&月別グラフ!$D$2)","v":8000},{"$f":"IFERROR(IF(OFFSET(科目情報[[#Headers],[収入/固定費/変動費]],MATCH(月別情報[[#This Row],[勘定科目]],科目情報[勘定科目],0),0)=\"収入\",\"収入\",\"支出\"),\"\")","v":"支出"},{"$f":"IFERROR(IF(OFFSET(科目情報[[#Headers],[収入/固定費/変動費]],MATCH(月別情報[[#This Row],[勘定科目]],科目情報[勘定科目],0),0)=\"収入\",\"\",OFFSET(科目情報[[#Headers],[収入/固定費/変動費]],MATCH(月別情報[[#This Row],[勘定科目]],科目情報[勘定科目],0),0)),\"\")","v":"固定費"},{"$f":"IFERROR(IF(月別情報[[#This Row],[収入/支出]]=\"収入\",月別情報[[#This Row],[金額]],-月別情報[[#This Row],[金額]]),0)","v":-8000}]
["保険代",{"$f":"SUMIFS(家計簿[金額],家計簿[勘定科目],\"=\"&月別情報[[#This Row],[勘定科目]],家計簿[日付],\">=\"&月別グラフ!$D$1,家計簿[日付],\"<=\"&月別グラフ!$D$2)","v":13000},{"$f":"IFERROR(IF(OFFSET(科目情報[[#Headers],[収入/固定費/変動費]],MATCH(月別情報[[#This Row],[勘定科目]],科目情報[勘定科目],0),0)=\"収入\",\"収入\",\"支出\"),\"\")","v":"支出"},{"$f":"IFERROR(IF(OFFSET(科目情報[[#Headers],[収入/固定費/変動費]],MATCH(月別情報[[#This Row],[勘定科目]],科目情報[勘定科目],0),0)=\"収入\",\"\",OFFSET(科目情報[[#Headers],[収入/固定費/変動費]],MATCH(月別情報[[#This Row],[勘定科目]],科目情報[勘定科目],0),0)),\"\")","v":"固定費"},{"$f":"IFERROR(IF(月別情報[[#This Row],[収入/支出]]=\"収入\",月別情報[[#This Row],[金額]],-月別情報[[#This Row],[金額]]),0)","v":-13000}]
["サブスク",{"$f":"SUMIFS(家計簿[金額],家計簿[勘定科目],\"=\"&月別情報[[#This Row],[勘定科目]],家計簿[日付],\">=\"&月別グラフ!$D$1,家計簿[日付],\"<=\"&月別グラフ!$D$2)","v":1400},{"$f":"IFERROR(IF(OFFSET(科目情報[[#Headers],[収入/固定費/変動費]],MATCH(月別情報[[#This Row],[勘定科目]],科目情報[勘定科目],0),0)=\"収入\",\"収入\",\"支出\"),\"\")","v":"支出"},{"$f":"IFERROR(IF(OFFSET(科目情報[[#Headers],[収入/固定費/変動費]],MATCH(月別情報[[#This Row],[勘定科目]],科目情報[勘定科目],0),0)=\"収入\",\"\",OFFSET(科目情報[[#Headers],[収入/固定費/変動費]],MATCH(月別情報[[#This Row],[勘定科目]],科目情報[勘定科目],0),0)),\"\")","v":"固定費"},{"$f":"IFERROR(IF(月別情報[[#This Row],[収入/支出]]=\"収入\",月別情報[[#This Row],[金額]],-月別情報[[#This Row],[金額]]),0)","v":-1400}]
["税金（固定資産、自動車）",{"$f":"SUMIFS(家計簿[金額],家計簿[勘定科目],\"=\"&月別情報[[#This Row],[勘定科目]],家計簿[日付],\">=\"&月別グラフ!$D$1,家計簿[日付],\"<=\"&月別グラフ!$D$2)","v":0},{"$f":"IFERROR(IF(OFFSET(科目情報[[#Headers],[収入/固定費/変動費]],MATCH(月別情報[[#This Row],[勘定科目]],科目情報[勘定科目],0),0)=\"収入\",\"収入\",\"支出\"),\"\")","v":"支出"},{"$f":"IFERROR(IF(OFFSET(科目情報[[#Headers],[収入/固定費/変動費]],MATCH(月別情報[[#This Row],[勘定科目]],科目情報[勘定科目],0),0)=\"収入\",\"\",OFFSET(科目情報[[#Headers],[収入/固定費/変動費]],MATCH(月別情報[[#This Row],[勘定科目]],科目情報[勘定科目],0),0)),\"\")","v":"固定費"},{"$f":"IFERROR(IF(月別情報[[#This Row],[収入/支出]]=\"収入\",月別情報[[#This Row],[金額]],-月別情報[[#This Row],[金額]]),0)","v":0}]
["食費",{"$f":"SUMIFS(家計簿[金額],家計簿[勘定科目],\"=\"&月別情報[[#This Row],[勘定科目]],家計簿[日付],\">=\"&月別グラフ!$D$1,家計簿[日付],\"<=\"&月別グラフ!$D$2)","v":3500},{"$f":"IFERROR(IF(OFFSET(科目情報[[#Headers],[収入/固定費/変動費]],MATCH(月別情報[[#This Row],[勘定科目]],科目情報[勘定科目],0),0)=\"収入\",\"収入\",\"支出\"),\"\")","v":"支出"},{"$f":"IFERROR(IF(OFFSET(科目情報[[#Headers],[収入/固定費/変動費]],MATCH(月別情報[[#This Row],[勘定科目]],科目情報[勘定科目],0),0)=\"収入\",\"\",OFFSET(科目情報[[#Headers],[収入/固定費/変動費]],MATCH(月別情報[[#This Row],[勘定科目]],科目情報[勘定科目],0),0)),\"\")","v":"変動費"},{"$f":"IFERROR(IF(月別情報[[#This Row],[収入/支出]]=\"収入\",月別情報[[#This Row],[金額]],-月別情報[[#This Row],[金額]]),0)","v":-3500}]
["日用品",{"$f":"SUMIFS(家計簿[金額],家計簿[勘定科目],\"=\"&月別情報[[#This Row],[勘定科目]],家計簿[日付],\">=\"&月別グラフ!$D$1,家計簿[日付],\"<=\"&月別グラフ!$D$2)","v":0},{"$f":"IFERROR(IF(OFFSET(科目情報[[#Headers],[収入/固定費/変動費]],MATCH(月別情報[[#This Row],[勘定科目]],科目情報[勘定科目],0),0)=\"収入\",\"収入\",\"支出\"),\"\")","v":"支出"},{"$f":"IFERROR(IF(OFFSET(科目情報[[#Headers],[収入/固定費/変動費]],MATCH(月別情報[[#This Row],[勘定科目]],科目情報[勘定科目],0),0)=\"収入\",\"\",OFFSET(科目情報[[#Headers],[収入/固定費/変動費]],MATCH(月別情報[[#This Row],[勘定科目]],科目情報[勘定科目],0),0)),\"\")","v":"変動費"},{"$f":"IFERROR(IF(月別情報[[#This Row],[収入/支出]]=\"収入\",月別情報[[#This Row],[金額]],-月別情報[[#This Row],[金額]]),0)","v":0}]
["衣服",{"$f":"SUMIFS(家計簿[金額],家計簿[勘定科目],\"=\"&月別情報[[#This Row],[勘定科目]],家計簿[日付],\">=\"&月別グラフ!$D$1,家計簿[日付],\"<=\"&月別グラフ!$D$2)","v":0},{"$f":"IFERROR(IF(OFFSET(科目情報[[#Headers],[収入/固定費/変動費]],MATCH(月別情報[[#This Row],[勘定科目]],科目情報[勘定科目],0),0)=\"収入\",\"収入\",\"支出\"),\"\")","v":"支出"},{"$f":"IFERROR(IF(OFFSET(科目情報[[#Headers],[収入/固定費/変動費]],MATCH(月別情報[[#This Row],[勘定科目]],科目情報[勘定科目],0),0)=\"収入\",\"\",OFFSET(科目情報[[#Headers],[収入/固定費/変動費]],MATCH(月別情報[[#This Row],[勘定科目]],科目情報[勘定科目],0),0)),\"\")","v":"変動費"},{"$f":"IFERROR(IF(月別情報[[#This Row],[収入/支出]]=\"収入\",月別情報[[#This Row],[金額]],-月別情報[[#This Row],[金額]]),0)","v":0}]
["教育費",{"$f":"SUMIFS(家計簿[金額],家計簿[勘定科目],\"=\"&月別情報[[#This Row],[勘定科目]],家計簿[日付],\">=\"&月別グラフ!$D$1,家計簿[日付],\"<=\"&月別グラフ!$D$2)","v":0},{"$f":"IFERROR(IF(OFFSET(科目情報[[#Headers],[収入/固定費/変動費]],MATCH(月別情報[[#This Row],[勘定科目]],科目情報[勘定科目],0),0)=\"収入\",\"収入\",\"支出\"),\"\")","v":"支出"},{"$f":"IFERROR(IF(OFFSET(科目情報[[#Headers],[収入/固定費/変動費]],MATCH(月別情報[[#This Row],[勘定科目]],科目情報[勘定科目],0),0)=\"収入\",\"\",OFFSET(科目情報[[#Headers],[収入/固定費/変動費]],MATCH(月別情報[[#This Row],[勘定科目]],科目情報[勘定科目],0),0)),\"\")","v":"変動費"},{"$f":"IFERROR(IF(月別情報[[#This Row],[収入/支出]]=\"収入\",月別情報[[#This Row],[金額]],-月別情報[[#This Row],[金額]]),0)","v":0}]
["外食費",{"$f":"SUMIFS(家計簿[金額],家計簿[勘定科目],\"=\"&月別情報[[#This Row],[勘定科目]],家計簿[日付],\">=\"&月別グラフ!$D$1,家計簿[日付],\"<=\"&月別グラフ!$D$2)","v":0},{"$f":"IFERROR(IF(OFFSET(科目情報[[#Headers],[収入/固定費/変動費]],MATCH(月別情報[[#This Row],[勘定科目]],科目情報[勘定科目],0),0)=\"収入\",\"収入\",\"支出\"),\"\")","v":"支出"},{"$f":"IFERROR(IF(OFFSET(科目情報[[#Headers],[収入/固定費/変動費]],MATCH(月別情報[[#This Row],[勘定科目]],科目情報[勘定科目],0),0)=\"収入\",\"\",OFFSET(科目情報[[#Headers],[収入/固定費/変動費]],MATCH(月別情報[[#This Row],[勘定科目]],科目情報[勘定科目],0),0)),\"\")","v":"変動費"},{"$f":"IFERROR(IF(月別情報[[#This Row],[収入/支出]]=\"収入\",月別情報[[#This Row],[金額]],-月別情報[[#This Row],[金額]]),0)","v":0}]
["移動費",{"$f":"SUMIFS(家計簿[金額],家計簿[勘定科目],\"=\"&月別情報[[#This Row],[勘定科目]],家計簿[日付],\">=\"&月別グラフ!$D$1,家計簿[日付],\"<=\"&月別グラフ!$D$2)","v":0},{"$f":"IFERROR(IF(OFFSET(科目情報[[#Headers],[収入/固定費/変動費]],MATCH(月別情報[[#This Row],[勘定科目]],科目情報[勘定科目],0),0)=\"収入\",\"収入\",\"支出\"),\"\")","v":"支出"},{"$f":"IFERROR(IF(OFFSET(科目情報[[#Headers],[収入/固定費/変動費]],MATCH(月別情報[[#This Row],[勘定科目]],科目情報[勘定科目],0),0)=\"収入\",\"\",OFFSET(科目情報[[#Headers],[収入/固定費/変動費]],MATCH(月別情報[[#This Row],[勘定科目]],科目情報[勘定科目],0),0)),\"\")","v":"変動費"},{"$f":"IFERROR(IF(月別情報[[#This Row],[収入/支出]]=\"収入\",月別情報[[#This Row],[金額]],-月別情報[[#This Row],[金額]]),0)","v":0}]
["旅費",{"$f":"SUMIFS(家計簿[金額],家計簿[勘定科目],\"=\"&月別情報[[#This Row],[勘定科目]],家計簿[日付],\">=\"&月別グラフ!$D$1,家計簿[日付],\"<=\"&月別グラフ!$D$2)","v":0},{"$f":"IFERROR(IF(OFFSET(科目情報[[#Headers],[収入/固定費/変動費]],MATCH(月別情報[[#This Row],[勘定科目]],科目情報[勘定科目],0),0)=\"収入\",\"収入\",\"支出\"),\"\")","v":"支出"},{"$f":"IFERROR(IF(OFFSET(科目情報[[#Headers],[収入/固定費/変動費]],MATCH(月別情報[[#This Row],[勘定科目]],科目情報[勘定科目],0),0)=\"収入\",\"\",OFFSET(科目情報[[#Headers],[収入/固定費/変動費]],MATCH(月別情報[[#This Row],[勘定科目]],科目情報[勘定科目],0),0)),\"\")","v":"変動費"},{"$f":"IFERROR(IF(月別情報[[#This Row],[収入/支出]]=\"収入\",月別情報[[#This Row],[金額]],-月別情報[[#This Row],[金額]]),0)","v":0}]
["娯楽費",{"$f":"SUMIFS(家計簿[金額],家計簿[勘定科目],\"=\"&月別情報[[#This Row],[勘定科目]],家計簿[日付],\">=\"&月別グラフ!$D$1,家計簿[日付],\"<=\"&月別グラフ!$D$2)","v":0},{"$f":"IFERROR(IF(OFFSET(科目情報[[#Headers],[収入/固定費/変動費]],MATCH(月別情報[[#This Row],[勘定科目]],科目情報[勘定科目],0),0)=\"収入\",\"収入\",\"支出\"),\"\")","v":"支出"},{"$f":"IFERROR(IF(OFFSET(科目情報[[#Headers],[収入/固定費/変動費]],MATCH(月別情報[[#This Row],[勘定科目]],科目情報[勘定科目],0),0)=\"収入\",\"\",OFFSET(科目情報[[#Headers],[収入/固定費/変動費]],MATCH(月別情報[[#This Row],[勘定科目]],科目情報[勘定科目],0),0)),\"\")","v":"変動費"},{"$f":"IFERROR(IF(月別情報[[#This Row],[収入/支出]]=\"収入\",月別情報[[#This Row],[金額]],-月別情報[[#This Row],[金額]]),0)","v":0}]
["医療費",{"$f":"SUMIFS(家計簿[金額],家計簿[勘定科目],\"=\"&月別情報[[#This Row],[勘定科目]],家計簿[日付],\">=\"&月別グラフ!$D$1,家計簿[日付],\"<=\"&月別グラフ!$D$2)","v":0},{"$f":"IFERROR(IF(OFFSET(科目情報[[#Headers],[収入/固定費/変動費]],MATCH(月別情報[[#This Row],[勘定科目]],科目情報[勘定科目],0),0)=\"収入\",\"収入\",\"支出\"),\"\")","v":"支出"},{"$f":"IFERROR(IF(OFFSET(科目情報[[#Headers],[収入/固定費/変動費]],MATCH(月別情報[[#This Row],[勘定科目]],科目情報[勘定科目],0),0)=\"収入\",\"\",OFFSET(科目情報[[#Headers],[収入/固定費/変動費]],MATCH(月別情報[[#This Row],[勘定科目]],科目情報[勘定科目],0),0)),\"\")","v":"変動費"},{"$f":"IFERROR(IF(月別情報[[#This Row],[収入/支出]]=\"収入\",月別情報[[#This Row],[金額]],-月別情報[[#This Row],[金額]]),0)","v":0}]
["特別出費",{"$f":"SUMIFS(家計簿[金額],家計簿[勘定科目],\"=\"&月別情報[[#This Row],[勘定科目]],家計簿[日付],\">=\"&月別グラフ!$D$1,家計簿[日付],\"<=\"&月別グラフ!$D$2)","v":10000},{"$f":"IFERROR(IF(OFFSET(科目情報[[#Headers],[収入/固定費/変動費]],MATCH(月別情報[[#This Row],[勘定科目]],科目情報[勘定科目],0),0)=\"収入\",\"収入\",\"支出\"),\"\")","v":"支出"},{"$f":"IFERROR(IF(OFFSET(科目情報[[#Headers],[収入/固定費/変動費]],MATCH(月別情報[[#This Row],[勘定科目]],科目情報[勘定科目],0),0)=\"収入\",\"\",OFFSET(科目情報[[#Headers],[収入/固定費/変動費]],MATCH(月別情報[[#This Row],[勘定科目]],科目情報[勘定科目],0),0)),\"\")","v":"変動費"},{"$f":"IFERROR(IF(月別情報[[#This Row],[収入/支出]]=\"収入\",月別情報[[#This Row],[金額]],-月別情報[[#This Row],[金額]]),0)","v":-10000}]

{"sheet":"月比較グラフ","index":3,"n_rows":77,"n_cols":33,"rows_kept":77,"cut":false,"hidden":false,"merged":[]}
[]
[null,null,null,null,null,null,null,null,null,"勘定科目"]
[null,null,null,null,null,null,null,null,null,"収入","収入","収入","収入","収入","収入","支出","支出","支出","支出","支出","支出","支出","支出","収入","収入","収入","収入","収入","収入","収入","収入","収入","収入"]
[null,null,null,null,null,null,null,"支出",null,null,null,null,null,null,null,"固定費","固定費","固定費","固定費","固定費","固定費","固定費","固定費","変動費","変動費","変動費","変動費","変動費","変動費","変動費","変動費","変動費","変動費"]
[null,null,"年","月","年/月","収入","支出","固定費","変動費","給料","ボーナス","家賃補助","児童手当","配当金","特別収入","家賃","電気代","ガス代","水道代","通信費","保険代","サブスク","税金（固定資産、自動車）","食費","日用品","衣服","教育費","外食費","移動費","旅費","娯楽費","医療費","特別出費"]
[null,null,2023,{"$f":"MOD((ROW()-6),12)+1","v":1},{"$f":"DATE(月比較[[#This Row],[年]],月比較[[#This Row],[月]],1)","v":"2023-01-01"},{"$f":"SUMIFS(家計簿[金額],家計簿[年],月比較[[#This Row],[年]],家計簿[月],月比較[[#This Row],[月]],家計簿[収入/支出],月比較[[#Headers],[収入]])","v":0},{"$f":"SUMIFS(家計簿[金額],家計簿[年],月比較[[#This Row],[年]],家計簿[月],月比較[[#This Row],[月]],家計簿[収入/支出],月比較[[#Headers],[支出]])","v":0},{"$f":"SUMIFS(家計簿[金額],家計簿[年],月比較[[#This Row],[年]],家計簿[月],月比較[[#This Row],[月]],家計簿[固定費/変動費],月比較[[#Headers],[固定費]])","v":0},{"$f":"SUMIFS(家計簿[金額],家計簿[年],月比較[[#This Row],[年]],家計簿[月],月比較[[#This Row],[月]],家計簿[固定費/変動費],月比較[[#Headers],[変動費]])","v":0},{"$f":"SUMIFS(家計簿[金額],家計簿[年],月比較[[#This Row],[年]],家計簿[月],月比較[[#This Row],[月]],家計簿[勘定科目],月比較[[#Headers],[給料]])","v":0},{"$f":"SUMIFS(家計簿[金額],家計簿[年],月比較[[#This Row],[年]],家計簿[月],月比較[[#This Row],[月]],家計簿[勘定科目],月比較[[#Headers],[ボーナス]])","v":0},{"$f":"SUMIFS(家計簿[金額],家計簿[年],月比較[[#This Row],[年]],家計簿[月],月比較[[#This Row],[月]],家計簿[勘定科目],月比較[[#Headers],[家賃補助]])","v":0},{"$f":"SUMIFS(家計簿[金額],家計簿[年],月比較[[#This Row],[年]],家計簿[月],月比較[[#This Row],[月]],家計簿[勘定科目],月比較[[#Headers],[児童手当]])","v":0},{"$f":"SUMIFS(家計簿[金額],家計簿[年],月比較[[#This Row],[年]],家計簿[月],月比較[[#This Row],[月]],家計簿[勘定科目],月比較[[#Headers],[配当金]])","v":0},{"$f":"SUMIFS(家計簿[金額],家計簿[年],月比較[[#This Row],[年]],家計簿[月],月比較[[#This Row],[月]],家計簿[勘定科目],月比較[[#Headers],[特別収入]])","v":0},{"$f":"SUMIFS(家計簿[金額],家計簿[年],月比較[[#This Row],[年]],家計簿[月],月比較[[#This Row],[月]],家計簿[勘定科目],月比較[[#Headers],[家賃]])","v":0},{"$f":"SUMIFS(家計簿[金額],家計簿[年],月比較[[#This Row],[年]],家計簿[月],月比較[[#This Row],[月]],家計簿[勘定科目],月比較[[#Headers],[電気代]])","v":0},{"$f":"SUMIFS(家計簿[金額],家計簿[年],月比較[[#This Row],[年]],家計簿[月],月比較[[#This Row],[月]],家計簿[勘定科目],月比較[[#Headers],[ガス代]])","v":0},{"$f":"SUMIFS(家計簿[金額],家計簿[年],月比較[[#This Row],[年]],家計簿[月],月比較[[#This Row],[月]],家計簿[勘定科目],月比較[[#Headers],[水道代]])","v":0},{"$f":"SUMIFS(家計簿[金額],家計簿[年],月比較[[#This Row],[年]],家計簿[月],月比較[[#This Row],[月]],家計簿[勘定科目],月比較[[#Headers],[通信費]])","v":0},{"$f":"SUMIFS(家計簿[金額],家計簿[年],月比較[[#This Row],[年]],家計簿[月],月比較[[#This Row],[月]],家計簿[勘定科目],月比較[[#Headers],[保険代]])","v":0},{"$f":"SUMIFS(家計簿[金額],家計簿[年],月比較[[#This Row],[年]],家計簿[月],月比較[[#This Row],[月]],家計簿[勘定科目],月比較[[#Headers],[サブスク]])","v":0},{"$f":"SUMIFS(家計簿[金額],家計簿[年],月比較[[#This Row],[年]],家計簿[月],月比較[[#This Row],[月]],家計簿[勘定科目],月比較[[#Headers],[税金（固定資産、自動車）]])","v":0},{"$f":"SUMIFS(家計簿[金額],家計簿[年],月比較[[#This Row],[年]],家計簿[月],月比較[[#This Row],[月]],家計簿[勘定科目],月比較[[#Headers],[食費]])","v":0},{"$f":"SUMIFS(家計簿[金額],家計簿[年],月比較[[#This Row],[年]],家計簿[月],月比較[[#This Row],[月]],家計簿[勘定科目],月比較[[#Headers],[日用品]])","v":0},{"$f":"SUMIFS(家計簿[金額],家計簿[年],月比較[[#This Row],[年]],家計簿[月],月比較[[#This Row],[月]],家計簿[勘定科目],月比較[[#Headers],[衣服]])","v":0},{"$f":"SUMIFS(家計簿[金額],家計簿[年],月比較[[#This Row],[年]],家計簿[月],月比較[[#This Row],[月]],家計簿[勘定科目],月比較[[#Headers],[教育費]])","v":0},{"$f":"SUMIFS(家計簿[金額],家計簿[年],月比較[[#This Row],[年]],家計簿[月],月比較[[#This Row],[月]],家計簿[勘定科目],月比較[[#Headers],[外食費]])","v":0},{"$f":"SUMIFS(家計簿[金額],家計簿[年],月比較[[#This Row],[年]],家計簿[月],月比較[[#This Row],[月]],家計簿[勘定科目],月比較[[#Headers],[移動費]])","v":0},{"$f":"SUMIFS(家計簿[金額],家計簿[年],月比較[[#This Row],[年]],家計簿[月],月比較[[#This Row],[月]],家計簿[勘定科目],月比較[[#Headers],[旅費]])","v":0},{"$f":"SUMIFS(家計簿[金額],家計簿[年],月比較[[#This Row],[年]],家計簿[月],月比較[[#This Row],[月]],家計簿[勘定科目],月比較[[#Headers],[娯楽費]])","v":0},{"$f":"SUMIFS(家計簿[金額],家計簿[年],月比較[[#This Row],[年]],家計簿[月],月比較[[#This Row],[月]],家計簿[勘定科目],月比較[[#Headers],[医療費]])","v":0},{"$f":"SUMIFS(家計簿[金額],家計簿[年],月比較[[#This Row],[年]],家計簿[月],月比較[[#This Row],[月]],家計簿[勘定科目],月比較[[#Headers],[特別出費]])","v":0}]
[null,null,{"$f":"IF(月比較[[#This Row],[月]]=1,C6+1,C6)","v":2023},{"$f":"MOD((ROW()-6),12)+1","v":2},{"$f":"DATE(月比較[[#This Row],[年]],月比較[[#This Row],[月]],1)","v":"2023-02-01"},{"$f":"SUMIFS(家計簿[金額],家計簿[年],月比較[[#This Row],[年]],家計簿[月],月比較[[#This Row],[月]],家計簿[収入/支出],月比較[[#Headers],[収入]])","v":0},{"$f":"SUMIFS(家計簿[金額],家計簿[年],月比較[[#This Row],[年]],家計簿[月],月比較[[#This Row],[月]],家計簿[収入/支出],月比較[[#Headers],[支出]])","v":0},{"$f":"SUMIFS(家計簿[金額],家計簿[年],月比較[[#This Row],[年]],家計簿[月],月比較[[#This Row],[月]],家計簿[固定費/変動費],月比較[[#Headers],[固定費]])","v":0},{"$f":"SUMIFS(家計簿[金額],家計簿[年],月比較[[#This Row],[年]],家計簿[月],月比較[[#This Row],[月]],家計簿[固定費/変動費],月比較[[#Headers],[変動費]])","v":0},{"$f":"SUMIFS(家計簿[金額],家計簿[年],月比較[[#This Row],[年]],家計簿[月],月比較[[#This Row],[月]],家計簿[勘定科目],月比較[[#Headers],[給料]])","v":0},{"$f":"SUMIFS(家計簿[金額],家計簿[年],月比較[[#This Row],[年]],家計簿[月],月比較[[#This Row],[月]],家計簿[勘定科目],月比較[[#Headers],[ボーナス]])","v":0},{"$f":"SUMIFS(家計簿[金額],家計簿[年],月比較[[#This Row],[年]],家計簿[月],月比較[[#This Row],[月]],家計簿[勘定科目],月比較[[#Headers],[家賃補助]])","v":0},{"$f":"SUMIFS(家計簿[金額],家計簿[年],月比較[[#This Row],[年]],家計簿[月],月比較[[#This Row],[月]],家計簿[勘定科目],月比較[[#Headers],[児童手当]])","v":0},{"$f":"SUMIFS(家計簿[金額],家計簿[年],月比較[[#This Row],[年]],家計簿[月],月比較[[#This Row],[月]],家計簿[勘定科目],月比較[[#Headers],[配当金]])","v":0},{"$f":"SUMIFS(家計簿[金額],家計簿[年],月比較[[#This Row],[年]],家計簿[月],月比較[[#This Row],[月]],家計簿[勘定科目],月比較[[#Headers],[特別収入]])","v":0},{"$f":"SUMIFS(家計簿[金額],家計簿[年],月比較[[#This Row],[年]],家計簿[月],月比較[[#This Row],[月]],家計簿[勘定科目],月比較[[#Headers],[家賃]])","v":0},{"$f":"SUMIFS(家計簿[金額],家計簿[年],月比較[[#This Row],[年]],家計簿[月],月比較[[#This Row],[月]],家計簿[勘定科目],月比較[[#Headers],[電気代]])","v":0},{"$f":"SUMIFS(家計簿[金額],家計簿[年],月比較[[#This Row],[年]],家計簿[月],月比較[[#This Row],[月]],家計簿[勘定科目],月比較[[#Headers],[ガス代]])","v":0},{"$f":"SUMIFS(家計簿[金額],家計簿[年],月比較[[#This Row],[年]],家計簿[月],月比較[[#This Row],[月]],家計簿[勘定科目],月比較[[#Headers],[水道代]])","v":0},{"$f":"SUMIFS(家計簿[金額],家計簿[年],月比較[[#This Row],[年]],家計簿[月],月比較[[#This Row],[月]],家計簿[勘定科目],月比較[[#Headers],[通信費]])","v":0},{"$f":"SUMIFS(家計簿[金額],家計簿[年],月比較[[#This Row],[年]],家計簿[月],月比較[[#This Row],[月]],家計簿[勘定科目],月比較[[#Headers],[保険代]])","v":0},{"$f":"SUMIFS(家計簿[金額],家計簿[年],月比較[[#This Row],[年]],家計簿[月],月比較[[#This Row],[月]],家計簿[勘定科目],月比較[[#Headers],[サブスク]])","v":0},{"$f":"SUMIFS(家計簿[金額],家計簿[年],月比較[[#This Row],[年]],家計簿[月],月比較[[#This Row],[月]],家計簿[勘定科目],月比較[[#Headers],[税金（固定資産、自動車）]])","v":0},{"$f":"SUMIFS(家計簿[金額],家計簿[年],月比較[[#This Row],[年]],家計簿[月],月比較[[#This Row],[月]],家計簿[勘定科目],月比較[[#Headers],[食費]])","v":0},{"$f":"SUMIFS(家計簿[金額],家計簿[年],月比較[[#This Row],[年]],家計簿[月],月比較[[#This Row],[月]],家計簿[勘定科目],月比較[[#Headers],[日用品]])","v":0},{"$f":"SUMIFS(家計簿[金額],家計簿[年],月比較[[#This Row],[年]],家計簿[月],月比較[[#This Row],[月]],家計簿[勘定科目],月比較[[#Headers],[衣服]])","v":0},{"$f":"SUMIFS(家計簿[金額],家計簿[年],月比較[[#This Row],[年]],家計簿[月],月比較[[#This Row],[月]],家計簿[勘定科目],月比較[[#Headers],[教育費]])","v":0},{"$f":"SUMIFS(家計簿[金額],家計簿[年],月比較[[#This Row],[年]],家計簿[月],月比較[[#This Row],[月]],家計簿[勘定科目],月比較[[#Headers],[外食費]])","v":0},{"$f":"SUMIFS(家計簿[金額],家計簿[年],月比較[[#This Row],[年]],家計簿[月],月比較[[#This Row],[月]],家計簿[勘定科目],月比較[[#Headers],[移動費]])","v":0},{"$f":"SUMIFS(家計簿[金額],家計簿[年],月比較[[#This Row],[年]],家計簿[月],月比較[[#This Row],[月]],家計簿[勘定科目],月比較[[#Headers],[旅費]])","v":0},{"$f":"SUMIFS(家計簿[金額],家計簿[年],月比較[[#This Row],[年]],家計簿[月],月比較[[#This Row],[月]],家計簿[勘定科目],月比較[[#Headers],[娯楽費]])","v":0},{"$f":"SUMIFS(家計簿[金額],家計簿[年],月比較[[#This Row],[年]],家計簿[月],月比較[[#This Row],[月]],家計簿[勘定科目],月比較[[#Headers],[医療費]])","v":0},{"$f":"SUMIFS(家計簿[金額],家計簿[年],月比較[[#This Row],[年]],家計簿[月],月比較[[#This Row],[月]],家計簿[勘定科目],月比較[[#Headers],[特別出費]])","v":0}]
[null,null,{"$f":"IF(月比較[[#This Row],[月]]=1,C7+1,C7)","v":2023},3,{"$f":"DATE(月比較[[#This Row],[年]],月比較[[#This Row],[月]],1)","v":"2023-03-01"},{"$f":"SUMIFS(家計簿[金額],家計簿[年],月比較[[#This Row],[年]],家計簿[月],月比較[[#This Row],[月]],家計簿[収入/支出],月比較[[#Headers],[収入]])","v":1300},{"$f":"SUMIFS(家計簿[金額],家計簿[年],月比較[[#This Row],[年]],家計簿[月],月比較[[#This Row],[月]],家計簿[収入/支出],月比較[[#Headers],[支出]])","v":44900},{"$f":"SUMIFS(家計簿[金額],家計簿[年],月比較[[#This Row],[年]],家計簿[月],月比較[[#This Row],[月]],家計簿[固定費/変動費],月比較[[#Headers],[固定費]])","v":31400},{"$f":"SUMIFS(家計簿[金額],家計簿[年],月比較[[#This Row],[年]],家計簿[月],月比較[[#This Row],[月]],家計簿[固定費/変動費],月比較[[#Headers],[変動費]])","v":13500},{"$f":"SUMIFS(家計簿[金額],家計簿[年],月比較[[#This Row],[年]],家計簿[月],月比較[[#This Row],[月]],家計簿[勘定科目],月比較[[#Headers],[給料]])","v":0},{"$f":"SUMIFS(家計簿[金額],家計簿[年],月比較[[#This Row],[年]],家計簿[月],月比較[[#This Row],[月]],家計簿[勘定科目],月比較[[#Headers],[ボーナス]])","v":0},{"$f":"SUMIFS(家計簿[金額],家計簿[年],月比較[[#This Row],[年]],家計簿[月],月比較[[#This Row],[月]],家計簿[勘定科目],月比較[[#Headers],[家賃補助]])","v":0},{"$f":"SUMIFS(家計簿[金額],家計簿[年],月比較[[#This Row],[年]],家計簿[月],月比較[[#This Row],[月]],家計簿[勘定科目],月比較[[#Headers],[児童手当]])","v":0},{"$f":"SUMIFS(家計簿[金額],家計簿[年],月比較[[#This Row],[年]],家計簿[月],月比較[[#This Row],[月]],家計簿[勘定科目],月比較[[#Headers],[配当金]])","v":1300},{"$f":"SUMIFS(家計簿[金額],家計簿[年],月比較[[#This Row],[年]],家計簿[月],月比較[[#This Row],[月]],家計簿[勘定科目],月比較[[#Headers],[特別収入]])","v":0},{"$f":"SUMIFS(家計簿[金額],家計簿[年],月比較[[#This Row],[年]],家計簿[月],月比較[[#This Row],[月]],家計簿[勘定科目],月比較[[#Headers],[家賃]])","v":0},{"$f":"SUMIFS(家計簿[金額],家計簿[年],月比較[[#This Row],[年]],家計簿[月],月比較[[#This Row],[月]],家計簿[勘定科目],月比較[[#Headers],[電気代]])","v":0},{"$f":"SUMIFS(家計簿[金額],家計簿[年],月比較[[#This Row],[年]],家計簿[月],月比較[[#This Row],[月]],家計簿[勘定科目],月比較[[#Headers],[ガス代]])","v":4000},{"$f":"SUMIFS(家計簿[金額],家計簿[年],月比較[[#This Row],[年]],家計簿[月],月比較[[#This Row],[月]],家計簿[勘定科目],月比較[[#Headers],[水道代]])","v":5000},{"$f":"SUMIFS(家計簿[金額],家計簿[年],月比較[[#This Row],[年]],家計簿[月],月比較[[#This Row],[月]],家計簿[勘定科目],月比較[[#Headers],[通信費]])","v":8000},{"$f":"SUMIFS(家計簿[金額],家計簿[年],月比較[[#This Row],[年]],家計簿[月],月比較[[#This Row],[月]],家計簿[勘定科目],月比較[[#Headers],[保険代]])","v":13000},{"$f":"SUMIFS(家計簿[金額],家計簿[年],月比較[[#This Row],[年]],家計簿[月],月比較[[#This Row],[月]],家計簿[勘定科目],月比較[[#Headers],[サブスク]])","v":1400},{"$f":"SUMIFS(家計簿[金額],家計簿[年],月比較[[#This Row],[年]],家計簿[月],月比較[[#This Row],[月]],家計簿[勘定科目],月比較[[#Headers],[税金（固定資産、自動車）]])","v":0},{"$f":"SUMIFS(家計簿[金額],家計簿[年],月比較[[#This Row],[年]],家計簿[月],月比較[[#This Row],[月]],家計簿[勘定科目],月比較[[#Headers],[食費]])","v":3500},{"$f":"SUMIFS(家計簿[金額],家計簿[年],月比較[[#This Row],[年]],家計簿[月],月比較[[#This Row],[月]],家計簿[勘定科目],月比較[[#Headers],[日用品]])","v":0},{"$f":"SUMIFS(家計簿[金額],家計簿[年],月比較[[#This Row],[年]],家計簿[月],月比較[[#This Row],[月]],家計簿[勘定科目],月比較[[#Headers],[衣服]])","v":0},{"$f":"SUMIFS(家計簿[金額],家計簿[年],月比較[[#This Row],[年]],家計簿[月],月比較[[#This Row],[月]],家計簿[勘定科目],月比較[[#Headers],[教育費]])","v":0},{"$f":"SUMIFS(家計簿[金額],家計簿[年],月比較[[#This Row],[年]],家計簿[月],月比較[[#This Row],[月]],家計簿[勘定科目],月比較[[#Headers],[外食費]])","v":0},{"$f":"SUMIFS(家計簿[金額],家計簿[年],月比較[[#This Row],[年]],家計簿[月],月比較[[#This Row],[月]],家計簿[勘定科目],月比較[[#Headers],[移動費]])","v":0},{"$f":"SUMIFS(家計簿[金額],家計簿[年],月比較[[#This Row],[年]],家計簿[月],月比較[[#This Row],[月]],家計簿[勘定科目],月比較[[#Headers],[旅費]])","v":0},{"$f":"SUMIFS(家計簿[金額],家計簿[年],月比較[[#This Row],[年]],家計簿[月],月比較[[#This Row],[月]],家計簿[勘定科目],月比較[[#Headers],[娯楽費]])","v":0},{"$f":"SUMIFS(家計簿[金額],家計簿[年],月比較[[#This Row],[年]],家計簿[月],月比較[[#This Row],[月]],家計簿[勘定科目],月比較[[#Headers],[医療費]])","v":0},{"$f":"SUMIFS(家計簿[金額],家計簿[年],月比較[[#This Row],[年]],家計簿[月],月比較[[#This Row],[月]],家計簿[勘定科目],月比較[[#Headers],[特別出費]])","v":10000}]
[null,null,{"$f":"IF(月比較[[#This Row],[月]]=1,C8+1,C8)","v":2023},4,{"$f":"DATE(月比較[[#This Row],[年]],月比較[[#This Row],[月]],1)","v":"2023-04-01"},{"$f":"SUMIFS(家計簿[金額],家計簿[年],月比較[[#This Row],[年]],家計簿[月],月比較[[#This Row],[月]],家計簿[収入/支出],月比較[[#Headers],[収入]])","v":15000},{"$f":"SUMIFS(家計簿[金額],家計簿[年],月比較[[#This Row],[年]],家計簿[月],月比較[[#This Row],[月]],家計簿[収入/支出],月比較[[#Headers],[支出]])","v":104200},{"$f":"SUMIFS(家計簿[金額],家計簿[年],月比較[[#This Row],[年]],家計簿[月],月比較[[#This Row],[月]],家計簿[固定費/変動費],月比較[[#Headers],[固定費]])","v":70000},{"$f":"SUMIFS(家計簿[金額],家計簿[年],月比較[[#This Row],[年]],家計簿[月],月比較[[#This Row],[月]],家計簿[固定費/変動費],月比較[[#Headers],[変動費]])","v":34200},{"$f":"SUMIFS(家計簿[金額],家計簿[年],月比較[[#This Row],[年]],家計簿[月],月比較[[#This Row],[月]],家計簿[勘定科目],月比較[[#Headers],[給料]])","v":0},{"$f":"SUMIFS(家計簿[金額],家計簿[年],月比較[[#This Row],[年]],家計簿[月],月比較[[#This Row],[月]],家計簿[勘定科目],月比較[[#Headers],[ボーナス]])","v":0},{"$f":"SUMIFS(家計簿[金額],家計簿[年],月比較[[#This Row],[年]],家計簿[月],月比較[[#This Row],[月]],家計簿[勘定科目],月比較[[#Headers],[家賃補助]])","v":0},{"$f":"SUMIFS(家計簿[金額],家計簿[年],月比較[[#This Row],[年]],家計簿[月],月比較[[#This Row],[月]],家計簿[勘定科目],月比較[[#Headers],[児童手当]])","v":15000},{"$f":"SUMIFS(家計簿[金額],家計簿[年],月比較[[#This Row],[年]],家計簿[月],月比較[[#This Row],[月]],家計簿[勘定科目],月比較[[#Headers],[配当金]])","v":0},{"$f":"SUMIFS(家計簿[金額],家計簿[年],月比較[[#This Row],[年]],家計簿[月],月比較[[#This Row],[月]],家計簿[勘定科目],月比較[[#Headers],[特別収入]])","v":0},{"$f":"SUMIFS(家計簿[金額],家計簿[年],月比較[[#This Row],[年]],家計簿[月],月比較[[#This Row],[月]],家計簿[勘定科目],月比較[[#Headers],[家賃]])","v":70000},{"$f":"SUMIFS(家計簿[金額],家計簿[年],月比較[[#This Row],[年]],家計簿[月],月比較[[#This Row],[月]],家計簿[勘定科目],月比較[[#Headers],[電気代]])","v":0},{"$f":"SUMIFS(家計簿[金額],家計簿[年],月比較[[#This Row],[年]],家計簿[月],月比較[[#This Row],[月]],家計簿[勘定科目],月比較[[#Headers],[ガス代]])","v":0},{"$f":"SUMIFS(家計簿[金額],家計簿[年],月比較[[#This Row],[年]],家計簿[月],月比較[[#This Row],[月]],家計簿[勘定科目],月比較[[#Headers],[水道代]])","v":0},{"$f":"SUMIFS(家計簿[金額],家計簿[年],月比較[[#This Row],[年]],家計簿[月],月比較[[#This Row],[月]],家計簿[勘定科目],月比較[[#Headers],[通信費]])","v":0},{"$f":"SUMIFS(家計簿[金額],家計簿[年],月比較[[#This Row],[年]],家計簿[月],月比較[[#This Row],[月]],家計簿[勘定科目],月比較[[#Headers],[保険代]])","v":0},{"$f":"SUMIFS(家計簿[金額],家計簿[年],月比較[[#This Row],[年]],家計簿[月],月比較[[#This Row],[月]],家計簿[勘定科目],月比較[[#Headers],[サブスク]])","v":0},{"$f":"SUMIFS(家計簿[金額],家計簿[年],月比較[[#This Row],[年]],家計簿[月],月比較[[#This Row],[月]],家計簿[勘定科目],月比較[[#Headers],[税金（固定資産、自動車）]])","v":0},{"$f":"SUMIFS(家計簿[金額],家計簿[年],月比較[[#This Row],[年]],家計簿[月],月比較[[#This Row],[月]],家計簿[勘定科目],月比較[[#Headers],[食費]])","v":2700},{"$f":"SUMIFS(家計簿[金額],家計簿[年],月比較[[#This Row],[年]],家計簿[月],月比較[[#This Row],[月]],家計簿[勘定科目],月比較[[#Headers],[日用品]])","v":3500},{"$f":"SUMIFS(家計簿[金額],家計簿[年],月比較[[#This Row],[年]],家計簿[月],月比較[[#This Row],[月]],家計簿[勘定科目],月比較[[#Headers],[衣服]])","v":0},{"$f":"SUMIFS(家計簿[金額],家計簿[年],月比較[[#This Row],[年]],家計簿[月],月比較[[#This Row],[月]],家計簿[勘定科目],月比較[[#Headers],[教育費]])","v":0},{"$f":"SUMIFS(家計簿[金額],家計簿[年],月比較[[#This Row],[年]],家計簿[月],月比較[[#This Row],[月]],家計簿[勘定科目],月比較[[#Headers],[外食費]])","v":0},{"$f":"SUMIFS(家計簿[金額],家計簿[年],月比較[[#This Row],[年]],家計簿[月],月比較[[#This Row],[月]],家計簿[勘定科目],月比較[[#Headers],[移動費]])","v":0},{"$f":"SUMIFS(家計簿[金額],家計簿[年],月比較[[#This Row],[年]],家計簿[月],月比較[[#This Row],[月]],家計簿[勘定科目],月比較[[#Headers],[旅費]])","v":0},{"$f":"SUMIFS(家計簿[金額],家計簿[年],月比較[[#This Row],[年]],家計簿[月],月比較[[#This Row],[月]],家計簿[勘定科目],月比較[[#Headers],[娯楽費]])","v":0},{"$f":"SUMIFS(家計簿[金額],家計簿[年],月比較[[#This Row],[年]],家計簿[月],月比較[[#This Row],[月]],家計簿[勘定科目],月比較[[#Headers],[医療費]])","v":0},{"$f":"SUMIFS(家計簿[金額],家計簿[年],月比較[[#This Row],[年]],家計簿[月],月比較[[#This Row],[月]],家計簿[勘定科目],月比較[[#Headers],[特別出費]])","v":28000}]
[null,null,{"$f":"IF(月比較[[#This Row],[月]]=1,C9+1,C9)","v":2023},5,{"$f":"DATE(月比較[[#This Row],[年]],月比較[[#This Row],[月]],1)","v":"2023-05-01"},{"$f":"SUMIFS(家計簿[金額],家計簿[年],月比較[[#This Row],[年]],家計簿[月],月比較[[#This Row],[月]],家計簿[収入/支出],月比較[[#Headers],[収入]])","v":0},{"$f":"SUMIFS(家計簿[金額],家計簿[年],月比較[[#This Row],[年]],家計簿[月],月比較[[#This Row],[月]],家計簿[収入/支出],月比較[[#Headers],[支出]])","v":0},{"$f":"SUMIFS(家計簿[金額],家計簿[年],月比較[[#This Row],[年]],家計簿[月],月比較[[#This Row],[月]],家計簿[固定費/変動費],月比較[[#Headers],[固定費]])","v":0},{"$f":"SUMIFS(家計簿[金額],家計簿[年],月比較[[#This Row],[年]],家計簿[月],月比較[[#This Row],[月]],家計簿[固定費/変動費],月比較[[#Headers],[変動費]])","v":0},{"$f":"SUMIFS(家計簿[金額],家計簿[年],月比較[[#This Row],[年]],家計簿[月],月比較[[#This Row],[月]],家計簿[勘定科目],月比較[[#Headers],[給料]])","v":0},{"$f":"SUMIFS(家計簿[金額],家計簿[年],月比較[[#This Row],[年]],家計簿[月],月比較[[#This Row],[月]],家計簿[勘定科目],月比較[[#Headers],[ボーナス]])","v":0},{"$f":"SUMIFS(家計簿[金額],家計簿[年],月比較[[#This Row],[年]],家計簿[月],月比較[[#This Row],[月]],家計簿[勘定科目],月比較[[#Headers],[家賃補助]])","v":0},{"$f":"SUMIFS(家計簿[金額],家計簿[年],月比較[[#This Row],[年]],家計簿[月],月比較[[#This Row],[月]],家計簿[勘定科目],月比較[[#Headers],[児童手当]])","v":0},{"$f":"SUMIFS(家計簿[金額],家計簿[年],月比較[[#This Row],[年]],家計簿[月],月比較[[#This Row],[月]],家計簿[勘定科目],月比較[[#Headers],[配当金]])","v":0},{"$f":"SUMIFS(家計簿[金額],家計簿[年],月比較[[#This Row],[年]],家計簿[月],月比較[[#This Row],[月]],家計簿[勘定科目],月比較[[#Headers],[特別収入]])","v":0},{"$f":"SUMIFS(家計簿[金額],家計簿[年],月比較[[#This Row],[年]],家計簿[月],月比較[[#This Row],[月]],家計簿[勘定科目],月比較[[#Headers],[家賃]])","v":0},{"$f":"SUMIFS(家計簿[金額],家計簿[年],月比較[[#This Row],[年]],家計簿[月],月比較[[#This Row],[月]],家計簿[勘定科目],月比較[[#Headers],[電気代]])","v":0},{"$f":"SUMIFS(家計簿[金額],家計簿[年],月比較[[#This Row],[年]],家計簿[月],月比較[[#This Row],[月]],家計簿[勘定科目],月比較[[#Headers],[ガス代]])","v":0},{"$f":"SUMIFS(家計簿[金額],家計簿[年],月比較[[#This Row],[年]],家計簿[月],月比較[[#This Row],[月]],家計簿[勘定科目],月比較[[#Headers],[水道代]])","v":0},{"$f":"SUMIFS(家計簿[金額],家計簿[年],月比較[[#This Row],[年]],家計簿[月],月比較[[#This Row],[月]],家計簿[勘定科目],月比較[[#Headers],[通信費]])","v":0},{"$f":"SUMIFS(家計簿[金額],家計簿[年],月比較[[#This Row],[年]],家計簿[月],月比較[[#This Row],[月]],家計簿[勘定科目],月比較[[#Headers],[保険代]])","v":0},{"$f":"SUMIFS(家計簿[金額],家計簿[年],月比較[[#This Row],[年]],家計簿[月],月比較[[#This Row],[月]],家計簿[勘定科目],月比較[[#Headers],[サブスク]])","v":0},{"$f":"SUMIFS(家計簿[金額],家計簿[年],月比較[[#This Row],[年]],家計簿[月],月比較[[#This Row],[月]],家計簿[勘定科目],月比較[[#Headers],[税金（固定資産、自動車）]])","v":0},{"$f":"SUMIFS(家計簿[金額],家計簿[年],月比較[[#This Row],[年]],家計簿[月],月比較[[#This Row],[月]],家計簿[勘定科目],月比較[[#Headers],[食費]])","v":0},{"$f":"SUMIFS(家計簿[金額],家計簿[年],月比較[[#This Row],[年]],家計簿[月],月比較[[#This Row],[月]],家計簿[勘定科目],月比較[[#Headers],[日用品]])","v":0},{"$f":"SUMIFS(家計簿[金額],家計簿[年],月比較[[#This Row],[年]],家計簿[月],月比較[[#This Row],[月]],家計簿[勘定科目],月比較[[#Headers],[衣服]])","v":0},{"$f":"SUMIFS(家計簿[金額],家計簿[年],月比較[[#This Row],[年]],家計簿[月],月比較[[#This Row],[月]],家計簿[勘定科目],月比較[[#Headers],[教育費]])","v":0},{"$f":"SUMIFS(家計簿[金額],家計簿[年],月比較[[#This Row],[年]],家計簿[月],月比較[[#This Row],[月]],家計簿[勘定科目],月比較[[#Headers],[外食費]])","v":0},{"$f":"SUMIFS(家計簿[金額],家計簿[年],月比較[[#This Row],[年]],家計簿[月],月比較[[#This Row],[月]],家計簿[勘定科目],月比較[[#Headers],[移動費]])","v":0},{"$f":"SUMIFS(家計簿[金額],家計簿[年],月比較[[#This Row],[年]],家計簿[月],月比較[[#This Row],[月]],家計簿[勘定科目],月比較[[#Headers],[旅費]])","v":0},{"$f":"SUMIFS(家計簿[金額],家計簿[年],月比較[[#This Row],[年]],家計簿[月],月比較[[#This Row],[月]],家計簿[勘定科目],月比較[[#Headers],[娯楽費]])","v":0},{"$f":"SUMIFS(家計簿[金額],家計簿[年],月比較[[#This Row],[年]],家計簿[月],月比較[[#This Row],[月]],家計簿[勘定科目],月比較[[#Headers],[医療費]])","v":0},{"$f":"SUMIFS(家計簿[金額],家計簿[年],月比較[[#This Row],[年]],家計簿[月],月比較[[#This Row],[月]],家計簿[勘定科目],月比較[[#Headers],[特別出費]])","v":0}]
[null,null,{"$f":"IF(月比較[[#This Row],[月]]=1,C10+1,C10)","v":2023},6,{"$f":"DATE(月比較[[#This Row],[年]],月比較[[#This Row],[月]],1)","v":"2023-06-01"},{"$f":"SUMIFS(家計簿[金額],家計簿[年],月比較[[#This Row],[年]],家計簿[月],月比較[[#This Row],[月]],家計簿[収入/支出],月比較[[#Headers],[収入]])","v":0},{"$f":"SUMIFS(家計簿[金額],家計簿[年],月比較[[#This Row],[年]],家計簿[月],月比較[[#This Row],[月]],家計簿[収入/支出],月比較[[#Headers],[支出]])","v":0},{"$f":"SUMIFS(家計簿[金額],家計簿[年],月比較[[#This Row],[年]],家計簿[月],月比較[[#This Row],[月]],家計簿[固定費/変動費],月比較[[#Headers],[固定費]])","v":0},{"$f":"SUMIFS(家計簿[金額],家計簿[年],月比較[[#This Row],[年]],家計簿[月],月比較[[#This Row],[月]],家計簿[固定費/変動費],月比較[[#Headers],[変動費]])","v":0},{"$f":"SUMIFS(家計簿[金額],家計簿[年],月比較[[#This Row],[年]],家計簿[月],月比較[[#This Row],[月]],家計簿[勘定科目],月比較[[#Headers],[給料]])","v":0},{"$f":"SUMIFS(家計簿[金額],家計簿[年],月比較[[#This Row],[年]],家計簿[月],月比較[[#This Row],[月]],家計簿[勘定科目],月比較[[#Headers],[ボーナス]])","v":0},{"$f":"SUMIFS(家計簿[金額],家計簿[年],月比較[[#This Row],[年]],家計簿[月],月比較[[#This Row],[月]],家計簿[勘定科目],月比較[[#Headers],[家賃補助]])","v":0},{"$f":"SUMIFS(家計簿[金額],家計簿[年],月比較[[#This Row],[年]],家計簿[月],月比較[[#This Row],[月]],家計簿[勘定科目],月比較[[#Headers],[児童手当]])","v":0},{"$f":"SUMIFS(家計簿[金額],家計簿[年],月比較[[#This Row],[年]],家計簿[月],月比較[[#This Row],[月]],家計簿[勘定科目],月比較[[#Headers],[配当金]])","v":0},{"$f":"SUMIFS(家計簿[金額],家計簿[年],月比較[[#This Row],[年]],家計簿[月],月比較[[#This Row],[月]],家計簿[勘定科目],月比較[[#Headers],[特別収入]])","v":0},{"$f":"SUMIFS(家計簿[金額],家計簿[年],月比較[[#This Row],[年]],家計簿[月],月比較[[#This Row],[月]],家計簿[勘定科目],月比較[[#Headers],[家賃]])","v":0},{"$f":"SUMIFS(家計簿[金額],家計簿[年],月比較[[#This Row],[年]],家計簿[月],月比較[[#This Row],[月]],家計簿[勘定科目],月比較[[#Headers],[電気代]])","v":0},{"$f":"SUMIFS(家計簿[金額],家計簿[年],月比較[[#This Row],[年]],家計簿[月],月比較[[#This Row],[月]],家計簿[勘定科目],月比較[[#Headers],[ガス代]])","v":0},{"$f":"SUMIFS(家計簿[金額],家計簿[年],月比較[[#This Row],[年]],家計簿[月],月比較[[#This Row],[月]],家計簿[勘定科目],月比較[[#Headers],[水道代]])","v":0},{"$f":"SUMIFS(家計簿[金額],家計簿[年],月比較[[#This Row],[年]],家計簿[月],月比較[[#This Row],[月]],家計簿[勘定科目],月比較[[#Headers],[通信費]])","v":0},{"$f":"SUMIFS(家計簿[金額],家計簿[年],月比較[[#This Row],[年]],家計簿[月],月比較[[#This Row],[月]],家計簿[勘定科目],月比較[[#Headers],[保険代]])","v":0},{"$f":"SUMIFS(家計簿[金額],家計簿[年],月比較[[#This Row],[年]],家計簿[月],月比較[[#This Row],[月]],家計簿[勘定科目],月比較[[#Headers],[サブスク]])","v":0},{"$f":"SUMIFS(家計簿[金額],家計簿[年],月比較[[#This Row],[年]],家計簿[月],月比較[[#This Row],[月]],家計簿[勘定科目],月比較[[#Headers],[税金（固定資産、自動車）]])","v":0},{"$f":"SUMIFS(家計簿[金額],家計簿[年],月比較[[#This Row],[年]],家計簿[月],月比較[[#This Row],[月]],家計簿[勘定科目],月比較[[#Headers],[食費]])","v":0},{"$f":"SUMIFS(家計簿[金額],家計簿[年],月比較[[#This Row],[年]],家計簿[月],月比較[[#This Row],[月]],家計簿[勘定科目],月比較[[#Headers],[日用品]])","v":0},{"$f":"SUMIFS(家計簿[金額],家計簿[年],月比較[[#This Row],[年]],家計簿[月],月比較[[#This Row],[月]],家計簿[勘定科目],月比較[[#Headers],[衣服]])","v":0},{"$f":"SUMIFS(家計簿[金額],家計簿[年],月比較[[#This Row],[年]],家計簿[月],月比較[[#This Row],[月]],家計簿[勘定科目],月比較[[#Headers],[教育費]])","v":0},{"$f":"SUMIFS(家計簿[金額],家計簿[年],月比較[[#This Row],[年]],家計簿[月],月比較[[#This Row],[月]],家計簿[勘定科目],月比較[[#Headers],[外食費]])","v":0},{"$f":"SUMIFS(家計簿[金額],家計簿[年],月比較[[#This Row],[年]],家計簿[月],月比較[[#This Row],[月]],家計簿[勘定科目],月比較[[#Headers],[移動費]])","v":0},{"$f":"SUMIFS(家計簿[金額],家計簿[年],月比較[[#This Row],[年]],家計簿[月],月比較[[#This Row],[月]],家計簿[勘定科目],月比較[[#Headers],[旅費]])","v":0},{"$f":"SUMIFS(家計簿[金額],家計簿[年],月比較[[#This Row],[年]],家計簿[月],月比較[[#This Row],[月]],家計簿[勘定科目],月比較[[#Headers],[娯楽費]])","v":0},{"$f":"SUMIFS(家計簿[金額],家計簿[年],月比較[[#This Row],[年]],家計簿[月],月比較[[#This Row],[月]],家計簿[勘定科目],月比較[[#Headers],[医療費]])","v":0},{"$f":"SUMIFS(家計簿[金額],家計簿[年],月比較[[#This Row],[年]],家計簿[月],月比較[[#This Row],[月]],家計簿[勘定科目],月比較[[#Headers],[特別出費]])","v":0}]
[null,null,{"$f":"IF(月比較[[#This Row],[月]]=1,C11+1,C11)","v":2023},7,{"$f":"DATE(月比較[[#This Row],[年]],月比較[[#This Row],[月]],1)","v":"2023-07-01"},{"$f":"SUMIFS(家計簿[金額],家計簿[年],月比較[[#This Row],[年]],家計簿[月],月比較[[#This Row],[月]],家計簿[収入/支出],月比較[[#Headers],[収入]])","v":0},{"$f":"SUMIFS(家計簿[金額],家計簿[年],月比較[[#This Row],[年]],家計簿[月],月比較[[#This Row],[月]],家計簿[収入/支出],月比較[[#Headers],[支出]])","v":0},{"$f":"SUMIFS(家計簿[金額],家計簿[年],月比較[[#This Row],[年]],家計簿[月],月比較[[#This Row],[月]],家計簿[固定費/変動費],月比較[[#Headers],[固定費]])","v":0},{"$f":"SUMIFS(家計簿[金額],家計簿[年],月比較[[#This Row],[年]],家計簿[月],月比較[[#This Row],[月]],家計簿[固定費/変動費],月比較[[#Headers],[変動費]])","v":0},{"$f":"SUMIFS(家計簿[金額],家計簿[年],月比較[[#This Row],[年]],家計簿[月],月比較[[#This Row],[月]],家計簿[勘定科目],月比較[[#Headers],[給料]])","v":0},{"$f":"SUMIFS(家計簿[金額],家計簿[年],月比較[[#This Row],[年]],家計簿[月],月比較[[#This Row],[月]],家計簿[勘定科目],月比較[[#Headers],[ボーナス]])","v":0},{"$f":"SUMIFS(家計簿[金額],家計簿[年],月比較[[#This Row],[年]],家計簿[月],月比較[[#This Row],[月]],家計簿[勘定科目],月比較[[#Headers],[家賃補助]])","v":0},{"$f":"SUMIFS(家計簿[金額],家計簿[年],月比較[[#This Row],[年]],家計簿[月],月比較[[#This Row],[月]],家計簿[勘定科目],月比較[[#Headers],[児童手当]])","v":0},{"$f":"SUMIFS(家計簿[金額],家計簿[年],月比較[[#This Row],[年]],家計簿[月],月比較[[#This Row],[月]],家計簿[勘定科目],月比較[[#Headers],[配当金]])","v":0},{"$f":"SUMIFS(家計簿[金額],家計簿[年],月比較[[#This Row],[年]],家計簿[月],月比較[[#This Row],[月]],家計簿[勘定科目],月比較[[#Headers],[特別収入]])","v":0},{"$f":"SUMIFS(家計簿[金額],家計簿[年],月比較[[#This Row],[年]],家計簿[月],月比較[[#This Row],[月]],家計簿[勘定科目],月比較[[#Headers],[家賃]])","v":0},{"$f":"SUMIFS(家計簿[金額],家計簿[年],月比較[[#This Row],[年]],家計簿[月],月比較[[#This Row],[月]],家計簿[勘定科目],月比較[[#Headers],[電気代]])","v":0},{"$f":"SUMIFS(家計簿[金額],家計簿[年],月比較[[#This Row],[年]],家計簿[月],月比較[[#This Row],[月]],家計簿[勘定科目],月比較[[#Headers],[ガス代]])","v":0},{"$f":"SUMIFS(家計簿[金額],家計簿[年],月比較[[#This Row],[年]],家計簿[月],月比較[[#This Row],[月]],家計簿[勘定科目],月比較[[#Headers],[水道代]])","v":0},{"$f":"SUMIFS(家計簿[金額],家計簿[年],月比較[[#This Row],[年]],家計簿[月],月比較[[#This Row],[月]],家計簿[勘定科目],月比較[[#Headers],[通信費]])","v":0},{"$f":"SUMIFS(家計簿[金額],家計簿[年],月比較[[#This Row],[年]],家計簿[月],月比較[[#This Row],[月]],家計簿[勘定科目],月比較[[#Headers],[保険代]])","v":0},{"$f":"SUMIFS(家計簿[金額],家計簿[年],月比較[[#This Row],[年]],家計簿[月],月比較[[#This Row],[月]],家計簿[勘定科目],月比較[[#Headers],[サブスク]])","v":0},{"$f":"SUMIFS(家計簿[金額],家計簿[年],月比較[[#This Row],[年]],家計簿[月],月比較[[#This Row],[月]],家計簿[勘定科目],月比較[[#Headers],[税金（固定資産、自動車）]])","v":0},{"$f":"SUMIFS(家計簿[金額],家計簿[年],月比較[[#This Row],[年]],家計簿[月],月比較[[#This Row],[月]],家計簿[勘定科目],月比較[[#Headers],[食費]])","v":0},{"$f":"SUMIFS(家計簿[金額],家計簿[年],月比較[[#This Row],[年]],家計簿[月],月比較[[#This Row],[月]],家計簿[勘定科目],月比較[[#Headers],[日用品]])","v":0},{"$f":"SUMIFS(家計簿[金額],家計簿[年],月比較[[#This Row],[年]],家計簿[月],月比較[[#This Row],[月]],家計簿[勘定科目],月比較[[#Headers],[衣服]])","v":0},{"$f":"SUMIFS(家計簿[金額],家計簿[年],月比較[[#This Row],[年]],家計簿[月],月比較[[#This Row],[月]],家計簿[勘定科目],月比較[[#Headers],[教育費]])","v":0},{"$f":"SUMIFS(家計簿[金額],家計簿[年],月比較[[#This Row],[年]],家計簿[月],月比較[[#This Row],[月]],家計簿[勘定科目],月比較[[#Headers],[外食費]])","v":0},{"$f":"SUMIFS(家計簿[金額],家計簿[年],月比較[[#This Row],[年]],家計簿[月],月比較[[#This Row],[月]],家計簿[勘定科目],月比較[[#Headers],[移動費]])","v":0},{"$f":"SUMIFS(家計簿[金額],家計簿[年],月比較[[#This Row],[年]],家計簿[月],月比較[[#This Row],[月]],家計簿[勘定科目],月比較[[#Headers],[旅費]])","v":0},{"$f":"SUMIFS(家計簿[金額],家計簿[年],月比較[[#This Row],[年]],家計簿[月],月比較[[#This Row],[月]],家計簿[勘定科目],月比較[[#Headers],[娯楽費]])","v":0},{"$f":"SUMIFS(家計簿[金額],家計簿[年],月比較[[#This Row],[年]],家計簿[月],月比較[[#This Row],[月]],家計簿[勘定科目],月比較[[#Headers],[医療費]])","v":0},{"$f":"SUMIFS(家計簿[金額],家計簿[年],月比較[[#This Row],[年]],家計簿[月],月比較[[#This Row],[月]],家計簿[勘定科目],月比較[[#Headers],[特別出費]])","v":0}]
[null,null,{"$f":"IF(月比較[[#This Row],[月]]=1,C12+1,C12)","v":2023},8,{"$f":"DATE(月比較[[#This Row],[年]],月比較[[#This Row],[月]],1)","v":"2023-08-01"},{"$f":"SUMIFS(家計簿[金額],家計簿[年],月比較[[#This Row],[年]],家計簿[月],月比較[[#This Row],[月]],家計簿[収入/支出],月比較[[#Headers],[収入]])","v":0},{"$f":"SUMIFS(家計簿[金額],家計簿[年],月比較[[#This Row],[年]],家計簿[月],月比較[[#This Row],[月]],家計簿[収入/支出],月比較[[#Headers],[支出]])","v":0},{"$f":"SUMIFS(家計簿[金額],家計簿[年],月比較[[#This Row],[年]],家計簿[月],月比較[[#This Row],[月]],家計簿[固定費/変動費],月比較[[#Headers],[固定費]])","v":0},{"$f":"SUMIFS(家計簿[金額],家計簿[年],月比較[[#This Row],[年]],家計簿[月],月比較[[#This Row],[月]],家計簿[固定費/変動費],月比較[[#Headers],[変動費]])","v":0},{"$f":"SUMIFS(家計簿[金額],家計簿[年],月比較[[#This Row],[年]],家計簿[月],月比較[[#This Row],[月]],家計簿[勘定科目],月比較[[#Headers],[給料]])","v":0},{"$f":"SUMIFS(家計簿[金額],家計簿[年],月比較[[#This Row],[年]],家計簿[月],月比較[[#This Row],[月]],家計簿[勘定科目],月比較[[#Headers],[ボーナス]])","v":0},{"$f":"SUMIFS(家計簿[金額],家計簿[年],月比較[[#This Row],[年]],家計簿[月],月比較[[#This Row],[月]],家計簿[勘定科目],月比較[[#Headers],[家賃補助]])","v":0},{"$f":"SUMIFS(家計簿[金額],家計簿[年],月比較[[#This Row],[年]],家計簿[月],月比較[[#This Row],[月]],家計簿[勘定科目],月比較[[#Headers],[児童手当]])","v":0},{"$f":"SUMIFS(家計簿[金額],家計簿[年],月比較[[#This Row],[年]],家計簿[月],月比較[[#This Row],[月]],家計簿[勘定科目],月比較[[#Headers],[配当金]])","v":0},{"$f":"SUMIFS(家計簿[金額],家計簿[年],月比較[[#This Row],[年]],家計簿[月],月比較[[#This Row],[月]],家計簿[勘定科目],月比較[[#Headers],[特別収入]])","v":0},{"$f":"SUMIFS(家計簿[金額],家計簿[年],月比較[[#This Row],[年]],家計簿[月],月比較[[#This Row],[月]],家計簿[勘定科目],月比較[[#Headers],[家賃]])","v":0},{"$f":"SUMIFS(家計簿[金額],家計簿[年],月比較[[#This Row],[年]],家計簿[月],月比較[[#This Row],[月]],家計簿[勘定科目],月比較[[#Headers],[電気代]])","v":0},{"$f":"SUMIFS(家計簿[金額],家計簿[年],月比較[[#This Row],[年]],家計簿[月],月比較[[#This Row],[月]],家計簿[勘定科目],月比較[[#Headers],[ガス代]])","v":0},{"$f":"SUMIFS(家計簿[金額],家計簿[年],月比較[[#This Row],[年]],家計簿[月],月比較[[#This Row],[月]],家計簿[勘定科目],月比較[[#Headers],[水道代]])","v":0},{"$f":"SUMIFS(家計簿[金額],家計簿[年],月比較[[#This Row],[年]],家計簿[月],月比較[[#This Row],[月]],家計簿[勘定科目],月比較[[#Headers],[通信費]])","v":0},{"$f":"SUMIFS(家計簿[金額],家計簿[年],月比較[[#This Row],[年]],家計簿[月],月比較[[#This Row],[月]],家計簿[勘定科目],月比較[[#Headers],[保険代]])","v":0},{"$f":"SUMIFS(家計簿[金額],家計簿[年],月比較[[#This Row],[年]],家計簿[月],月比較[[#This Row],[月]],家計簿[勘定科目],月比較[[#Headers],[サブスク]])","v":0},{"$f":"SUMIFS(家計簿[金額],家計簿[年],月比較[[#This Row],[年]],家計簿[月],月比較[[#This Row],[月]],家計簿[勘定科目],月比較[[#Headers],[税金（固定資産、自動車）]])","v":0},{"$f":"SUMIFS(家計簿[金額],家計簿[年],月比較[[#This Row],[年]],家計簿[月],月比較[[#This Row],[月]],家計簿[勘定科目],月比較[[#Headers],[食費]])","v":0},{"$f":"SUMIFS(家計簿[金額],家計簿[年],月比較[[#This Row],[年]],家計簿[月],月比較[[#This Row],[月]],家計簿[勘定科目],月比較[[#Headers],[日用品]])","v":0},{"$f":"SUMIFS(家計簿[金額],家計簿[年],月比較[[#This Row],[年]],家計簿[月],月比較[[#This Row],[月]],家計簿[勘定科目],月比較[[#Headers],[衣服]])","v":0},{"$f":"SUMIFS(家計簿[金額],家計簿[年],月比較[[#This Row],[年]],家計簿[月],月比較[[#This Row],[月]],家計簿[勘定科目],月比較[[#Headers],[教育費]])","v":0},{"$f":"SUMIFS(家計簿[金額],家計簿[年],月比較[[#This Row],[年]],家計簿[月],月比較[[#This Row],[月]],家計簿[勘定科目],月比較[[#Headers],[外食費]])","v":0},{"$f":"SUMIFS(家計簿[金額],家計簿[年],月比較[[#This Row],[年]],家計簿[月],月比較[[#This Row],[月]],家計簿[勘定科目],月比較[[#Headers],[移動費]])","v":0},{"$f":"SUMIFS(家計簿[金額],家計簿[年],月比較[[#This Row],[年]],家計簿[月],月比較[[#This Row],[月]],家計簿[勘定科目],月比較[[#Headers],[旅費]])","v":0},{"$f":"SUMIFS(家計簿[金額],家計簿[年],月比較[[#This Row],[年]],家計簿[月],月比較[[#This Row],[月]],家計簿[勘定科目],月比較[[#Headers],[娯楽費]])","v":0},{"$f":"SUMIFS(家計簿[金額],家計簿[年],月比較[[#This Row],[年]],家計簿[月],月比較[[#This Row],[月]],家計簿[勘定科目],月比較[[#Headers],[医療費]])","v":0},{"$f":"SUMIFS(家計簿[金額],家計簿[年],月比較[[#This Row],[年]],家計簿[月],月比較[[#This Row],[月]],家計簿[勘定科目],月比較[[#Headers],[特別出費]])","v":0}]
[null,null,{"$f":"IF(月比較[[#This Row],[月]]=1,C13+1,C13)","v":2023},9,{"$f":"DATE(月比較[[#This Row],[年]],月比較[[#This Row],[月]],1)","v":"2023-09-01"},{"$f":"SUMIFS(家計簿[金額],家計簿[年],月比較[[#This Row],[年]],家計簿[月],月比較[[#This Row],[月]],家計簿[収入/支出],月比較[[#Headers],[収入]])","v":0},{"$f":"SUMIFS(家計簿[金額],家計簿[年],月比較[[#This Row],[年]],家計簿[月],月比較[[#This Row],[月]],家計簿[収入/支出],月比較[[#Headers],[支出]])","v":0},{"$f":"SUMIFS(家計簿[金額],家計簿[年],月比較[[#This Row],[年]],家計簿[月],月比較[[#This Row],[月]],家計簿[固定費/変動費],月比較[[#Headers],[固定費]])","v":0},{"$f":"SUMIFS(家計簿[金額],家計簿[年],月比較[[#This Row],[年]],家計簿[月],月比較[[#This Row],[月]],家計簿[固定費/変動費],月比較[[#Headers],[変動費]])","v":0},{"$f":"SUMIFS(家計簿[金額],家計簿[年],月比較[[#This Row],[年]],家計簿[月],月比較[[#This Row],[月]],家計簿[勘定科目],月比較[[#Headers],[給料]])","v":0},{"$f":"SUMIFS(家計簿[金額],家計簿[年],月比較[[#This Row],[年]],家計簿[月],月比較[[#This Row],[月]],家計簿[勘定科目],月比較[[#Headers],[ボーナス]])","v":0},{"$f":"SUMIFS(家計簿[金額],家計簿[年],月比較[[#This Row],[年]],家計簿[月],月比較[[#This Row],[月]],家計簿[勘定科目],月比較[[#Headers],[家賃補助]])","v":0},{"$f":"SUMIFS(家計簿[金額],家計簿[年],月比較[[#This Row],[年]],家計簿[月],月比較[[#This Row],[月]],家計簿[勘定科目],月比較[[#Headers],[児童手当]])","v":0},{"$f":"SUMIFS(家計簿[金額],家計簿[年],月比較[[#This Row],[年]],家計簿[月],月比較[[#This Row],[月]],家計簿[勘定科目],月比較[[#Headers],[配当金]])","v":0},{"$f":"SUMIFS(家計簿[金額],家計簿[年],月比較[[#This Row],[年]],家計簿[月],月比較[[#This Row],[月]],家計簿[勘定科目],月比較[[#Headers],[特別収入]])","v":0},{"$f":"SUMIFS(家計簿[金額],家計簿[年],月比較[[#This Row],[年]],家計簿[月],月比較[[#This Row],[月]],家計簿[勘定科目],月比較[[#Headers],[家賃]])","v":0},{"$f":"SUMIFS(家計簿[金額],家計簿[年],月比較[[#This Row],[年]],家計簿[月],月比較[[#This Row],[月]],家計簿[勘定科目],月比較[[#Headers],[電気代]])","v":0},{"$f":"SUMIFS(家計簿[金額],家計簿[年],月比較[[#This Row],[年]],家計簿[月],月比較[[#This Row],[月]],家計簿[勘定科目],月比較[[#Headers],[ガス代]])","v":0},{"$f":"SUMIFS(家計簿[金額],家計簿[年],月比較[[#This Row],[年]],家計簿[月],月比較[[#This Row],[月]],家計簿[勘定科目],月比較[[#Headers],[水道代]])","v":0},{"$f":"SUMIFS(家計簿[金額],家計簿[年],月比較[[#This Row],[年]],家計簿[月],月比較[[#This Row],[月]],家計簿[勘定科目],月比較[[#Headers],[通信費]])","v":0},{"$f":"SUMIFS(家計簿[金額],家計簿[年],月比較[[#This Row],[年]],家計簿[月],月比較[[#This Row],[月]],家計簿[勘定科目],月比較[[#Headers],[保険代]])","v":0},{"$f":"SUMIFS(家計簿[金額],家計簿[年],月比較[[#This Row],[年]],家計簿[月],月比較[[#This Row],[月]],家計簿[勘定科目],月比較[[#Headers],[サブスク]])","v":0},{"$f":"SUMIFS(家計簿[金額],家計簿[年],月比較[[#This Row],[年]],家計簿[月],月比較[[#This Row],[月]],家計簿[勘定科目],月比較[[#Headers],[税金（固定資産、自動車）]])","v":0},{"$f":"SUMIFS(家計簿[金額],家計簿[年],月比較[[#This Row],[年]],家計簿[月],月比較[[#This Row],[月]],家計簿[勘定科目],月比較[[#Headers],[食費]])","v":0},{"$f":"SUMIFS(家計簿[金額],家計簿[年],月比較[[#This Row],[年]],家計簿[月],月比較[[#This Row],[月]],家計簿[勘定科目],月比較[[#Headers],[日用品]])","v":0},{"$f":"SUMIFS(家計簿[金額],家計簿[年],月比較[[#This Row],[年]],家計簿[月],月比較[[#This Row],[月]],家計簿[勘定科目],月比較[[#Headers],[衣服]])","v":0},{"$f":"SUMIFS(家計簿[金額],家計簿[年],月比較[[#This Row],[年]],家計簿[月],月比較[[#This Row],[月]],家計簿[勘定科目],月比較[[#Headers],[教育費]])","v":0},{"$f":"SUMIFS(家計簿[金額],家計簿[年],月比較[[#This Row],[年]],家計簿[月],月比較[[#This Row],[月]],家計簿[勘定科目],月比較[[#Headers],[外食費]])","v":0},{"$f":"SUMIFS(家計簿[金額],家計簿[年],月比較[[#This Row],[年]],家計簿[月],月比較[[#This Row],[月]],家計簿[勘定科目],月比較[[#Headers],[移動費]])","v":0},{"$f":"SUMIFS(家計簿[金額],家計簿[年],月比較[[#This Row],[年]],家計簿[月],月比較[[#This Row],[月]],家計簿[勘定科目],月比較[[#Headers],[旅費]])","v":0},{"$f":"SUMIFS(家計簿[金額],家計簿[年],月比較[[#This Row],[年]],家計簿[月],月比較[[#This Row],[月]],家計簿[勘定科目],月比較[[#Headers],[娯楽費]])","v":0},{"$f":"SUMIFS(家計簿[金額],家計簿[年],月比較[[#This Row],[年]],家計簿[月],月比較[[#This Row],[月]],家計簿[勘定科目],月比較[[#Headers],[医療費]])","v":0},{"$f":"SUMIFS(家計簿[金額],家計簿[年],月比較[[#This Row],[年]],家計簿[月],月比較[[#This Row],[月]],家計簿[勘定科目],月比較[[#Headers],[特別出費]])","v":0}]
[null,null,{"$f":"IF(月比較[[#This Row],[月]]=1,C14+1,C14)","v":2023},10,{"$f":"DATE(月比較[[#This Row],[年]],月比較[[#This Row],[月]],1)","v":"2023-10-01"},{"$f":"SUMIFS(家計簿[金額],家計簿[年],月比較[[#This Row],[年]],家計簿[月],月比較[[#This Row],[月]],家計簿[収入/支出],月比較[[#Headers],[収入]])","v":0},{"$f":"SUMIFS(家計簿[金額],家計簿[年],月比較[[#This Row],[年]],家計簿[月],月比較[[#This Row],[月]],家計簿[収入/支出],月比較[[#Headers],[支出]])","v":0},{"$f":"SUMIFS(家計簿[金額],家計簿[年],月比較[[#This Row],[年]],家計簿[月],月比較[[#This Row],[月]],家計簿[固定費/変動費],月比較[[#Headers],[固定費]])","v":0},{"$f":"SUMIFS(家計簿[金額],家計簿[年],月比較[[#This Row],[年]],家計簿[月],月比較[[#This Row],[月]],家計簿[固定費/変動費],月比較[[#Headers],[変動費]])","v":0},{"$f":"SUMIFS(家計簿[金額],家計簿[年],月比較[[#This Row],[年]],家計簿[月],月比較[[#This Row],[月]],家計簿[勘定科目],月比較[[#Headers],[給料]])","v":0},{"$f":"SUMIFS(家計簿[金額],家計簿[年],月比較[[#This Row],[年]],家計簿[月],月比較[[#This Row],[月]],家計簿[勘定科目],月比較[[#Headers],[ボーナス]])","v":0},{"$f":"SUMIFS(家計簿[金額],家計簿[年],月比較[[#This Row],[年]],家計簿[月],月比較[[#This Row],[月]],家計簿[勘定科目],月比較[[#Headers],[家賃補助]])","v":0},{"$f":"SUMIFS(家計簿[金額],家計簿[年],月比較[[#This Row],[年]],家計簿[月],月比較[[#This Row],[月]],家計簿[勘定科目],月比較[[#Headers],[児童手当]])","v":0},{"$f":"SUMIFS(家計簿[金額],家計簿[年],月比較[[#This Row],[年]],家計簿[月],月比較[[#This Row],[月]],家計簿[勘定科目],月比較[[#Headers],[配当金]])","v":0},{"$f":"SUMIFS(家計簿[金額],家計簿[年],月比較[[#This Row],[年]],家計簿[月],月比較[[#This Row],[月]],家計簿[勘定科目],月比較[[#Headers],[特別収入]])","v":0},{"$f":"SUMIFS(家計簿[金額],家計簿[年],月比較[[#This Row],[年]],家計簿[月],月比較[[#This Row],[月]],家計簿[勘定科目],月比較[[#Headers],[家賃]])","v":0},{"$f":"SUMIFS(家計簿[金額],家計簿[年],月比較[[#This Row],[年]],家計簿[月],月比較[[#This Row],[月]],家計簿[勘定科目],月比較[[#Headers],[電気代]])","v":0},{"$f":"SUMIFS(家計簿[金額],家計簿[年],月比較[[#This Row],[年]],家計簿[月],月比較[[#This Row],[月]],家計簿[勘定科目],月比較[[#Headers],[ガス代]])","v":0},{"$f":"SUMIFS(家計簿[金額],家計簿[年],月比較[[#This Row],[年]],家計簿[月],月比較[[#This Row],[月]],家計簿[勘定科目],月比較[[#Headers],[水道代]])","v":0},{"$f":"SUMIFS(家計簿[金額],家計簿[年],月比較[[#This Row],[年]],家計簿[月],月比較[[#This Row],[月]],家計簿[勘定科目],月比較[[#Headers],[通信費]])","v":0},{"$f":"SUMIFS(家計簿[金額],家計簿[年],月比較[[#This Row],[年]],家計簿[月],月比較[[#This Row],[月]],家計簿[勘定科目],月比較[[#Headers],[保険代]])","v":0},{"$f":"SUMIFS(家計簿[金額],家計簿[年],月比較[[#This Row],[年]],家計簿[月],月比較[[#This Row],[月]],家計簿[勘定科目],月比較[[#Headers],[サブスク]])","v":0},{"$f":"SUMIFS(家計簿[金額],家計簿[年],月比較[[#This Row],[年]],家計簿[月],月比較[[#This Row],[月]],家計簿[勘定科目],月比較[[#Headers],[税金（固定資産、自動車）]])","v":0},{"$f":"SUMIFS(家計簿[金額],家計簿[年],月比較[[#This Row],[年]],家計簿[月],月比較[[#This Row],[月]],家計簿[勘定科目],月比較[[#Headers],[食費]])","v":0},{"$f":"SUMIFS(家計簿[金額],家計簿[年],月比較[[#This Row],[年]],家計簿[月],月比較[[#This Row],[月]],家計簿[勘定科目],月比較[[#Headers],[日用品]])","v":0},{"$f":"SUMIFS(家計簿[金額],家計簿[年],月比較[[#This Row],[年]],家計簿[月],月比較[[#This Row],[月]],家計簿[勘定科目],月比較[[#Headers],[衣服]])","v":0},{"$f":"SUMIFS(家計簿[金額],家計簿[年],月比較[[#This Row],[年]],家計簿[月],月比較[[#This Row],[月]],家計簿[勘定科目],月比較[[#Headers],[教育費]])","v":0},{"$f":"SUMIFS(家計簿[金額],家計簿[年],月比較[[#This Row],[年]],家計簿[月],月比較[[#This Row],[月]],家計簿[勘定科目],月比較[[#Headers],[外食費]])","v":0},{"$f":"SUMIFS(家計簿[金額],家計簿[年],月比較[[#This Row],[年]],家計簿[月],月比較[[#This Row],[月]],家計簿[勘定科目],月比較[[#Headers],[移動費]])","v":0},{"$f":"SUMIFS(家計簿[金額],家計簿[年],月比較[[#This Row],[年]],家計簿[月],月比較[[#This Row],[月]],家計簿[勘定科目],月比較[[#Headers],[旅費]])","v":0},{"$f":"SUMIFS(家計簿[金額],家計簿[年],月比較[[#This Row],[年]],家計簿[月],月比較[[#This Row],[月]],家計簿[勘定科目],月比較[[#Headers],[娯楽費]])","v":0},{"$f":"SUMIFS(家計簿[金額],家計簿[年],月比較[[#This Row],[年]],家計簿[月],月比較[[#This Row],[月]],家計簿[勘定科目],月比較[[#Headers],[医療費]])","v":0},{"$f":"SUMIFS(家計簿[金額],家計簿[年],月比較[[#This Row],[年]],家計簿[月],月比較[[#This Row],[月]],家計簿[勘定科目],月比較[[#Headers],[特別出費]])","v":0}]
[null,null,{"$f":"IF(月比較[[#This Row],[月]]=1,C15+1,C15)","v":2023},11,{"$f":"DATE(月比較[[#This Row],[年]],月比較[[#This Row],[月]],1)","v":"2023-11-01"},{"$f":"SUMIFS(家計簿[金額],家計簿[年],月比較[[#This Row],[年]],家計簿[月],月比較[[#This Row],[月]],家計簿[収入/支出],月比較[[#Headers],[収入]])","v":0},{"$f":"SUMIFS(家計簿[金額],家計簿[年],月比較[[#This Row],[年]],家計簿[月],月比較[[#This Row],[月]],家計簿[収入/支出],月比較[[#Headers],[支出]])","v":0},{"$f":"SUMIFS(家計簿[金額],家計簿[年],月比較[[#This Row],[年]],家計簿[月],月比較[[#This Row],[月]],家計簿[固定費/変動費],月比較[[#Headers],[固定費]])","v":0},{"$f":"SUMIFS(家計簿[金額],家計簿[年],月比較[[#This Row],[年]],家計簿[月],月比較[[#This Row],[月]],家計簿[固定費/変動費],月比較[[#Headers],[変動費]])","v":0},{"$f":"SUMIFS(家計簿[金額],家計簿[年],月比較[[#This Row],[年]],家計簿[月],月比較[[#This Row],[月]],家計簿[勘定科目],月比較[[#Headers],[給料]])","v":0},{"$f":"SUMIFS(家計簿[金額],家計簿[年],月比較[[#This Row],[年]],家計簿[月],月比較[[#This Row],[月]],家計簿[勘定科目],月比較[[#Headers],[ボーナス]])","v":0},{"$f":"SUMIFS(家計簿[金額],家計簿[年],月比較[[#This Row],[年]],家計簿[月],月比較[[#This Row],[月]],家計簿[勘定科目],月比較[[#Headers],[家賃補助]])","v":0},{"$f":"SUMIFS(家計簿[金額],家計簿[年],月比較[[#This Row],[年]],家計簿[月],月比較[[#This Row],[月]],家計簿[勘定科目],月比較[[#Headers],[児童手当]])","v":0},{"$f":"SUMIFS(家計簿[金額],家計簿[年],月比較[[#This Row],[年]],家計簿[月],月比較[[#This Row],[月]],家計簿[勘定科目],月比較[[#Headers],[配当金]])","v":0},{"$f":"SUMIFS(家計簿[金額],家計簿[年],月比較[[#This Row],[年]],家計簿[月],月比較[[#This Row],[月]],家計簿[勘定科目],月比較[[#Headers],[特別収入]])","v":0},{"$f":"SUMIFS(家計簿[金額],家計簿[年],月比較[[#This Row],[年]],家計簿[月],月比較[[#This Row],[月]],家計簿[勘定科目],月比較[[#Headers],[家賃]])","v":0},{"$f":"SUMIFS(家計簿[金額],家計簿[年],月比較[[#This Row],[年]],家計簿[月],月比較[[#This Row],[月]],家計簿[勘定科目],月比較[[#Headers],[電気代]])","v":0},{"$f":"SUMIFS(家計簿[金額],家計簿[年],月比較[[#This Row],[年]],家計簿[月],月比較[[#This Row],[月]],家計簿[勘定科目],月比較[[#Headers],[ガス代]])","v":0},{"$f":"SUMIFS(家計簿[金額],家計簿[年],月比較[[#This Row],[年]],家計簿[月],月比較[[#This Row],[月]],家計簿[勘定科目],月比較[[#Headers],[水道代]])","v":0},{"$f":"SUMIFS(家計簿[金額],家計簿[年],月比較[[#This Row],[年]],家計簿[月],月比較[[#This Row],[月]],家計簿[勘定科目],月比較[[#Headers],[通信費]])","v":0},{"$f":"SUMIFS(家計簿[金額],家計簿[年],月比較[[#This Row],[年]],家計簿[月],月比較[[#This Row],[月]],家計簿[勘定科目],月比較[[#Headers],[保険代]])","v":0},{"$f":"SUMIFS(家計簿[金額],家計簿[年],月比較[[#This Row],[年]],家計簿[月],月比較[[#This Row],[月]],家計簿[勘定科目],月比較[[#Headers],[サブスク]])","v":0},{"$f":"SUMIFS(家計簿[金額],家計簿[年],月比較[[#This Row],[年]],家計簿[月],月比較[[#This Row],[月]],家計簿[勘定科目],月比較[[#Headers],[税金（固定資産、自動車）]])","v":0},{"$f":"SUMIFS(家計簿[金額],家計簿[年],月比較[[#This Row],[年]],家計簿[月],月比較[[#This Row],[月]],家計簿[勘定科目],月比較[[#Headers],[食費]])","v":0},{"$f":"SUMIFS(家計簿[金額],家計簿[年],月比較[[#This Row],[年]],家計簿[月],月比較[[#This Row],[月]],家計簿[勘定科目],月比較[[#Headers],[日用品]])","v":0},{"$f":"SUMIFS(家計簿[金額],家計簿[年],月比較[[#This Row],[年]],家計簿[月],月比較[[#This Row],[月]],家計簿[勘定科目],月比較[[#Headers],[衣服]])","v":0},{"$f":"SUMIFS(家計簿[金額],家計簿[年],月比較[[#This Row],[年]],家計簿[月],月比較[[#This Row],[月]],家計簿[勘定科目],月比較[[#Headers],[教育費]])","v":0},{"$f":"SUMIFS(家計簿[金額],家計簿[年],月比較[[#This Row],[年]],家計簿[月],月比較[[#This Row],[月]],家計簿[勘定科目],月比較[[#Headers],[外食費]])","v":0},{"$f":"SUMIFS(家計簿[金額],家計簿[年],月比較[[#This Row],[年]],家計簿[月],月比較[[#This Row],[月]],家計簿[勘定科目],月比較[[#Headers],[移動費]])","v":0},{"$f":"SUMIFS(家計簿[金額],家計簿[年],月比較[[#This Row],[年]],家計簿[月],月比較[[#This Row],[月]],家計簿[勘定科目],月比較[[#Headers],[旅費]])","v":0},{"$f":"SUMIFS(家計簿[金額],家計簿[年],月比較[[#This Row],[年]],家計簿[月],月比較[[#This Row],[月]],家計簿[勘定科目],月比較[[#Headers],[娯楽費]])","v":0},{"$f":"SUMIFS(家計簿[金額],家計簿[年],月比較[[#This Row],[年]],家計簿[月],月比較[[#This Row],[月]],家計簿[勘定科目],月比較[[#Headers],[医療費]])","v":0},{"$f":"SUMIFS(家計簿[金額],家計簿[年],月比較[[#This Row],[年]],家計簿[月],月比較[[#This Row],[月]],家計簿[勘定科目],月比較[[#Headers],[特別出費]])","v":0}]
[null,null,{"$f":"IF(月比較[[#This Row],[月]]=1,C16+1,C16)","v":2023},12,{"$f":"DATE(月比較[[#This Row],[年]],月比較[[#This Row],[月]],1)","v":"2023-12-01"},{"$f":"SUMIFS(家計簿[金額],家計簿[年],月比較[[#This Row],[年]],家計簿[月],月比較[[#This Row],[月]],家計簿[収入/支出],月比較[[#Headers],[収入]])","v":0},{"$f":"SUMIFS(家計簿[金額],家計簿[年],月比較[[#This Row],[年]],家計簿[月],月比較[[#This Row],[月]],家計簿[収入/支出],月比較[[#Headers],[支出]])","v":0},{"$f":"SUMIFS(家計簿[金額],家計簿[年],月比較[[#This Row],[年]],家計簿[月],月比較[[#This Row],[月]],家計簿[固定費/変動費],月比較[[#Headers],[固定費]])","v":0},{"$f":"SUMIFS(家計簿[金額],家計簿[年],月比較[[#This Row],[年]],家計簿[月],月比較[[#This Row],[月]],家計簿[固定費/変動費],月比較[[#Headers],[変動費]])","v":0},{"$f":"SUMIFS(家計簿[金額],家計簿[年],月比較[[#This Row],[年]],家計簿[月],月比較[[#This Row],[月]],家計簿[勘定科目],月比較[[#Headers],[給料]])","v":0},{"$f":"SUMIFS(家計簿[金額],家計簿[年],月比較[[#This Row],[年]],家計簿[月],月比較[[#This Row],[月]],家計簿[勘定科目],月比較[[#Headers],[ボーナス]])","v":0},{"$f":"SUMIFS(家計簿[金額],家計簿[年],月比較[[#This Row],[年]],家計簿[月],月比較[[#This Row],[月]],家計簿[勘定科目],月比較[[#Headers],[家賃補助]])","v":0},{"$f":"SUMIFS(家計簿[金額],家計簿[年],月比較[[#This Row],[年]],家計簿[月],月比較[[#This Row],[月]],家計簿[勘定科目],月比較[[#Headers],[児童手当]])","v":0},{"$f":"SUMIFS(家計簿[金額],家計簿[年],月比較[[#This Row],[年]],家計簿[月],月比較[[#This Row],[月]],家計簿[勘定科目],月比較[[#Headers],[配当金]])","v":0},{"$f":"SUMIFS(家計簿[金額],家計簿[年],月比較[[#This Row],[年]],家計簿[月],月比較[[#This Row],[月]],家計簿[勘定科目],月比較[[#Headers],[特別収入]])","v":0},{"$f":"SUMIFS(家計簿[金額],家計簿[年],月比較[[#This Row],[年]],家計簿[月],月比較[[#This Row],[月]],家計簿[勘定科目],月比較[[#Headers],[家賃]])","v":0},{"$f":"SUMIFS(家計簿[金額],家計簿[年],月比較[[#This Row],[年]],家計簿[月],月比較[[#This Row],[月]],家計簿[勘定科目],月比較[[#Headers],[電気代]])","v":0},{"$f":"SUMIFS(家計簿[金額],家計簿[年],月比較[[#This Row],[年]],家計簿[月],月比較[[#This Row],[月]],家計簿[勘定科目],月比較[[#Headers],[ガス代]])","v":0},{"$f":"SUMIFS(家計簿[金額],家計簿[年],月比較[[#This Row],[年]],家計簿[月],月比較[[#This Row],[月]],家計簿[勘定科目],月比較[[#Headers],[水道代]])","v":0},{"$f":"SUMIFS(家計簿[金額],家計簿[年],月比較[[#This Row],[年]],家計簿[月],月比較[[#This Row],[月]],家計簿[勘定科目],月比較[[#Headers],[通信費]])","v":0},{"$f":"SUMIFS(家計簿[金額],家計簿[年],月比較[[#This Row],[年]],家計簿[月],月比較[[#This Row],[月]],家計簿[勘定科目],月比較[[#Headers],[保険代]])","v":0},{"$f":"SUMIFS(家計簿[金額],家計簿[年],月比較[[#This Row],[年]],家計簿[月],月比較[[#This Row],[月]],家計簿[勘定科目],月比較[[#Headers],[サブスク]])","v":0},{"$f":"SUMIFS(家計簿[金額],家計簿[年],月比較[[#This Row],[年]],家計簿[月],月比較[[#This Row],[月]],家計簿[勘定科目],月比較[[#Headers],[税金（固定資産、自動車）]])","v":0},{"$f":"SUMIFS(家計簿[金額],家計簿[年],月比較[[#This Row],[年]],家計簿[月],月比較[[#This Row],[月]],家計簿[勘定科目],月比較[[#Headers],[食費]])","v":0},{"$f":"SUMIFS(家計簿[金額],家計簿[年],月比較[[#This Row],[年]],家計簿[月],月比較[[#This Row],[月]],家計簿[勘定科目],月比較[[#Headers],[日用品]])","v":0},{"$f":"SUMIFS(家計簿[金額],家計簿[年],月比較[[#This Row],[年]],家計簿[月],月比較[[#This Row],[月]],家計簿[勘定科目],月比較[[#Headers],[衣服]])","v":0},{"$f":"SUMIFS(家計簿[金額],家計簿[年],月比較[[#This Row],[年]],家計簿[月],月比較[[#This Row],[月]],家計簿[勘定科目],月比較[[#Headers],[教育費]])","v":0},{"$f":"SUMIFS(家計簿[金額],家計簿[年],月比較[[#This Row],[年]],家計簿[月],月比較[[#This Row],[月]],家計簿[勘定科目],月比較[[#Headers],[外食費]])","v":0},{"$f":"SUMIFS(家計簿[金額],家計簿[年],月比較[[#This Row],[年]],家計簿[月],月比較[[#This Row],[月]],家計簿[勘定科目],月比較[[#Headers],[移動費]])","v":0},{"$f":"SUMIFS(家計簿[金額],家計簿[年],月比較[[#This Row],[年]],家計簿[月],月比較[[#This Row],[月]],家計簿[勘定科目],月比較[[#Headers],[旅費]])","v":0},{"$f":"SUMIFS(家計簿[金額],家計簿[年],月比較[[#This Row],[年]],家計簿[月],月比較[[#This Row],[月]],家計簿[勘定科目],月比較[[#Headers],[娯楽費]])","v":0},{"$f":"SUMIFS(家計簿[金額],家計簿[年],月比較[[#This Row],[年]],家計簿[月],月比較[[#This Row],[月]],家計簿[勘定科目],月比較[[#Headers],[医療費]])","v":0},{"$f":"SUMIFS(家計簿[金額],家計簿[年],月比較[[#This Row],[年]],家計簿[月],月比較[[#This Row],[月]],家計簿[勘定科目],月比較[[#Headers],[特別出費]])","v":0}]
[null,null,{"$f":"IF(月比較[[#This Row],[月]]=1,C17+1,C17)","v":2024},1,{"$f":"DATE(月比較[[#This Row],[年]],月比較[[#This Row],[月]],1)","v":"2024-01-01"},{"$f":"SUMIFS(家計簿[金額],家計簿[年],月比較[[#This Row],[年]],家計簿[月],月比較[[#This Row],[月]],家計簿[収入/支出],月比較[[#Headers],[収入]])","v":5000},{"$f":"SUMIFS(家計簿[金額],家計簿[年],月比較[[#This Row],[年]],家計簿[月],月比較[[#This Row],[月]],家計簿[収入/支出],月比較[[#Headers],[支出]])","v":15000},{"$f":"SUMIFS(家計簿[金額],家計簿[年],月比較[[#This Row],[年]],家計簿[月],月比較[[#This Row],[月]],家計簿[固定費/変動費],月比較[[#Headers],[固定費]])","v":5000},{"$f":"SUMIFS(家計簿[金額],家計簿[年],月比較[[#This Row],[年]],家計簿[月],月比較[[#This Row],[月]],家計簿[固定費/変動費],月比較[[#Headers],[変動費]])","v":10000},{"$f":"SUMIFS(家計簿[金額],家計簿[年],月比較[[#This Row],[年]],家計簿[月],月比較[[#This Row],[月]],家計簿[勘定科目],月比較[[#Headers],[給料]])","v":0},{"$f":"SUMIFS(家計簿[金額],家計簿[年],月比較[[#This Row],[年]],家計簿[月],月比較[[#This Row],[月]],家計簿[勘定科目],月比較[[#Headers],[ボーナス]])","v":0},{"$f":"SUMIFS(家計簿[金額],家計簿[年],月比較[[#This Row],[年]],家計簿[月],月比較[[#This Row],[月]],家計簿[勘定科目],月比較[[#Headers],[家賃補助]])","v":0},{"$f":"SUMIFS(家計簿[金額],家計簿[年],月比較[[#This Row],[年]],家計簿[月],月比較[[#This Row],[月]],家計簿[勘定科目],月比較[[#Headers],[児童手当]])","v":5000},{"$f":"SUMIFS(家計簿[金額],家計簿[年],月比較[[#This Row],[年]],家計簿[月],月比較[[#This Row],[月]],家計簿[勘定科目],月比較[[#Headers],[配当金]])","v":0},{"$f":"SUMIFS(家計簿[金額],家計簿[年],月比較[[#This Row],[年]],家計簿[月],月比較[[#This Row],[月]],家計簿[勘定科目],月比較[[#Headers],[特別収入]])","v":0},{"$f":"SUMIFS(家計簿[金額],家計簿[年],月比較[[#This Row],[年]],家計簿[月],月比較[[#This Row],[月]],家計簿[勘定科目],月比較[[#Headers],[家賃]])","v":0},{"$f":"SUMIFS(家計簿[金額],家計簿[年],月比較[[#This Row],[年]],家計簿[月],月比較[[#This Row],[月]],家計簿[勘定科目],月比較[[#Headers],[電気代]])","v":0},{"$f":"SUMIFS(家計簿[金額],家計簿[年],月比較[[#This Row],[年]],家計簿[月],月比較[[#This Row],[月]],家計簿[勘定科目],月比較[[#Headers],[ガス代]])","v":0},{"$f":"SUMIFS(家計簿[金額],家計簿[年],月比較[[#This Row],[年]],家計簿[月],月比較[[#This Row],[月]],家計簿[勘定科目],月比較[[#Headers],[水道代]])","v":0},{"$f":"SUMIFS(家計簿[金額],家計簿[年],月比較[[#This Row],[年]],家計簿[月],月比較[[#This Row],[月]],家計簿[勘定科目],月比較[[#Headers],[通信費]])","v":5000},{"$f":"SUMIFS(家計簿[金額],家計簿[年],月比較[[#This Row],[年]],家計簿[月],月比較[[#This Row],[月]],家計簿[勘定科目],月比較[[#Headers],[保険代]])","v":0},{"$f":"SUMIFS(家計簿[金額],家計簿[年],月比較[[#This Row],[年]],家計簿[月],月比較[[#This Row],[月]],家計簿[勘定科目],月比較[[#Headers],[サブスク]])","v":0},{"$f":"SUMIFS(家計簿[金額],家計簿[年],月比較[[#This Row],[年]],家計簿[月],月比較[[#This Row],[月]],家計簿[勘定科目],月比較[[#Headers],[税金（固定資産、自動車）]])","v":0},{"$f":"SUMIFS(家計簿[金額],家計簿[年],月比較[[#This Row],[年]],家計簿[月],月比較[[#This Row],[月]],家計簿[勘定科目],月比較[[#Headers],[食費]])","v":0},{"$f":"SUMIFS(家計簿[金額],家計簿[年],月比較[[#This Row],[年]],家計簿[月],月比較[[#This Row],[月]],家計簿[勘定科目],月比較[[#Headers],[日用品]])","v":0},{"$f":"SUMIFS(家計簿[金額],家計簿[年],月比較[[#This Row],[年]],家計簿[月],月比較[[#This Row],[月]],家計簿[勘定科目],月比較[[#Headers],[衣服]])","v":0},{"$f":"SUMIFS(家計簿[金額],家計簿[年],月比較[[#This Row],[年]],家計簿[月],月比較[[#This Row],[月]],家計簿[勘定科目],月比較[[#Headers],[教育費]])","v":0},{"$f":"SUMIFS(家計簿[金額],家計簿[年],月比較[[#This Row],[年]],家計簿[月],月比較[[#This Row],[月]],家計簿[勘定科目],月比較[[#Headers],[外食費]])","v":0},{"$f":"SUMIFS(家計簿[金額],家計簿[年],月比較[[#This Row],[年]],家計簿[月],月比較[[#This Row],[月]],家計簿[勘定科目],月比較[[#Headers],[移動費]])","v":10000},{"$f":"SUMIFS(家計簿[金額],家計簿[年],月比較[[#This Row],[年]],家計簿[月],月比較[[#This Row],[月]],家計簿[勘定科目],月比較[[#Headers],[旅費]])","v":0},{"$f":"SUMIFS(家計簿[金額],家計簿[年],月比較[[#This Row],[年]],家計簿[月],月比較[[#This Row],[月]],家計簿[勘定科目],月比較[[#Headers],[娯楽費]])","v":0},{"$f":"SUMIFS(家計簿[金額],家計簿[年],月比較[[#This Row],[年]],家計簿[月],月比較[[#This Row],[月]],家計簿[勘定科目],月比較[[#Headers],[医療費]])","v":0},{"$f":"SUMIFS(家計簿[金額],家計簿[年],月比較[[#This Row],[年]],家計簿[月],月比較[[#This Row],[月]],家計簿[勘定科目],月比較[[#Headers],[特別出費]])","v":0}]
[null,null,{"$f":"IF(月比較[[#This Row],[月]]=1,C18+1,C18)","v":2024},2,{"$f":"DATE(月比較[[#This Row],[年]],月比較[[#This Row],[月]],1)","v":"2024-02-01"},{"$f":"SUMIFS(家計簿[金額],家計簿[年],月比較[[#This Row],[年]],家計簿[月],月比較[[#This Row],[月]],家計簿[収入/支出],月比較[[#Headers],[収入]])","v":0},{"$f":"SUMIFS(家計簿[金額],家計簿[年],月比較[[#This Row],[年]],家計簿[月],月比較[[#This Row],[月]],家計簿[収入/支出],月比較[[#Headers],[支出]])","v":0},{"$f":"SUMIFS(家計簿[金額],家計簿[年],月比較[[#This Row],[年]],家計簿[月],月比較[[#This Row],[月]],家計簿[固定費/変動費],月比較[[#Headers],[固定費]])","v":0},{"$f":"SUMIFS(家計簿[金額],家計簿[年],月比較[[#This Row],[年]],家計簿[月],月比較[[#This Row],[月]],家計簿[固定費/変動費],月比較[[#Headers],[変動費]])","v":0},{"$f":"SUMIFS(家計簿[金額],家計簿[年],月比較[[#This Row],[年]],家計簿[月],月比較[[#This Row],[月]],家計簿[勘定科目],月比較[[#Headers],[給料]])","v":0},{"$f":"SUMIFS(家計簿[金額],家計簿[年],月比較[[#This Row],[年]],家計簿[月],月比較[[#This Row],[月]],家計簿[勘定科目],月比較[[#Headers],[ボーナス]])","v":0},{"$f":"SUMIFS(家計簿[金額],家計簿[年],月比較[[#This Row],[年]],家計簿[月],月比較[[#This Row],[月]],家計簿[勘定科目],月比較[[#Headers],[家賃補助]])","v":0},{"$f":"SUMIFS(家計簿[金額],家計簿[年],月比較[[#This Row],[年]],家計簿[月],月比較[[#This Row],[月]],家計簿[勘定科目],月比較[[#Headers],[児童手当]])","v":0},{"$f":"SUMIFS(家計簿[金額],家計簿[年],月比較[[#This Row],[年]],家計簿[月],月比較[[#This Row],[月]],家計簿[勘定科目],月比較[[#Headers],[配当金]])","v":0},{"$f":"SUMIFS(家計簿[金額],家計簿[年],月比較[[#This Row],[年]],家計簿[月],月比較[[#This Row],[月]],家計簿[勘定科目],月比較[[#Headers],[特別収入]])","v":0},{"$f":"SUMIFS(家計簿[金額],家計簿[年],月比較[[#This Row],[年]],家計簿[月],月比較[[#This Row],[月]],家計簿[勘定科目],月比較[[#Headers],[家賃]])","v":0},{"$f":"SUMIFS(家計簿[金額],家計簿[年],月比較[[#This Row],[年]],家計簿[月],月比較[[#This Row],[月]],家計簿[勘定科目],月比較[[#Headers],[電気代]])","v":0},{"$f":"SUMIFS(家計簿[金額],家計簿[年],月比較[[#This Row],[年]],家計簿[月],月比較[[#This Row],[月]],家計簿[勘定科目],月比較[[#Headers],[ガス代]])","v":0},{"$f":"SUMIFS(家計簿[金額],家計簿[年],月比較[[#This Row],[年]],家計簿[月],月比較[[#This Row],[月]],家計簿[勘定科目],月比較[[#Headers],[水道代]])","v":0},{"$f":"SUMIFS(家計簿[金額],家計簿[年],月比較[[#This Row],[年]],家計簿[月],月比較[[#This Row],[月]],家計簿[勘定科目],月比較[[#Headers],[通信費]])","v":0},{"$f":"SUMIFS(家計簿[金額],家計簿[年],月比較[[#This Row],[年]],家計簿[月],月比較[[#This Row],[月]],家計簿[勘定科目],月比較[[#Headers],[保険代]])","v":0},{"$f":"SUMIFS(家計簿[金額],家計簿[年],月比較[[#This Row],[年]],家計簿[月],月比較[[#This Row],[月]],家計簿[勘定科目],月比較[[#Headers],[サブスク]])","v":0},{"$f":"SUMIFS(家計簿[金額],家計簿[年],月比較[[#This Row],[年]],家計簿[月],月比較[[#This Row],[月]],家計簿[勘定科目],月比較[[#Headers],[税金（固定資産、自動車）]])","v":0},{"$f":"SUMIFS(家計簿[金額],家計簿[年],月比較[[#This Row],[年]],家計簿[月],月比較[[#This Row],[月]],家計簿[勘定科目],月比較[[#Headers],[食費]])","v":0},{"$f":"SUMIFS(家計簿[金額],家計簿[年],月比較[[#This Row],[年]],家計簿[月],月比較[[#This Row],[月]],家計簿[勘定科目],月比較[[#Headers],[日用品]])","v":0},{"$f":"SUMIFS(家計簿[金額],家計簿[年],月比較[[#This Row],[年]],家計簿[月],月比較[[#This Row],[月]],家計簿[勘定科目],月比較[[#Headers],[衣服]])","v":0},{"$f":"SUMIFS(家計簿[金額],家計簿[年],月比較[[#This Row],[年]],家計簿[月],月比較[[#This Row],[月]],家計簿[勘定科目],月比較[[#Headers],[教育費]])","v":0},{"$f":"SUMIFS(家計簿[金額],家計簿[年],月比較[[#This Row],[年]],家計簿[月],月比較[[#This Row],[月]],家計簿[勘定科目],月比較[[#Headers],[外食費]])","v":0},{"$f":"SUMIFS(家計簿[金額],家計簿[年],月比較[[#This Row],[年]],家計簿[月],月比較[[#This Row],[月]],家計簿[勘定科目],月比較[[#Headers],[移動費]])","v":0},{"$f":"SUMIFS(家計簿[金額],家計簿[年],月比較[[#This Row],[年]],家計簿[月],月比較[[#This Row],[月]],家計簿[勘定科目],月比較[[#Headers],[旅費]])","v":0},{"$f":"SUMIFS(家計簿[金額],家計簿[年],月比較[[#This Row],[年]],家計簿[月],月比較[[#This Row],[月]],家計簿[勘定科目],月比較[[#Headers],[娯楽費]])","v":0},{"$f":"SUMIFS(家計簿[金額],家計簿[年],月比較[[#This Row],[年]],家計簿[月],月比較[[#This Row],[月]],家計簿[勘定科目],月比較[[#Headers],[医療費]])","v":0},{"$f":"SUMIFS(家計簿[金額],家計簿[年],月比較[[#This Row],[年]],家計簿[月],月比較[[#This Row],[月]],家計簿[勘定科目],月比較[[#Headers],[特別出費]])","v":0}]
[null,null,{"$f":"IF(月比較[[#This Row],[月]]=1,C19+1,C19)","v":2024},3,{"$f":"DATE(月比較[[#This Row],[年]],月比較[[#This Row],[月]],1)","v":"2024-03-01"},{"$f":"SUMIFS(家計簿[金額],家計簿[年],月比較[[#This Row],[年]],家計簿[月],月比較[[#This Row],[月]],家計簿[収入/支出],月比較[[#Headers],[収入]])","v":0},{"$f":"SUMIFS(家計簿[金額],家計簿[年],月比較[[#This Row],[年]],家計簿[月],月比較[[#This Row],[月]],家計簿[収入/支出],月比較[[#Headers],[支出]])","v":0},{"$f":"SUMIFS(家計簿[金額],家計簿[年],月比較[[#This Row],[年]],家計簿[月],月比較[[#This Row],[月]],家計簿[固定費/変動費],月比較[[#Headers],[固定費]])","v":0},{"$f":"SUMIFS(家計簿[金額],家計簿[年],月比較[[#This Row],[年]],家計簿[月],月比較[[#This Row],[月]],家計簿[固定費/変動費],月比較[[#Headers],[変動費]])","v":0},{"$f":"SUMIFS(家計簿[金額],家計簿[年],月比較[[#This Row],[年]],家計簿[月],月比較[[#This Row],[月]],家計簿[勘定科目],月比較[[#Headers],[給料]])","v":0},{"$f":"SUMIFS(家計簿[金額],家計簿[年],月比較[[#This Row],[年]],家計簿[月],月比較[[#This Row],[月]],家計簿[勘定科目],月比較[[#Headers],[ボーナス]])","v":0},{"$f":"SUMIFS(家計簿[金額],家計簿[年],月比較[[#This Row],[年]],家計簿[月],月比較[[#This Row],[月]],家計簿[勘定科目],月比較[[#Headers],[家賃補助]])","v":0},{"$f":"SUMIFS(家計簿[金額],家計簿[年],月比較[[#This Row],[年]],家計簿[月],月比較[[#This Row],[月]],家計簿[勘定科目],月比較[[#Headers],[児童手当]])","v":0},{"$f":"SUMIFS(家計簿[金額],家計簿[年],月比較[[#This Row],[年]],家計簿[月],月比較[[#This Row],[月]],家計簿[勘定科目],月比較[[#Headers],[配当金]])","v":0},{"$f":"SUMIFS(家計簿[金額],家計簿[年],月比較[[#This Row],[年]],家計簿[月],月比較[[#This Row],[月]],家計簿[勘定科目],月比較[[#Headers],[特別収入]])","v":0},{"$f":"SUMIFS(家計簿[金額],家計簿[年],月比較[[#This Row],[年]],家計簿[月],月比較[[#This Row],[月]],家計簿[勘定科目],月比較[[#Headers],[家賃]])","v":0},{"$f":"SUMIFS(家計簿[金額],家計簿[年],月比較[[#This Row],[年]],家計簿[月],月比較[[#This Row],[月]],家計簿[勘定科目],月比較[[#Headers],[電気代]])","v":0},{"$f":"SUMIFS(家計簿[金額],家計簿[年],月比較[[#This Row],[年]],家計簿[月],月比較[[#This Row],[月]],家計簿[勘定科目],月比較[[#Headers],[ガス代]])","v":0},{"$f":"SUMIFS(家計簿[金額],家計簿[年],月比較[[#This Row],[年]],家計簿[月],月比較[[#This Row],[月]],家計簿[勘定科目],月比較[[#Headers],[水道代]])","v":0},{"$f":"SUMIFS(家計簿[金額],家計簿[年],月比較[[#This Row],[年]],家計簿[月],月比較[[#This Row],[月]],家計簿[勘定科目],月比較[[#Headers],[通信費]])","v":0},{"$f":"SUMIFS(家計簿[金額],家計簿[年],月比較[[#This Row],[年]],家計簿[月],月比較[[#This Row],[月]],家計簿[勘定科目],月比較[[#Headers],[保険代]])","v":0},{"$f":"SUMIFS(家計簿[金額],家計簿[年],月比較[[#This Row],[年]],家計簿[月],月比較[[#This Row],[月]],家計簿[勘定科目],月比較[[#Headers],[サブスク]])","v":0},{"$f":"SUMIFS(家計簿[金額],家計簿[年],月比較[[#This Row],[年]],家計簿[月],月比較[[#This Row],[月]],家計簿[勘定科目],月比較[[#Headers],[税金（固定資産、自動車）]])","v":0},{"$f":"SUMIFS(家計簿[金額],家計簿[年],月比較[[#This Row],[年]],家計簿[月],月比較[[#This Row],[月]],家計簿[勘定科目],月比較[[#Headers],[食費]])","v":0},{"$f":"SUMIFS(家計簿[金額],家計簿[年],月比較[[#This Row],[年]],家計簿[月],月比較[[#This Row],[月]],家計簿[勘定科目],月比較[[#Headers],[日用品]])","v":0},{"$f":"SUMIFS(家計簿[金額],家計簿[年],月比較[[#This Row],[年]],家計簿[月],月比較[[#This Row],[月]],家計簿[勘定科目],月比較[[#Headers],[衣服]])","v":0},{"$f":"SUMIFS(家計簿[金額],家計簿[年],月比較[[#This Row],[年]],家計簿[月],月比較[[#This Row],[月]],家計簿[勘定科目],月比較[[#Headers],[教育費]])","v":0},{"$f":"SUMIFS(家計簿[金額],家計簿[年],月比較[[#This Row],[年]],家計簿[月],月比較[[#This Row],[月]],家計簿[勘定科目],月比較[[#Headers],[外食費]])","v":0},{"$f":"SUMIFS(家計簿[金額],家計簿[年],月比較[[#This Row],[年]],家計簿[月],月比較[[#This Row],[月]],家計簿[勘定科目],月比較[[#Headers],[移動費]])","v":0},{"$f":"SUMIFS(家計簿[金額],家計簿[年],月比較[[#This Row],[年]],家計簿[月],月比較[[#This Row],[月]],家計簿[勘定科目],月比較[[#Headers],[旅費]])","v":0},{"$f":"SUMIFS(家計簿[金額],家計簿[年],月比較[[#This Row],[年]],家計簿[月],月比較[[#This Row],[月]],家計簿[勘定科目],月比較[[#Headers],[娯楽費]])","v":0},{"$f":"SUMIFS(家計簿[金額],家計簿[年],月比較[[#This Row],[年]],家計簿[月],月比較[[#This Row],[月]],家計簿[勘定科目],月比較[[#Headers],[医療費]])","v":0},{"$f":"SUMIFS(家計簿[金額],家計簿[年],月比較[[#This Row],[年]],家計簿[月],月比較[[#This Row],[月]],家計簿[勘定科目],月比較[[#Headers],[特別出費]])","v":0}]
[null,null,{"$f":"IF(月比較[[#This Row],[月]]=1,C20+1,C20)","v":2024},4,{"$f":"DATE(月比較[[#This Row],[年]],月比較[[#This Row],[月]],1)","v":"2024-04-01"},{"$f":"SUMIFS(家計簿[金額],家計簿[年],月比較[[#This Row],[年]],家計簿[月],月比較[[#This Row],[月]],家計簿[収入/支出],月比較[[#Headers],[収入]])","v":0},{"$f":"SUMIFS(家計簿[金額],家計簿[年],月比較[[#This Row],[年]],家計簿[月],月比較[[#This Row],[月]],家計簿[収入/支出],月比較[[#Headers],[支出]])","v":0},{"$f":"SUMIFS(家計簿[金額],家計簿[年],月比較[[#This Row],[年]],家計簿[月],月比較[[#This Row],[月]],家計簿[固定費/変動費],月比較[[#Headers],[固定費]])","v":0},{"$f":"SUMIFS(家計簿[金額],家計簿[年],月比較[[#This Row],[年]],家計簿[月],月比較[[#This Row],[月]],家計簿[固定費/変動費],月比較[[#Headers],[変動費]])","v":0},{"$f":"SUMIFS(家計簿[金額],家計簿[年],月比較[[#This Row],[年]],家計簿[月],月比較[[#This Row],[月]],家計簿[勘定科目],月比較[[#Headers],[給料]])","v":0},{"$f":"SUMIFS(家計簿[金額],家計簿[年],月比較[[#This Row],[年]],家計簿[月],月比較[[#This Row],[月]],家計簿[勘定科目],月比較[[#Headers],[ボーナス]])","v":0},{"$f":"SUMIFS(家計簿[金額],家計簿[年],月比較[[#This Row],[年]],家計簿[月],月比較[[#This Row],[月]],家計簿[勘定科目],月比較[[#Headers],[家賃補助]])","v":0},{"$f":"SUMIFS(家計簿[金額],家計簿[年],月比較[[#This Row],[年]],家計簿[月],月比較[[#This Row],[月]],家計簿[勘定科目],月比較[[#Headers],[児童手当]])","v":0},{"$f":"SUMIFS(家計簿[金額],家計簿[年],月比較[[#This Row],[年]],家計簿[月],月比較[[#This Row],[月]],家計簿[勘定科目],月比較[[#Headers],[配当金]])","v":0},{"$f":"SUMIFS(家計簿[金額],家計簿[年],月比較[[#This Row],[年]],家計簿[月],月比較[[#This Row],[月]],家計簿[勘定科目],月比較[[#Headers],[特別収入]])","v":0},{"$f":"SUMIFS(家計簿[金額],家計簿[年],月比較[[#This Row],[年]],家計簿[月],月比較[[#This Row],[月]],家計簿[勘定科目],月比較[[#Headers],[家賃]])","v":0},{"$f":"SUMIFS(家計簿[金額],家計簿[年],月比較[[#This Row],[年]],家計簿[月],月比較[[#This Row],[月]],家計簿[勘定科目],月比較[[#Headers],[電気代]])","v":0},{"$f":"SUMIFS(家計簿[金額],家計簿[年],月比較[[#This Row],[年]],家計簿[月],月比較[[#This Row],[月]],家計簿[勘定科目],月比較[[#Headers],[ガス代]])","v":0},{"$f":"SUMIFS(家計簿[金額],家計簿[年],月比較[[#This Row],[年]],家計簿[月],月比較[[#This Row],[月]],家計簿[勘定科目],月比較[[#Headers],[水道代]])","v":0},{"$f":"SUMIFS(家計簿[金額],家計簿[年],月比較[[#This Row],[年]],家計簿[月],月比較[[#This Row],[月]],家計簿[勘定科目],月比較[[#Headers],[通信費]])","v":0},{"$f":"SUMIFS(家計簿[金額],家計簿[年],月比較[[#This Row],[年]],家計簿[月],月比較[[#This Row],[月]],家計簿[勘定科目],月比較[[#Headers],[保険代]])","v":0},{"$f":"SUMIFS(家計簿[金額],家計簿[年],月比較[[#This Row],[年]],家計簿[月],月比較[[#This Row],[月]],家計簿[勘定科目],月比較[[#Headers],[サブスク]])","v":0},{"$f":"SUMIFS(家計簿[金額],家計簿[年],月比較[[#This Row],[年]],家計簿[月],月比較[[#This Row],[月]],家計簿[勘定科目],月比較[[#Headers],[税金（固定資産、自動車）]])","v":0},{"$f":"SUMIFS(家計簿[金額],家計簿[年],月比較[[#This Row],[年]],家計簿[月],月比較[[#This Row],[月]],家計簿[勘定科目],月比較[[#Headers],[食費]])","v":0},{"$f":"SUMIFS(家計簿[金額],家計簿[年],月比較[[#This Row],[年]],家計簿[月],月比較[[#This Row],[月]],家計簿[勘定科目],月比較[[#Headers],[日用品]])","v":0},{"$f":"SUMIFS(家計簿[金額],家計簿[年],月比較[[#This Row],[年]],家計簿[月],月比較[[#This Row],[月]],家計簿[勘定科目],月比較[[#Headers],[衣服]])","v":0},{"$f":"SUMIFS(家計簿[金額],家計簿[年],月比較[[#This Row],[年]],家計簿[月],月比較[[#This Row],[月]],家計簿[勘定科目],月比較[[#Headers],[教育費]])","v":0},{"$f":"SUMIFS(家計簿[金額],家計簿[年],月比較[[#This Row],[年]],家計簿[月],月比較[[#This Row],[月]],家計簿[勘定科目],月比較[[#Headers],[外食費]])","v":0},{"$f":"SUMIFS(家計簿[金額],家計簿[年],月比較[[#This Row],[年]],家計簿[月],月比較[[#This Row],[月]],家計簿[勘定科目],月比較[[#Headers],[移動費]])","v":0},{"$f":"SUMIFS(家計簿[金額],家計簿[年],月比較[[#This Row],[年]],家計簿[月],月比較[[#This Row],[月]],家計簿[勘定科目],月比較[[#Headers],[旅費]])","v":0},{"$f":"SUMIFS(家計簿[金額],家計簿[年],月比較[[#This Row],[年]],家計簿[月],月比較[[#This Row],[月]],家計簿[勘定科目],月比較[[#Headers],[娯楽費]])","v":0},{"$f":"SUMIFS(家計簿[金額],家計簿[年],月比較[[#This Row],[年]],家計簿[月],月比較[[#This Row],[月]],家計簿[勘定科目],月比較[[#Headers],[医療費]])","v":0},{"$f":"SUMIFS(家計簿[金額],家計簿[年],月比較[[#This Row],[年]],家計簿[月],月比較[[#This Row],[月]],家計簿[勘定科目],月比較[[#Headers],[特別出費]])","v":0}]
[null,null,{"$f":"IF(月比較[[#This Row],[月]]=1,C21+1,C21)","v":2024},5,{"$f":"DATE(月比較[[#This Row],[年]],月比較[[#This Row],[月]],1)","v":"2024-05-01"},{"$f":"SUMIFS(家計簿[金額],家計簿[年],月比較[[#This Row],[年]],家計簿[月],月比較[[#This Row],[月]],家計簿[収入/支出],月比較[[#Headers],[収入]])","v":0},{"$f":"SUMIFS(家計簿[金額],家計簿[年],月比較[[#This Row],[年]],家計簿[月],月比較[[#This Row],[月]],家計簿[収入/支出],月比較[[#Headers],[支出]])","v":0},{"$f":"SUMIFS(家計簿[金額],家計簿[年],月比較[[#This Row],[年]],家計簿[月],月比較[[#This Row],[月]],家計簿[固定費/変動費],月比較[[#Headers],[固定費]])","v":0},{"$f":"SUMIFS(家計簿[金額],家計簿[年],月比較[[#This Row],[年]],家計簿[月],月比較[[#This Row],[月]],家計簿[固定費/変動費],月比較[[#Headers],[変動費]])","v":0},{"$f":"SUMIFS(家計簿[金額],家計簿[年],月比較[[#This Row],[年]],家計簿[月],月比較[[#This Row],[月]],家計簿[勘定科目],月比較[[#Headers],[給料]])","v":0},{"$f":"SUMIFS(家計簿[金額],家計簿[年],月比較[[#This Row],[年]],家計簿[月],月比較[[#This Row],[月]],家計簿[勘定科目],月比較[[#Headers],[ボーナス]])","v":0},{"$f":"SUMIFS(家計簿[金額],家計簿[年],月比較[[#This Row],[年]],家計簿[月],月比較[[#This Row],[月]],家計簿[勘定科目],月比較[[#Headers],[家賃補助]])","v":0},{"$f":"SUMIFS(家計簿[金額],家計簿[年],月比較[[#This Row],[年]],家計簿[月],月比較[[#This Row],[月]],家計簿[勘定科目],月比較[[#Headers],[児童手当]])","v":0},{"$f":"SUMIFS(家計簿[金額],家計簿[年],月比較[[#This Row],[年]],家計簿[月],月比較[[#This Row],[月]],家計簿[勘定科目],月比較[[#Headers],[配当金]])","v":0},{"$f":"SUMIFS(家計簿[金額],家計簿[年],月比較[[#This Row],[年]],家計簿[月],月比較[[#This Row],[月]],家計簿[勘定科目],月比較[[#Headers],[特別収入]])","v":0},{"$f":"SUMIFS(家計簿[金額],家計簿[年],月比較[[#This Row],[年]],家計簿[月],月比較[[#This Row],[月]],家計簿[勘定科目],月比較[[#Headers],[家賃]])","v":0},{"$f":"SUMIFS(家計簿[金額],家計簿[年],月比較[[#This Row],[年]],家計簿[月],月比較[[#This Row],[月]],家計簿[勘定科目],月比較[[#Headers],[電気代]])","v":0},{"$f":"SUMIFS(家計簿[金額],家計簿[年],月比較[[#This Row],[年]],家計簿[月],月比較[[#This Row],[月]],家計簿[勘定科目],月比較[[#Headers],[ガス代]])","v":0},{"$f":"SUMIFS(家計簿[金額],家計簿[年],月比較[[#This Row],[年]],家計簿[月],月比較[[#This Row],[月]],家計簿[勘定科目],月比較[[#Headers],[水道代]])","v":0},{"$f":"SUMIFS(家計簿[金額],家計簿[年],月比較[[#This Row],[年]],家計簿[月],月比較[[#This Row],[月]],家計簿[勘定科目],月比較[[#Headers],[通信費]])","v":0},{"$f":"SUMIFS(家計簿[金額],家計簿[年],月比較[[#This Row],[年]],家計簿[月],月比較[[#This Row],[月]],家計簿[勘定科目],月比較[[#Headers],[保険代]])","v":0},{"$f":"SUMIFS(家計簿[金額],家計簿[年],月比較[[#This Row],[年]],家計簿[月],月比較[[#This Row],[月]],家計簿[勘定科目],月比較[[#Headers],[サブスク]])","v":0},{"$f":"SUMIFS(家計簿[金額],家計簿[年],月比較[[#This Row],[年]],家計簿[月],月比較[[#This Row],[月]],家計簿[勘定科目],月比較[[#Headers],[税金（固定資産、自動車）]])","v":0},{"$f":"SUMIFS(家計簿[金額],家計簿[年],月比較[[#This Row],[年]],家計簿[月],月比較[[#This Row],[月]],家計簿[勘定科目],月比較[[#Headers],[食費]])","v":0},{"$f":"SUMIFS(家計簿[金額],家計簿[年],月比較[[#This Row],[年]],家計簿[月],月比較[[#This Row],[月]],家計簿[勘定科目],月比較[[#Headers],[日用品]])","v":0},{"$f":"SUMIFS(家計簿[金額],家計簿[年],月比較[[#This Row],[年]],家計簿[月],月比較[[#This Row],[月]],家計簿[勘定科目],月比較[[#Headers],[衣服]])","v":0},{"$f":"SUMIFS(家計簿[金額],家計簿[年],月比較[[#This Row],[年]],家計簿[月],月比較[[#This Row],[月]],家計簿[勘定科目],月比較[[#Headers],[教育費]])","v":0},{"$f":"SUMIFS(家計簿[金額],家計簿[年],月比較[[#This Row],[年]],家計簿[月],月比較[[#This Row],[月]],家計簿[勘定科目],月比較[[#Headers],[外食費]])","v":0},{"$f":"SUMIFS(家計簿[金額],家計簿[年],月比較[[#This Row],[年]],家計簿[月],月比較[[#This Row],[月]],家計簿[勘定科目],月比較[[#Headers],[移動費]])","v":0},{"$f":"SUMIFS(家計簿[金額],家計簿[年],月比較[[#This Row],[年]],家計簿[月],月比較[[#This Row],[月]],家計簿[勘定科目],月比較[[#Headers],[旅費]])","v":0},{"$f":"SUMIFS(家計簿[金額],家計簿[年],月比較[[#This Row],[年]],家計簿[月],月比較[[#This Row],[月]],家計簿[勘定科目],月比較[[#Headers],[娯楽費]])","v":0},{"$f":"SUMIFS(家計簿[金額],家計簿[年],月比較[[#This Row],[年]],家計簿[月],月比較[[#This Row],[月]],家計簿[勘定科目],月比較[[#Headers],[医療費]])","v":0},{"$f":"SUMIFS(家計簿[金額],家計簿[年],月比較[[#This Row],[年]],家計簿[月],月比較[[#This Row],[月]],家計簿[勘定科目],月比較[[#Headers],[特別出費]])","v":0}]
[null,null,{"$f":"IF(月比較[[#This Row],[月]]=1,C22+1,C22)","v":2024},6,{"$f":"DATE(月比較[[#This Row],[年]],月比較[[#This Row],[月]],1)","v":"2024-06-01"},{"$f":"SUMIFS(家計簿[金額],家計簿[年],月比較[[#This Row],[年]],家計簿[月],月比較[[#This Row],[月]],家計簿[収入/支出],月比較[[#Headers],[収入]])","v":0},{"$f":"SUMIFS(家計簿[金額],家計簿[年],月比較[[#This Row],[年]],家計簿[月],月比較[[#This Row],[月]],家計簿[収入/支出],月比較[[#Headers],[支出]])","v":0},{"$f":"SUMIFS(家計簿[金額],家計簿[年],月比較[[#This Row],[年]],家計簿[月],月比較[[#This Row],[月]],家計簿[固定費/変動費],月比較[[#Headers],[固定費]])","v":0},{"$f":"SUMIFS(家計簿[金額],家計簿[年],月比較[[#This Row],[年]],家計簿[月],月比較[[#This Row],[月]],家計簿[固定費/変動費],月比較[[#Headers],[変動費]])","v":0},{"$f":"SUMIFS(家計簿[金額],家計簿[年],月比較[[#This Row],[年]],家計簿[月],月比較[[#This Row],[月]],家計簿[勘定科目],月比較[[#Headers],[給料]])","v":0},{"$f":"SUMIFS(家計簿[金額],家計簿[年],月比較[[#This Row],[年]],家計簿[月],月比較[[#This Row],[月]],家計簿[勘定科目],月比較[[#Headers],[ボーナス]])","v":0},{"$f":"SUMIFS(家計簿[金額],家計簿[年],月比較[[#This Row],[年]],家計簿[月],月比較[[#This Row],[月]],家計簿[勘定科目],月比較[[#Headers],[家賃補助]])","v":0},{"$f":"SUMIFS(家計簿[金額],家計簿[年],月比較[[#This Row],[年]],家計簿[月],月比較[[#This Row],[月]],家計簿[勘定科目],月比較[[#Headers],[児童手当]])","v":0},{"$f":"SUMIFS(家計簿[金額],家計簿[年],月比較[[#This Row],[年]],家計簿[月],月比較[[#This Row],[月]],家計簿[勘定科目],月比較[[#Headers],[配当金]])","v":0},{"$f":"SUMIFS(家計簿[金額],家計簿[年],月比較[[#This Row],[年]],家計簿[月],月比較[[#This Row],[月]],家計簿[勘定科目],月比較[[#Headers],[特別収入]])","v":0},{"$f":"SUMIFS(家計簿[金額],家計簿[年],月比較[[#This Row],[年]],家計簿[月],月比較[[#This Row],[月]],家計簿[勘定科目],月比較[[#Headers],[家賃]])","v":0},{"$f":"SUMIFS(家計簿[金額],家計簿[年],月比較[[#This Row],[年]],家計簿[月],月比較[[#This Row],[月]],家計簿[勘定科目],月比較[[#Headers],[電気代]])","v":0},{"$f":"SUMIFS(家計簿[金額],家計簿[年],月比較[[#This Row],[年]],家計簿[月],月比較[[#This Row],[月]],家計簿[勘定科目],月比較[[#Headers],[ガス代]])","v":0},{"$f":"SUMIFS(家計簿[金額],家計簿[年],月比較[[#This Row],[年]],家計簿[月],月比較[[#This Row],[月]],家計簿[勘定科目],月比較[[#Headers],[水道代]])","v":0},{"$f":"SUMIFS(家計簿[金額],家計簿[年],月比較[[#This Row],[年]],家計簿[月],月比較[[#This Row],[月]],家計簿[勘定科目],月比較[[#Headers],[通信費]])","v":0},{"$f":"SUMIFS(家計簿[金額],家計簿[年],月比較[[#This Row],[年]],家計簿[月],月比較[[#This Row],[月]],家計簿[勘定科目],月比較[[#Headers],[保険代]])","v":0},{"$f":"SUMIFS(家計簿[金額],家計簿[年],月比較[[#This Row],[年]],家計簿[月],月比較[[#This Row],[月]],家計簿[勘定科目],月比較[[#Headers],[サブスク]])","v":0},{"$f":"SUMIFS(家計簿[金額],家計簿[年],月比較[[#This Row],[年]],家計簿[月],月比較[[#This Row],[月]],家計簿[勘定科目],月比較[[#Headers],[税金（固定資産、自動車）]])","v":0},{"$f":"SUMIFS(家計簿[金額],家計簿[年],月比較[[#This Row],[年]],家計簿[月],月比較[[#This Row],[月]],家計簿[勘定科目],月比較[[#Headers],[食費]])","v":0},{"$f":"SUMIFS(家計簿[金額],家計簿[年],月比較[[#This Row],[年]],家計簿[月],月比較[[#This Row],[月]],家計簿[勘定科目],月比較[[#Headers],[日用品]])","v":0},{"$f":"SUMIFS(家計簿[金額],家計簿[年],月比較[[#This Row],[年]],家計簿[月],月比較[[#This Row],[月]],家計簿[勘定科目],月比較[[#Headers],[衣服]])","v":0},{"$f":"SUMIFS(家計簿[金額],家計簿[年],月比較[[#This Row],[年]],家計簿[月],月比較[[#This Row],[月]],家計簿[勘定科目],月比較[[#Headers],[教育費]])","v":0},{"$f":"SUMIFS(家計簿[金額],家計簿[年],月比較[[#This Row],[年]],家計簿[月],月比較[[#This Row],[月]],家計簿[勘定科目],月比較[[#Headers],[外食費]])","v":0},{"$f":"SUMIFS(家計簿[金額],家計簿[年],月比較[[#This Row],[年]],家計簿[月],月比較[[#This Row],[月]],家計簿[勘定科目],月比較[[#Headers],[移動費]])","v":0},{"$f":"SUMIFS(家計簿[金額],家計簿[年],月比較[[#This Row],[年]],家計簿[月],月比較[[#This Row],[月]],家計簿[勘定科目],月比較[[#Headers],[旅費]])","v":0},{"$f":"SUMIFS(家計簿[金額],家計簿[年],月比較[[#This Row],[年]],家計簿[月],月比較[[#This Row],[月]],家計簿[勘定科目],月比較[[#Headers],[娯楽費]])","v":0},{"$f":"SUMIFS(家計簿[金額],家計簿[年],月比較[[#This Row],[年]],家計簿[月],月比較[[#This Row],[月]],家計簿[勘定科目],月比較[[#Headers],[医療費]])","v":0},{"$f":"SUMIFS(家計簿[金額],家計簿[年],月比較[[#This Row],[年]],家計簿[月],月比較[[#This Row],[月]],家計簿[勘定科目],月比較[[#Headers],[特別出費]])","v":0}]
[null,null,{"$f":"IF(月比較[[#This Row],[月]]=1,C23+1,C23)","v":2024},7,{"$f":"DATE(月比較[[#This Row],[年]],月比較[[#This Row],[月]],1)","v":"2024-07-01"},{"$f":"SUMIFS(家計簿[金額],家計簿[年],月比較[[#This Row],[年]],家計簿[月],月比較[[#This Row],[月]],家計簿[収入/支出],月比較[[#Headers],[収入]])","v":0},{"$f":"SUMIFS(家計簿[金額],家計簿[年],月比較[[#This Row],[年]],家計簿[月],月比較[[#This Row],[月]],家計簿[収入/支出],月比較[[#Headers],[支出]])","v":0},{"$f":"SUMIFS(家計簿[金額],家計簿[年],月比較[[#This Row],[年]],家計簿[月],月比較[[#This Row],[月]],家計簿[固定費/変動費],月比較[[#Headers],[固定費]])","v":0},{"$f":"SUMIFS(家計簿[金額],家計簿[年],月比較[[#This Row],[年]],家計簿[月],月比較[[#This Row],[月]],家計簿[固定費/変動費],月比較[[#Headers],[変動費]])","v":0},{"$f":"SUMIFS(家計簿[金額],家計簿[年],月比較[[#This Row],[年]],家計簿[月],月比較[[#This Row],[月]],家計簿[勘定科目],月比較[[#Headers],[給料]])","v":0},{"$f":"SUMIFS(家計簿[金額],家計簿[年],月比較[[#This Row],[年]],家計簿[月],月比較[[#This Row],[月]],家計簿[勘定科目],月比較[[#Headers],[ボーナス]])","v":0},{"$f":"SUMIFS(家計簿[金額],家計簿[年],月比較[[#This Row],[年]],家計簿[月],月比較[[#This Row],[月]],家計簿[勘定科目],月比較[[#Headers],[家賃補助]])","v":0},{"$f":"SUMIFS(家計簿[金額],家計簿[年],月比較[[#This Row],[年]],家計簿[月],月比較[[#This Row],[月]],家計簿[勘定科目],月比較[[#Headers],[児童手当]])","v":0},{"$f":"SUMIFS(家計簿[金額],家計簿[年],月比較[[#This Row],[年]],家計簿[月],月比較[[#This Row],[月]],家計簿[勘定科目],月比較[[#Headers],[配当金]])","v":0},{"$f":"SUMIFS(家計簿[金額],家計簿[年],月比較[[#This Row],[年]],家計簿[月],月比較[[#This Row],[月]],家計簿[勘定科目],月比較[[#Headers],[特別収入]])","v":0},{"$f":"SUMIFS(家計簿[金額],家計簿[年],月比較[[#This Row],[年]],家計簿[月],月比較[[#This Row],[月]],家計簿[勘定科目],月比較[[#Headers],[家賃]])","v":0},{"$f":"SUMIFS(家計簿[金額],家計簿[年],月比較[[#This Row],[年]],家計簿[月],月比較[[#This Row],[月]],家計簿[勘定科目],月比較[[#Headers],[電気代]])","v":0},{"$f":"SUMIFS(家計簿[金額],家計簿[年],月比較[[#This Row],[年]],家計簿[月],月比較[[#This Row],[月]],家計簿[勘定科目],月比較[[#Headers],[ガス代]])","v":0},{"$f":"SUMIFS(家計簿[金額],家計簿[年],月比較[[#This Row],[年]],家計簿[月],月比較[[#This Row],[月]],家計簿[勘定科目],月比較[[#Headers],[水道代]])","v":0},{"$f":"SUMIFS(家計簿[金額],家計簿[年],月比較[[#This Row],[年]],家計簿[月],月比較[[#This Row],[月]],家計簿[勘定科目],月比較[[#Headers],[通信費]])","v":0},{"$f":"SUMIFS(家計簿[金額],家計簿[年],月比較[[#This Row],[年]],家計簿[月],月比較[[#This Row],[月]],家計簿[勘定科目],月比較[[#Headers],[保険代]])","v":0},{"$f":"SUMIFS(家計簿[金額],家計簿[年],月比較[[#This Row],[年]],家計簿[月],月比較[[#This Row],[月]],家計簿[勘定科目],月比較[[#Headers],[サブスク]])","v":0},{"$f":"SUMIFS(家計簿[金額],家計簿[年],月比較[[#This Row],[年]],家計簿[月],月比較[[#This Row],[月]],家計簿[勘定科目],月比較[[#Headers],[税金（固定資産、自動車）]])","v":0},{"$f":"SUMIFS(家計簿[金額],家計簿[年],月比較[[#This Row],[年]],家計簿[月],月比較[[#This Row],[月]],家計簿[勘定科目],月比較[[#Headers],[食費]])","v":0},{"$f":"SUMIFS(家計簿[金額],家計簿[年],月比較[[#This Row],[年]],家計簿[月],月比較[[#This Row],[月]],家計簿[勘定科目],月比較[[#Headers],[日用品]])","v":0},{"$f":"SUMIFS(家計簿[金額],家計簿[年],月比較[[#This Row],[年]],家計簿[月],月比較[[#This Row],[月]],家計簿[勘定科目],月比較[[#Headers],[衣服]])","v":0},{"$f":"SUMIFS(家計簿[金額],家計簿[年],月比較[[#This Row],[年]],家計簿[月],月比較[[#This Row],[月]],家計簿[勘定科目],月比較[[#Headers],[教育費]])","v":0},{"$f":"SUMIFS(家計簿[金額],家計簿[年],月比較[[#This Row],[年]],家計簿[月],月比較[[#This Row],[月]],家計簿[勘定科目],月比較[[#Headers],[外食費]])","v":0},{"$f":"SUMIFS(家計簿[金額],家計簿[年],月比較[[#This Row],[年]],家計簿[月],月比較[[#This Row],[月]],家計簿[勘定科目],月比較[[#Headers],[移動費]])","v":0},{"$f":"SUMIFS(家計簿[金額],家計簿[年],月比較[[#This Row],[年]],家計簿[月],月比較[[#This Row],[月]],家計簿[勘定科目],月比較[[#Headers],[旅費]])","v":0},{"$f":"SUMIFS(家計簿[金額],家計簿[年],月比較[[#This Row],[年]],家計簿[月],月比較[[#This Row],[月]],家計簿[勘定科目],月比較[[#Headers],[娯楽費]])","v":0},{"$f":"SUMIFS(家計簿[金額],家計簿[年],月比較[[#This Row],[年]],家計簿[月],月比較[[#This Row],[月]],家計簿[勘定科目],月比較[[#Headers],[医療費]])","v":0},{"$f":"SUMIFS(家計簿[金額],家計簿[年],月比較[[#This Row],[年]],家計簿[月],月比較[[#This Row],[月]],家計簿[勘定科目],月比較[[#Headers],[特別出費]])","v":0}]
[null,null,{"$f":"IF(月比較[[#This Row],[月]]=1,C24+1,C24)","v":2024},8,{"$f":"DATE(月比較[[#This Row],[年]],月比較[[#This Row],[月]],1)","v":"2024-08-01"},{"$f":"SUMIFS(家計簿[金額],家計簿[年],月比較[[#This Row],[年]],家計簿[月],月比較[[#This Row],[月]],家計簿[収入/支出],月比較[[#Headers],[収入]])","v":0},{"$f":"SUMIFS(家計簿[金額],家計簿[年],月比較[[#This Row],[年]],家計簿[月],月比較[[#This Row],[月]],家計簿[収入/支出],月比較[[#Headers],[支出]])","v":0},{"$f":"SUMIFS(家計簿[金額],家計簿[年],月比較[[#This Row],[年]],家計簿[月],月比較[[#This Row],[月]],家計簿[固定費/変動費],月比較[[#Headers],[固定費]])","v":0},{"$f":"SUMIFS(家計簿[金額],家計簿[年],月比較[[#This Row],[年]],家計簿[月],月比較[[#This Row],[月]],家計簿[固定費/変動費],月比較[[#Headers],[変動費]])","v":0},{"$f":"SUMIFS(家計簿[金額],家計簿[年],月比較[[#This Row],[年]],家計簿[月],月比較[[#This Row],[月]],家計簿[勘定科目],月比較[[#Headers],[給料]])","v":0},{"$f":"SUMIFS(家計簿[金額],家計簿[年],月比較[[#This Row],[年]],家計簿[月],月比較[[#This Row],[月]],家計簿[勘定科目],月比較[[#Headers],[ボーナス]])","v":0},{"$f":"SUMIFS(家計簿[金額],家計簿[年],月比較[[#This Row],[年]],家計簿[月],月比較[[#This Row],[月]],家計簿[勘定科目],月比較[[#Headers],[家賃補助]])","v":0},{"$f":"SUMIFS(家計簿[金額],家計簿[年],月比較[[#This Row],[年]],家計簿[月],月比較[[#This Row],[月]],家計簿[勘定科目],月比較[[#Headers],[児童手当]])","v":0},{"$f":"SUMIFS(家計簿[金額],家計簿[年],月比較[[#This Row],[年]],家計簿[月],月比較[[#This Row],[月]],家計簿[勘定科目],月比較[[#Headers],[配当金]])","v":0},{"$f":"SUMIFS(家計簿[金額],家計簿[年],月比較[[#This Row],[年]],家計簿[月],月比較[[#This Row],[月]],家計簿[勘定科目],月比較[[#Headers],[特別収入]])","v":0},{"$f":"SUMIFS(家計簿[金額],家計簿[年],月比較[[#This Row],[年]],家計簿[月],月比較[[#This Row],[月]],家計簿[勘定科目],月比較[[#Headers],[家賃]])","v":0},{"$f":"SUMIFS(家計簿[金額],家計簿[年],月比較[[#This Row],[年]],家計簿[月],月比較[[#This Row],[月]],家計簿[勘定科目],月比較[[#Headers],[電気代]])","v":0},{"$f":"SUMIFS(家計簿[金額],家計簿[年],月比較[[#This Row],[年]],家計簿[月],月比較[[#This Row],[月]],家計簿[勘定科目],月比較[[#Headers],[ガス代]])","v":0},{"$f":"SUMIFS(家計簿[金額],家計簿[年],月比較[[#This Row],[年]],家計簿[月],月比較[[#This Row],[月]],家計簿[勘定科目],月比較[[#Headers],[水道代]])","v":0},{"$f":"SUMIFS(家計簿[金額],家計簿[年],月比較[[#This Row],[年]],家計簿[月],月比較[[#This Row],[月]],家計簿[勘定科目],月比較[[#Headers],[通信費]])","v":0},{"$f":"SUMIFS(家計簿[金額],家計簿[年],月比較[[#This Row],[年]],家計簿[月],月比較[[#This Row],[月]],家計簿[勘定科目],月比較[[#Headers],[保険代]])","v":0},{"$f":"SUMIFS(家計簿[金額],家計簿[年],月比較[[#This Row],[年]],家計簿[月],月比較[[#This Row],[月]],家計簿[勘定科目],月比較[[#Headers],[サブスク]])","v":0},{"$f":"SUMIFS(家計簿[金額],家計簿[年],月比較[[#This Row],[年]],家計簿[月],月比較[[#This Row],[月]],家計簿[勘定科目],月比較[[#Headers],[税金（固定資産、自動車）]])","v":0},{"$f":"SUMIFS(家計簿[金額],家計簿[年],月比較[[#This Row],[年]],家計簿[月],月比較[[#This Row],[月]],家計簿[勘定科目],月比較[[#Headers],[食費]])","v":0},{"$f":"SUMIFS(家計簿[金額],家計簿[年],月比較[[#This Row],[年]],家計簿[月],月比較[[#This Row],[月]],家計簿[勘定科目],月比較[[#Headers],[日用品]])","v":0},{"$f":"SUMIFS(家計簿[金額],家計簿[年],月比較[[#This Row],[年]],家計簿[月],月比較[[#This Row],[月]],家計簿[勘定科目],月比較[[#Headers],[衣服]])","v":0},{"$f":"SUMIFS(家計簿[金額],家計簿[年],月比較[[#This Row],[年]],家計簿[月],月比較[[#This Row],[月]],家計簿[勘定科目],月比較[[#Headers],[教育費]])","v":0},{"$f":"SUMIFS(家計簿[金額],家計簿[年],月比較[[#This Row],[年]],家計簿[月],月比較[[#This Row],[月]],家計簿[勘定科目],月比較[[#Headers],[外食費]])","v":0},{"$f":"SUMIFS(家計簿[金額],家計簿[年],月比較[[#This Row],[年]],家計簿[月],月比較[[#This Row],[月]],家計簿[勘定科目],月比較[[#Headers],[移動費]])","v":0},{"$f":"SUMIFS(家計簿[金額],家計簿[年],月比較[[#This Row],[年]],家計簿[月],月比較[[#This Row],[月]],家計簿[勘定科目],月比較[[#Headers],[旅費]])","v":0},{"$f":"SUMIFS(家計簿[金額],家計簿[年],月比較[[#This Row],[年]],家計簿[月],月比較[[#This Row],[月]],家計簿[勘定科目],月比較[[#Headers],[娯楽費]])","v":0},{"$f":"SUMIFS(家計簿[金額],家計簿[年],月比較[[#This Row],[年]],家計簿[月],月比較[[#This Row],[月]],家計簿[勘定科目],月比較[[#Headers],[医療費]])","v":0},{"$f":"SUMIFS(家計簿[金額],家計簿[年],月比較[[#This Row],[年]],家計簿[月],月比較[[#This Row],[月]],家計簿[勘定科目],月比較[[#Headers],[特別出費]])","v":0}]
[null,null,{"$f":"IF(月比較[[#This Row],[月]]=1,C25+1,C25)","v":2024},9,{"$f":"DATE(月比較[[#This Row],[年]],月比較[[#This Row],[月]],1)","v":"2024-09-01"},{"$f":"SUMIFS(家計簿[金額],家計簿[年],月比較[[#This Row],[年]],家計簿[月],月比較[[#This Row],[月]],家計簿[収入/支出],月比較[[#Headers],[収入]])","v":0},{"$f":"SUMIFS(家計簿[金額],家計簿[年],月比較[[#This Row],[年]],家計簿[月],月比較[[#This Row],[月]],家計簿[収入/支出],月比較[[#Headers],[支出]])","v":0},{"$f":"SUMIFS(家計簿[金額],家計簿[年],月比較[[#This Row],[年]],家計簿[月],月比較[[#This Row],[月]],家計簿[固定費/変動費],月比較[[#Headers],[固定費]])","v":0},{"$f":"SUMIFS(家計簿[金額],家計簿[年],月比較[[#This Row],[年]],家計簿[月],月比較[[#This Row],[月]],家計簿[固定費/変動費],月比較[[#Headers],[変動費]])","v":0},{"$f":"SUMIFS(家計簿[金額],家計簿[年],月比較[[#This Row],[年]],家計簿[月],月比較[[#This Row],[月]],家計簿[勘定科目],月比較[[#Headers],[給料]])","v":0},{"$f":"SUMIFS(家計簿[金額],家計簿[年],月比較[[#This Row],[年]],家計簿[月],月比較[[#This Row],[月]],家計簿[勘定科目],月比較[[#Headers],[ボーナス]])","v":0},{"$f":"SUMIFS(家計簿[金額],家計簿[年],月比較[[#This Row],[年]],家計簿[月],月比較[[#This Row],[月]],家計簿[勘定科目],月比較[[#Headers],[家賃補助]])","v":0},{"$f":"SUMIFS(家計簿[金額],家計簿[年],月比較[[#This Row],[年]],家計簿[月],月比較[[#This Row],[月]],家計簿[勘定科目],月比較[[#Headers],[児童手当]])","v":0},{"$f":"SUMIFS(家計簿[金額],家計簿[年],月比較[[#This Row],[年]],家計簿[月],月比較[[#This Row],[月]],家計簿[勘定科目],月比較[[#Headers],[配当金]])","v":0},{"$f":"SUMIFS(家計簿[金額],家計簿[年],月比較[[#This Row],[年]],家計簿[月],月比較[[#This Row],[月]],家計簿[勘定科目],月比較[[#Headers],[特別収入]])","v":0},{"$f":"SUMIFS(家計簿[金額],家計簿[年],月比較[[#This Row],[年]],家計簿[月],月比較[[#This Row],[月]],家計簿[勘定科目],月比較[[#Headers],[家賃]])","v":0},{"$f":"SUMIFS(家計簿[金額],家計簿[年],月比較[[#This Row],[年]],家計簿[月],月比較[[#This Row],[月]],家計簿[勘定科目],月比較[[#Headers],[電気代]])","v":0},{"$f":"SUMIFS(家計簿[金額],家計簿[年],月比較[[#This Row],[年]],家計簿[月],月比較[[#This Row],[月]],家計簿[勘定科目],月比較[[#Headers],[ガス代]])","v":0},{"$f":"SUMIFS(家計簿[金額],家計簿[年],月比較[[#This Row],[年]],家計簿[月],月比較[[#This Row],[月]],家計簿[勘定科目],月比較[[#Headers],[水道代]])","v":0},{"$f":"SUMIFS(家計簿[金額],家計簿[年],月比較[[#This Row],[年]],家計簿[月],月比較[[#This Row],[月]],家計簿[勘定科目],月比較[[#Headers],[通信費]])","v":0},{"$f":"SUMIFS(家計簿[金額],家計簿[年],月比較[[#This Row],[年]],家計簿[月],月比較[[#This Row],[月]],家計簿[勘定科目],月比較[[#Headers],[保険代]])","v":0},{"$f":"SUMIFS(家計簿[金額],家計簿[年],月比較[[#This Row],[年]],家計簿[月],月比較[[#This Row],[月]],家計簿[勘定科目],月比較[[#Headers],[サブスク]])","v":0},{"$f":"SUMIFS(家計簿[金額],家計簿[年],月比較[[#This Row],[年]],家計簿[月],月比較[[#This Row],[月]],家計簿[勘定科目],月比較[[#Headers],[税金（固定資産、自動車）]])","v":0},{"$f":"SUMIFS(家計簿[金額],家計簿[年],月比較[[#This Row],[年]],家計簿[月],月比較[[#This Row],[月]],家計簿[勘定科目],月比較[[#Headers],[食費]])","v":0},{"$f":"SUMIFS(家計簿[金額],家計簿[年],月比較[[#This Row],[年]],家計簿[月],月比較[[#This Row],[月]],家計簿[勘定科目],月比較[[#Headers],[日用品]])","v":0},{"$f":"SUMIFS(家計簿[金額],家計簿[年],月比較[[#This Row],[年]],家計簿[月],月比較[[#This Row],[月]],家計簿[勘定科目],月比較[[#Headers],[衣服]])","v":0},{"$f":"SUMIFS(家計簿[金額],家計簿[年],月比較[[#This Row],[年]],家計簿[月],月比較[[#This Row],[月]],家計簿[勘定科目],月比較[[#Headers],[教育費]])","v":0},{"$f":"SUMIFS(家計簿[金額],家計簿[年],月比較[[#This Row],[年]],家計簿[月],月比較[[#This Row],[月]],家計簿[勘定科目],月比較[[#Headers],[外食費]])","v":0},{"$f":"SUMIFS(家計簿[金額],家計簿[年],月比較[[#This Row],[年]],家計簿[月],月比較[[#This Row],[月]],家計簿[勘定科目],月比較[[#Headers],[移動費]])","v":0},{"$f":"SUMIFS(家計簿[金額],家計簿[年],月比較[[#This Row],[年]],家計簿[月],月比較[[#This Row],[月]],家計簿[勘定科目],月比較[[#Headers],[旅費]])","v":0},{"$f":"SUMIFS(家計簿[金額],家計簿[年],月比較[[#This Row],[年]],家計簿[月],月比較[[#This Row],[月]],家計簿[勘定科目],月比較[[#Headers],[娯楽費]])","v":0},{"$f":"SUMIFS(家計簿[金額],家計簿[年],月比較[[#This Row],[年]],家計簿[月],月比較[[#This Row],[月]],家計簿[勘定科目],月比較[[#Headers],[医療費]])","v":0},{"$f":"SUMIFS(家計簿[金額],家計簿[年],月比較[[#This Row],[年]],家計簿[月],月比較[[#This Row],[月]],家計簿[勘定科目],月比較[[#Headers],[特別出費]])","v":0}]
[null,null,{"$f":"IF(月比較[[#This Row],[月]]=1,C26+1,C26)","v":2024},10,{"$f":"DATE(月比較[[#This Row],[年]],月比較[[#This Row],[月]],1)","v":"2024-10-01"},{"$f":"SUMIFS(家計簿[金額],家計簿[年],月比較[[#This Row],[年]],家計簿[月],月比較[[#This Row],[月]],家計簿[収入/支出],月比較[[#Headers],[収入]])","v":0},{"$f":"SUMIFS(家計簿[金額],家計簿[年],月比較[[#This Row],[年]],家計簿[月],月比較[[#This Row],[月]],家計簿[収入/支出],月比較[[#Headers],[支出]])","v":0},{"$f":"SUMIFS(家計簿[金額],家計簿[年],月比較[[#This Row],[年]],家計簿[月],月比較[[#This Row],[月]],家計簿[固定費/変動費],月比較[[#Headers],[固定費]])","v":0},{"$f":"SUMIFS(家計簿[金額],家計簿[年],月比較[[#This Row],[年]],家計簿[月],月比較[[#This Row],[月]],家計簿[固定費/変動費],月比較[[#Headers],[変動費]])","v":0},{"$f":"SUMIFS(家計簿[金額],家計簿[年],月比較[[#This Row],[年]],家計簿[月],月比較[[#This Row],[月]],家計簿[勘定科目],月比較[[#Headers],[給料]])","v":0},{"$f":"SUMIFS(家計簿[金額],家計簿[年],月比較[[#This Row],[年]],家計簿[月],月比較[[#This Row],[月]],家計簿[勘定科目],月比較[[#Headers],[ボーナス]])","v":0},{"$f":"SUMIFS(家計簿[金額],家計簿[年],月比較[[#This Row],[年]],家計簿[月],月比較[[#This Row],[月]],家計簿[勘定科目],月比較[[#Headers],[家賃補助]])","v":0},{"$f":"SUMIFS(家計簿[金額],家計簿[年],月比較[[#This Row],[年]],家計簿[月],月比較[[#This Row],[月]],家計簿[勘定科目],月比較[[#Headers],[児童手当]])","v":0},{"$f":"SUMIFS(家計簿[金額],家計簿[年],月比較[[#This Row],[年]],家計簿[月],月比較[[#This Row],[月]],家計簿[勘定科目],月比較[[#Headers],[配当金]])","v":0},{"$f":"SUMIFS(家計簿[金額],家計簿[年],月比較[[#This Row],[年]],家計簿[月],月比較[[#This Row],[月]],家計簿[勘定科目],月比較[[#Headers],[特別収入]])","v":0},{"$f":"SUMIFS(家計簿[金額],家計簿[年],月比較[[#This Row],[年]],家計簿[月],月比較[[#This Row],[月]],家計簿[勘定科目],月比較[[#Headers],[家賃]])","v":0},{"$f":"SUMIFS(家計簿[金額],家計簿[年],月比較[[#This Row],[年]],家計簿[月],月比較[[#This Row],[月]],家計簿[勘定科目],月比較[[#Headers],[電気代]])","v":0},{"$f":"SUMIFS(家計簿[金額],家計簿[年],月比較[[#This Row],[年]],家計簿[月],月比較[[#This Row],[月]],家計簿[勘定科目],月比較[[#Headers],[ガス代]])","v":0},{"$f":"SUMIFS(家計簿[金額],家計簿[年],月比較[[#This Row],[年]],家計簿[月],月比較[[#This Row],[月]],家計簿[勘定科目],月比較[[#Headers],[水道代]])","v":0},{"$f":"SUMIFS(家計簿[金額],家計簿[年],月比較[[#This Row],[年]],家計簿[月],月比較[[#This Row],[月]],家計簿[勘定科目],月比較[[#Headers],[通信費]])","v":0},{"$f":"SUMIFS(家計簿[金額],家計簿[年],月比較[[#This Row],[年]],家計簿[月],月比較[[#This Row],[月]],家計簿[勘定科目],月比較[[#Headers],[保険代]])","v":0},{"$f":"SUMIFS(家計簿[金額],家計簿[年],月比較[[#This Row],[年]],家計簿[月],月比較[[#This Row],[月]],家計簿[勘定科目],月比較[[#Headers],[サブスク]])","v":0},{"$f":"SUMIFS(家計簿[金額],家計簿[年],月比較[[#This Row],[年]],家計簿[月],月比較[[#This Row],[月]],家計簿[勘定科目],月比較[[#Headers],[税金（固定資産、自動車）]])","v":0},{"$f":"SUMIFS(家計簿[金額],家計簿[年],月比較[[#This Row],[年]],家計簿[月],月比較[[#This Row],[月]],家計簿[勘定科目],月比較[[#Headers],[食費]])","v":0},{"$f":"SUMIFS(家計簿[金額],家計簿[年],月比較[[#This Row],[年]],家計簿[月],月比較[[#This Row],[月]],家計簿[勘定科目],月比較[[#Headers],[日用品]])","v":0},{"$f":"SUMIFS(家計簿[金額],家計簿[年],月比較[[#This Row],[年]],家計簿[月],月比較[[#This Row],[月]],家計簿[勘定科目],月比較[[#Headers],[衣服]])","v":0},{"$f":"SUMIFS(家計簿[金額],家計簿[年],月比較[[#This Row],[年]],家計簿[月],月比較[[#This Row],[月]],家計簿[勘定科目],月比較[[#Headers],[教育費]])","v":0},{"$f":"SUMIFS(家計簿[金額],家計簿[年],月比較[[#This Row],[年]],家計簿[月],月比較[[#This Row],[月]],家計簿[勘定科目],月比較[[#Headers],[外食費]])","v":0},{"$f":"SUMIFS(家計簿[金額],家計簿[年],月比較[[#This Row],[年]],家計簿[月],月比較[[#This Row],[月]],家計簿[勘定科目],月比較[[#Headers],[移動費]])","v":0},{"$f":"SUMIFS(家計簿[金額],家計簿[年],月比較[[#This Row],[年]],家計簿[月],月比較[[#This Row],[月]],家計簿[勘定科目],月比較[[#Headers],[旅費]])","v":0},{"$f":"SUMIFS(家計簿[金額],家計簿[年],月比較[[#This Row],[年]],家計簿[月],月比較[[#This Row],[月]],家計簿[勘定科目],月比較[[#Headers],[娯楽費]])","v":0},{"$f":"SUMIFS(家計簿[金額],家計簿[年],月比較[[#This Row],[年]],家計簿[月],月比較[[#This Row],[月]],家計簿[勘定科目],月比較[[#Headers],[医療費]])","v":0},{"$f":"SUMIFS(家計簿[金額],家計簿[年],月比較[[#This Row],[年]],家計簿[月],月比較[[#This Row],[月]],家計簿[勘定科目],月比較[[#Headers],[特別出費]])","v":0}]
[null,null,{"$f":"IF(月比較[[#This Row],[月]]=1,C27+1,C27)","v":2024},11,{"$f":"DATE(月比較[[#This Row],[年]],月比較[[#This Row],[月]],1)","v":"2024-11-01"},{"$f":"SUMIFS(家計簿[金額],家計簿[年],月比較[[#This Row],[年]],家計簿[月],月比較[[#This Row],[月]],家計簿[収入/支出],月比較[[#Headers],[収入]])","v":0},{"$f":"SUMIFS(家計簿[金額],家計簿[年],月比較[[#This Row],[年]],家計簿[月],月比較[[#This Row],[月]],家計簿[収入/支出],月比較[[#Headers],[支出]])","v":0},{"$f":"SUMIFS(家計簿[金額],家計簿[年],月比較[[#This Row],[年]],家計簿[月],月比較[[#This Row],[月]],家計簿[固定費/変動費],月比較[[#Headers],[固定費]])","v":0},{"$f":"SUMIFS(家計簿[金額],家計簿[年],月比較[[#This Row],[年]],家計簿[月],月比較[[#This Row],[月]],家計簿[固定費/変動費],月比較[[#Headers],[変動費]])","v":0},{"$f":"SUMIFS(家計簿[金額],家計簿[年],月比較[[#This Row],[年]],家計簿[月],月比較[[#This Row],[月]],家計簿[勘定科目],月比較[[#Headers],[給料]])","v":0},{"$f":"SUMIFS(家計簿[金額],家計簿[年],月比較[[#This Row],[年]],家計簿[月],月比較[[#This Row],[月]],家計簿[勘定科目],月比較[[#Headers],[ボーナス]])","v":0},{"$f":"SUMIFS(家計簿[金額],家計簿[年],月比較[[#This Row],[年]],家計簿[月],月比較[[#This Row],[月]],家計簿[勘定科目],月比較[[#Headers],[家賃補助]])","v":0},{"$f":"SUMIFS(家計簿[金額],家計簿[年],月比較[[#This Row],[年]],家計簿[月],月比較[[#This Row],[月]],家計簿[勘定科目],月比較[[#Headers],[児童手当]])","v":0},{"$f":"SUMIFS(家計簿[金額],家計簿[年],月比較[[#This Row],[年]],家計簿[月],月比較[[#This Row],[月]],家計簿[勘定科目],月比較[[#Headers],[配当金]])","v":0},{"$f":"SUMIFS(家計簿[金額],家計簿[年],月比較[[#This Row],[年]],家計簿[月],月比較[[#This Row],[月]],家計簿[勘定科目],月比較[[#Headers],[特別収入]])","v":0},{"$f":"SUMIFS(家計簿[金額],家計簿[年],月比較[[#This Row],[年]],家計簿[月],月比較[[#This Row],[月]],家計簿[勘定科目],月比較[[#Headers],[家賃]])","v":0},{"$f":"SUMIFS(家計簿[金額],家計簿[年],月比較[[#This Row],[年]],家計簿[月],月比較[[#This Row],[月]],家計簿[勘定科目],月比較[[#Headers],[電気代]])","v":0},{"$f":"SUMIFS(家計簿[金額],家計簿[年],月比較[[#This Row],[年]],家計簿[月],月比較[[#This Row],[月]],家計簿[勘定科目],月比較[[#Headers],[ガス代]])","v":0},{"$f":"SUMIFS(家計簿[金額],家計簿[年],月比較[[#This Row],[年]],家計簿[月],月比較[[#This Row],[月]],家計簿[勘定科目],月比較[[#Headers],[水道代]])","v":0},{"$f":"SUMIFS(家計簿[金額],家計簿[年],月比較[[#This Row],[年]],家計簿[月],月比較[[#This Row],[月]],家計簿[勘定科目],月比較[[#Headers],[通信費]])","v":0},{"$f":"SUMIFS(家計簿[金額],家計簿[年],月比較[[#This Row],[年]],家計簿[月],月比較[[#This Row],[月]],家計簿[勘定科目],月比較[[#Headers],[保険代]])","v":0},{"$f":"SUMIFS(家計簿[金額],家計簿[年],月比較[[#This Row],[年]],家計簿[月],月比較[[#This Row],[月]],家計簿[勘定科目],月比較[[#Headers],[サブスク]])","v":0},{"$f":"SUMIFS(家計簿[金額],家計簿[年],月比較[[#This Row],[年]],家計簿[月],月比較[[#This Row],[月]],家計簿[勘定科目],月比較[[#Headers],[税金（固定資産、自動車）]])","v":0},{"$f":"SUMIFS(家計簿[金額],家計簿[年],月比較[[#This Row],[年]],家計簿[月],月比較[[#This Row],[月]],家計簿[勘定科目],月比較[[#Headers],[食費]])","v":0},{"$f":"SUMIFS(家計簿[金額],家計簿[年],月比較[[#This Row],[年]],家計簿[月],月比較[[#This Row],[月]],家計簿[勘定科目],月比較[[#Headers],[日用品]])","v":0},{"$f":"SUMIFS(家計簿[金額],家計簿[年],月比較[[#This Row],[年]],家計簿[月],月比較[[#This Row],[月]],家計簿[勘定科目],月比較[[#Headers],[衣服]])","v":0},{"$f":"SUMIFS(家計簿[金額],家計簿[年],月比較[[#This Row],[年]],家計簿[月],月比較[[#This Row],[月]],家計簿[勘定科目],月比較[[#Headers],[教育費]])","v":0},{"$f":"SUMIFS(家計簿[金額],家計簿[年],月比較[[#This Row],[年]],家計簿[月],月比較[[#This Row],[月]],家計簿[勘定科目],月比較[[#Headers],[外食費]])","v":0},{"$f":"SUMIFS(家計簿[金額],家計簿[年],月比較[[#This Row],[年]],家計簿[月],月比較[[#This Row],[月]],家計簿[勘定科目],月比較[[#Headers],[移動費]])","v":0},{"$f":"SUMIFS(家計簿[金額],家計簿[年],月比較[[#This Row],[年]],家計簿[月],月比較[[#This Row],[月]],家計簿[勘定科目],月比較[[#Headers],[旅費]])","v":0},{"$f":"SUMIFS(家計簿[金額],家計簿[年],月比較[[#This Row],[年]],家計簿[月],月比較[[#This Row],[月]],家計簿[勘定科目],月比較[[#Headers],[娯楽費]])","v":0},{"$f":"SUMIFS(家計簿[金額],家計簿[年],月比較[[#This Row],[年]],家計簿[月],月比較[[#This Row],[月]],家計簿[勘定科目],月比較[[#Headers],[医療費]])","v":0},{"$f":"SUMIFS(家計簿[金額],家計簿[年],月比較[[#This Row],[年]],家計簿[月],月比較[[#This Row],[月]],家計簿[勘定科目],月比較[[#Headers],[特別出費]])","v":0}]
[null,null,{"$f":"IF(月比較[[#This Row],[月]]=1,C28+1,C28)","v":2024},12,{"$f":"DATE(月比較[[#This Row],[年]],月比較[[#This Row],[月]],1)","v":"2024-12-01"},{"$f":"SUMIFS(家計簿[金額],家計簿[年],月比較[[#This Row],[年]],家計簿[月],月比較[[#This Row],[月]],家計簿[収入/支出],月比較[[#Headers],[収入]])","v":0},{"$f":"SUMIFS(家計簿[金額],家計簿[年],月比較[[#This Row],[年]],家計簿[月],月比較[[#This Row],[月]],家計簿[収入/支出],月比較[[#Headers],[支出]])","v":0},{"$f":"SUMIFS(家計簿[金額],家計簿[年],月比較[[#This Row],[年]],家計簿[月],月比較[[#This Row],[月]],家計簿[固定費/変動費],月比較[[#Headers],[固定費]])","v":0},{"$f":"SUMIFS(家計簿[金額],家計簿[年],月比較[[#This Row],[年]],家計簿[月],月比較[[#This Row],[月]],家計簿[固定費/変動費],月比較[[#Headers],[変動費]])","v":0},{"$f":"SUMIFS(家計簿[金額],家計簿[年],月比較[[#This Row],[年]],家計簿[月],月比較[[#This Row],[月]],家計簿[勘定科目],月比較[[#Headers],[給料]])","v":0},{"$f":"SUMIFS(家計簿[金額],家計簿[年],月比較[[#This Row],[年]],家計簿[月],月比較[[#This Row],[月]],家計簿[勘定科目],月比較[[#Headers],[ボーナス]])","v":0},{"$f":"SUMIFS(家計簿[金額],家計簿[年],月比較[[#This Row],[年]],家計簿[月],月比較[[#This Row],[月]],家計簿[勘定科目],月比較[[#Headers],[家賃補助]])","v":0},{"$f":"SUMIFS(家計簿[金額],家計簿[年],月比較[[#This Row],[年]],家計簿[月],月比較[[#This Row],[月]],家計簿[勘定科目],月比較[[#Headers],[児童手当]])","v":0},{"$f":"SUMIFS(家計簿[金額],家計簿[年],月比較[[#This Row],[年]],家計簿[月],月比較[[#This Row],[月]],家計簿[勘定科目],月比較[[#Headers],[配当金]])","v":0},{"$f":"SUMIFS(家計簿[金額],家計簿[年],月比較[[#This Row],[年]],家計簿[月],月比較[[#This Row],[月]],家計簿[勘定科目],月比較[[#Headers],[特別収入]])","v":0},{"$f":"SUMIFS(家計簿[金額],家計簿[年],月比較[[#This Row],[年]],家計簿[月],月比較[[#This Row],[月]],家計簿[勘定科目],月比較[[#Headers],[家賃]])","v":0},{"$f":"SUMIFS(家計簿[金額],家計簿[年],月比較[[#This Row],[年]],家計簿[月],月比較[[#This Row],[月]],家計簿[勘定科目],月比較[[#Headers],[電気代]])","v":0},{"$f":"SUMIFS(家計簿[金額],家計簿[年],月比較[[#This Row],[年]],家計簿[月],月比較[[#This Row],[月]],家計簿[勘定科目],月比較[[#Headers],[ガス代]])","v":0},{"$f":"SUMIFS(家計簿[金額],家計簿[年],月比較[[#This Row],[年]],家計簿[月],月比較[[#This Row],[月]],家計簿[勘定科目],月比較[[#Headers],[水道代]])","v":0},{"$f":"SUMIFS(家計簿[金額],家計簿[年],月比較[[#This Row],[年]],家計簿[月],月比較[[#This Row],[月]],家計簿[勘定科目],月比較[[#Headers],[通信費]])","v":0},{"$f":"SUMIFS(家計簿[金額],家計簿[年],月比較[[#This Row],[年]],家計簿[月],月比較[[#This Row],[月]],家計簿[勘定科目],月比較[[#Headers],[保険代]])","v":0},{"$f":"SUMIFS(家計簿[金額],家計簿[年],月比較[[#This Row],[年]],家計簿[月],月比較[[#This Row],[月]],家計簿[勘定科目],月比較[[#Headers],[サブスク]])","v":0},{"$f":"SUMIFS(家計簿[金額],家計簿[年],月比較[[#This Row],[年]],家計簿[月],月比較[[#This Row],[月]],家計簿[勘定科目],月比較[[#Headers],[税金（固定資産、自動車）]])","v":0},{"$f":"SUMIFS(家計簿[金額],家計簿[年],月比較[[#This Row],[年]],家計簿[月],月比較[[#This Row],[月]],家計簿[勘定科目],月比較[[#Headers],[食費]])","v":0},{"$f":"SUMIFS(家計簿[金額],家計簿[年],月比較[[#This Row],[年]],家計簿[月],月比較[[#This Row],[月]],家計簿[勘定科目],月比較[[#Headers],[日用品]])","v":0},{"$f":"SUMIFS(家計簿[金額],家計簿[年],月比較[[#This Row],[年]],家計簿[月],月比較[[#This Row],[月]],家計簿[勘定科目],月比較[[#Headers],[衣服]])","v":0},{"$f":"SUMIFS(家計簿[金額],家計簿[年],月比較[[#This Row],[年]],家計簿[月],月比較[[#This Row],[月]],家計簿[勘定科目],月比較[[#Headers],[教育費]])","v":0},{"$f":"SUMIFS(家計簿[金額],家計簿[年],月比較[[#This Row],[年]],家計簿[月],月比較[[#This Row],[月]],家計簿[勘定科目],月比較[[#Headers],[外食費]])","v":0},{"$f":"SUMIFS(家計簿[金額],家計簿[年],月比較[[#This Row],[年]],家計簿[月],月比較[[#This Row],[月]],家計簿[勘定科目],月比較[[#Headers],[移動費]])","v":0},{"$f":"SUMIFS(家計簿[金額],家計簿[年],月比較[[#This Row],[年]],家計簿[月],月比較[[#This Row],[月]],家計簿[勘定科目],月比較[[#Headers],[旅費]])","v":0},{"$f":"SUMIFS(家計簿[金額],家計簿[年],月比較[[#This Row],[年]],家計簿[月],月比較[[#This Row],[月]],家計簿[勘定科目],月比較[[#Headers],[娯楽費]])","v":0},{"$f":"SUMIFS(家計簿[金額],家計簿[年],月比較[[#This Row],[年]],家計簿[月],月比較[[#This Row],[月]],家計簿[勘定科目],月比較[[#Headers],[医療費]])","v":0},{"$f":"SUMIFS(家計簿[金額],家計簿[年],月比較[[#This Row],[年]],家計簿[月],月比較[[#This Row],[月]],家計簿[勘定科目],月比較[[#Headers],[特別出費]])","v":0}]
[null,null,{"$f":"IF(月比較[[#This Row],[月]]=1,C29+1,C29)","v":2025},1,{"$f":"DATE(月比較[[#This Row],[年]],月比較[[#This Row],[月]],1)","v":"2025-01-01"},{"$f":"SUMIFS(家計簿[金額],家計簿[年],月比較[[#This Row],[年]],家計簿[月],月比較[[#This Row],[月]],家計簿[収入/支出],月比較[[#Headers],[収入]])","v":0},{"$f":"SUMIFS(家計簿[金額],家計簿[年],月比較[[#This Row],[年]],家計簿[月],月比較[[#This Row],[月]],家計簿[収入/支出],月比較[[#Headers],[支出]])","v":0},{"$f":"SUMIFS(家計簿[金額],家計簿[年],月比較[[#This Row],[年]],家計簿[月],月比較[[#This Row],[月]],家計簿[固定費/変動費],月比較[[#Headers],[固定費]])","v":0},{"$f":"SUMIFS(家計簿[金額],家計簿[年],月比較[[#This Row],[年]],家計簿[月],月比較[[#This Row],[月]],家計簿[固定費/変動費],月比較[[#Headers],[変動費]])","v":0},{"$f":"SUMIFS(家計簿[金額],家計簿[年],月比較[[#This Row],[年]],家計簿[月],月比較[[#This Row],[月]],家計簿[勘定科目],月比較[[#Headers],[給料]])","v":0},{"$f":"SUMIFS(家計簿[金額],家計簿[年],月比較[[#This Row],[年]],家計簿[月],月比較[[#This Row],[月]],家計簿[勘定科目],月比較[[#Headers],[ボーナス]])","v":0},{"$f":"SUMIFS(家計簿[金額],家計簿[年],月比較[[#This Row],[年]],家計簿[月],月比較[[#This Row],[月]],家計簿[勘定科目],月比較[[#Headers],[家賃補助]])","v":0},{"$f":"SUMIFS(家計簿[金額],家計簿[年],月比較[[#This Row],[年]],家計簿[月],月比較[[#This Row],[月]],家計簿[勘定科目],月比較[[#Headers],[児童手当]])","v":0},{"$f":"SUMIFS(家計簿[金額],家計簿[年],月比較[[#This Row],[年]],家計簿[月],月比較[[#This Row],[月]],家計簿[勘定科目],月比較[[#Headers],[配当金]])","v":0},{"$f":"SUMIFS(家計簿[金額],家計簿[年],月比較[[#This Row],[年]],家計簿[月],月比較[[#This Row],[月]],家計簿[勘定科目],月比較[[#Headers],[特別収入]])","v":0},{"$f":"SUMIFS(家計簿[金額],家計簿[年],月比較[[#This Row],[年]],家計簿[月],月比較[[#This Row],[月]],家計簿[勘定科目],月比較[[#Headers],[家賃]])","v":0},{"$f":"SUMIFS(家計簿[金額],家計簿[年],月比較[[#This Row],[年]],家計簿[月],月比較[[#This Row],[月]],家計簿[勘定科目],月比較[[#Headers],[電気代]])","v":0},{"$f":"SUMIFS(家計簿[金額],家計簿[年],月比較[[#This Row],[年]],家計簿[月],月比較[[#This Row],[月]],家計簿[勘定科目],月比較[[#Headers],[ガス代]])","v":0},{"$f":"SUMIFS(家計簿[金額],家計簿[年],月比較[[#This Row],[年]],家計簿[月],月比較[[#This Row],[月]],家計簿[勘定科目],月比較[[#Headers],[水道代]])","v":0},{"$f":"SUMIFS(家計簿[金額],家計簿[年],月比較[[#This Row],[年]],家計簿[月],月比較[[#This Row],[月]],家計簿[勘定科目],月比較[[#Headers],[通信費]])","v":0},{"$f":"SUMIFS(家計簿[金額],家計簿[年],月比較[[#This Row],[年]],家計簿[月],月比較[[#This Row],[月]],家計簿[勘定科目],月比較[[#Headers],[保険代]])","v":0},{"$f":"SUMIFS(家計簿[金額],家計簿[年],月比較[[#This Row],[年]],家計簿[月],月比較[[#This Row],[月]],家計簿[勘定科目],月比較[[#Headers],[サブスク]])","v":0},{"$f":"SUMIFS(家計簿[金額],家計簿[年],月比較[[#This Row],[年]],家計簿[月],月比較[[#This Row],[月]],家計簿[勘定科目],月比較[[#Headers],[税金（固定資産、自動車）]])","v":0},{"$f":"SUMIFS(家計簿[金額],家計簿[年],月比較[[#This Row],[年]],家計簿[月],月比較[[#This Row],[月]],家計簿[勘定科目],月比較[[#Headers],[食費]])","v":0},{"$f":"SUMIFS(家計簿[金額],家計簿[年],月比較[[#This Row],[年]],家計簿[月],月比較[[#This Row],[月]],家計簿[勘定科目],月比較[[#Headers],[日用品]])","v":0},{"$f":"SUMIFS(家計簿[金額],家計簿[年],月比較[[#This Row],[年]],家計簿[月],月比較[[#This Row],[月]],家計簿[勘定科目],月比較[[#Headers],[衣服]])","v":0},{"$f":"SUMIFS(家計簿[金額],家計簿[年],月比較[[#This Row],[年]],家計簿[月],月比較[[#This Row],[月]],家計簿[勘定科目],月比較[[#Headers],[教育費]])","v":0},{"$f":"SUMIFS(家計簿[金額],家計簿[年],月比較[[#This Row],[年]],家計簿[月],月比較[[#This Row],[月]],家計簿[勘定科目],月比較[[#Headers],[外食費]])","v":0},{"$f":"SUMIFS(家計簿[金額],家計簿[年],月比較[[#This Row],[年]],家計簿[月],月比較[[#This Row],[月]],家計簿[勘定科目],月比較[[#Headers],[移動費]])","v":0},{"$f":"SUMIFS(家計簿[金額],家計簿[年],月比較[[#This Row],[年]],家計簿[月],月比較[[#This Row],[月]],家計簿[勘定科目],月比較[[#Headers],[旅費]])","v":0},{"$f":"SUMIFS(家計簿[金額],家計簿[年],月比較[[#This Row],[年]],家計簿[月],月比較[[#This Row],[月]],家計簿[勘定科目],月比較[[#Headers],[娯楽費]])","v":0},{"$f":"SUMIFS(家計簿[金額],家計簿[年],月比較[[#This Row],[年]],家計簿[月],月比較[[#This Row],[月]],家計簿[勘定科目],月比較[[#Headers],[医療費]])","v":0},{"$f":"SUMIFS(家計簿[金額],家計簿[年],月比較[[#This Row],[年]],家計簿[月],月比較[[#This Row],[月]],家計簿[勘定科目],月比較[[#Headers],[特別出費]])","v":0}]
[null,null,{"$f":"IF(月比較[[#This Row],[月]]=1,C30+1,C30)","v":2025},2,{"$f":"DATE(月比較[[#This Row],[年]],月比較[[#This Row],[月]],1)","v":"2025-02-01"},{"$f":"SUMIFS(家計簿[金額],家計簿[年],月比較[[#This Row],[年]],家計簿[月],月比較[[#This Row],[月]],家計簿[収入/支出],月比較[[#Headers],[収入]])","v":0},{"$f":"SUMIFS(家計簿[金額],家計簿[年],月比較[[#This Row],[年]],家計簿[月],月比較[[#This Row],[月]],家計簿[収入/支出],月比較[[#Headers],[支出]])","v":0},{"$f":"SUMIFS(家計簿[金額],家計簿[年],月比較[[#This Row],[年]],家計簿[月],月比較[[#This Row],[月]],家計簿[固定費/変動費],月比較[[#Headers],[固定費]])","v":0},{"$f":"SUMIFS(家計簿[金額],家計簿[年],月比較[[#This Row],[年]],家計簿[月],月比較[[#This Row],[月]],家計簿[固定費/変動費],月比較[[#Headers],[変動費]])","v":0},{"$f":"SUMIFS(家計簿[金額],家計簿[年],月比較[[#This Row],[年]],家計簿[月],月比較[[#This Row],[月]],家計簿[勘定科目],月比較[[#Headers],[給料]])","v":0},{"$f":"SUMIFS(家計簿[金額],家計簿[年],月比較[[#This Row],[年]],家計簿[月],月比較[[#This Row],[月]],家計簿[勘定科目],月比較[[#Headers],[ボーナス]])","v":0},{"$f":"SUMIFS(家計簿[金額],家計簿[年],月比較[[#This Row],[年]],家計簿[月],月比較[[#This Row],[月]],家計簿[勘定科目],月比較[[#Headers],[家賃補助]])","v":0},{"$f":"SUMIFS(家計簿[金額],家計簿[年],月比較[[#This Row],[年]],家計簿[月],月比較[[#This Row],[月]],家計簿[勘定科目],月比較[[#Headers],[児童手当]])","v":0},{"$f":"SUMIFS(家計簿[金額],家計簿[年],月比較[[#This Row],[年]],家計簿[月],月比較[[#This Row],[月]],家計簿[勘定科目],月比較[[#Headers],[配当金]])","v":0},{"$f":"SUMIFS(家計簿[金額],家計簿[年],月比較[[#This Row],[年]],家計簿[月],月比較[[#This Row],[月]],家計簿[勘定科目],月比較[[#Headers],[特別収入]])","v":0},{"$f":"SUMIFS(家計簿[金額],家計簿[年],月比較[[#This Row],[年]],家計簿[月],月比較[[#This Row],[月]],家計簿[勘定科目],月比較[[#Headers],[家賃]])","v":0},{"$f":"SUMIFS(家計簿[金額],家計簿[年],月比較[[#This Row],[年]],家計簿[月],月比較[[#This Row],[月]],家計簿[勘定科目],月比較[[#Headers],[電気代]])","v":0},{"$f":"SUMIFS(家計簿[金額],家計簿[年],月比較[[#This Row],[年]],家計簿[月],月比較[[#This Row],[月]],家計簿[勘定科目],月比較[[#Headers],[ガス代]])","v":0},{"$f":"SUMIFS(家計簿[金額],家計簿[年],月比較[[#This Row],[年]],家計簿[月],月比較[[#This Row],[月]],家計簿[勘定科目],月比較[[#Headers],[水道代]])","v":0},{"$f":"SUMIFS(家計簿[金額],家計簿[年],月比較[[#This Row],[年]],家計簿[月],月比較[[#This Row],[月]],家計簿[勘定科目],月比較[[#Headers],[通信費]])","v":0},{"$f":"SUMIFS(家計簿[金額],家計簿[年],月比較[[#This Row],[年]],家計簿[月],月比較[[#This Row],[月]],家計簿[勘定科目],月比較[[#Headers],[保険代]])","v":0},{"$f":"SUMIFS(家計簿[金額],家計簿[年],月比較[[#This Row],[年]],家計簿[月],月比較[[#This Row],[月]],家計簿[勘定科目],月比較[[#Headers],[サブスク]])","v":0},{"$f":"SUMIFS(家計簿[金額],家計簿[年],月比較[[#This Row],[年]],家計簿[月],月比較[[#This Row],[月]],家計簿[勘定科目],月比較[[#Headers],[税金（固定資産、自動車）]])","v":0},{"$f":"SUMIFS(家計簿[金額],家計簿[年],月比較[[#This Row],[年]],家計簿[月],月比較[[#This Row],[月]],家計簿[勘定科目],月比較[[#Headers],[食費]])","v":0},{"$f":"SUMIFS(家計簿[金額],家計簿[年],月比較[[#This Row],[年]],家計簿[月],月比較[[#This Row],[月]],家計簿[勘定科目],月比較[[#Headers],[日用品]])","v":0},{"$f":"SUMIFS(家計簿[金額],家計簿[年],月比較[[#This Row],[年]],家計簿[月],月比較[[#This Row],[月]],家計簿[勘定科目],月比較[[#Headers],[衣服]])","v":0},{"$f":"SUMIFS(家計簿[金額],家計簿[年],月比較[[#This Row],[年]],家計簿[月],月比較[[#This Row],[月]],家計簿[勘定科目],月比較[[#Headers],[教育費]])","v":0},{"$f":"SUMIFS(家計簿[金額],家計簿[年],月比較[[#This Row],[年]],家計簿[月],月比較[[#This Row],[月]],家計簿[勘定科目],月比較[[#Headers],[外食費]])","v":0},{"$f":"SUMIFS(家計簿[金額],家計簿[年],月比較[[#This Row],[年]],家計簿[月],月比較[[#This Row],[月]],家計簿[勘定科目],月比較[[#Headers],[移動費]])","v":0},{"$f":"SUMIFS(家計簿[金額],家計簿[年],月比較[[#This Row],[年]],家計簿[月],月比較[[#This Row],[月]],家計簿[勘定科目],月比較[[#Headers],[旅費]])","v":0},{"$f":"SUMIFS(家計簿[金額],家計簿[年],月比較[[#This Row],[年]],家計簿[月],月比較[[#This Row],[月]],家計簿[勘定科目],月比較[[#Headers],[娯楽費]])","v":0},{"$f":"SUMIFS(家計簿[金額],家計簿[年],月比較[[#This Row],[年]],家計簿[月],月比較[[#This Row],[月]],家計簿[勘定科目],月比較[[#Headers],[医療費]])","v":0},{"$f":"SUMIFS(家計簿[金額],家計簿[年],月比較[[#This Row],[年]],家計簿[月],月比較[[#This Row],[月]],家計簿[勘定科目],月比較[[#Headers],[特別出費]])","v":0}]
[null,null,{"$f":"IF(月比較[[#This Row],[月]]=1,C31+1,C31)","v":2025},3,{"$f":"DATE(月比較[[#This Row],[年]],月比較[[#This Row],[月]],1)","v":"2025-03-01"},{"$f":"SUMIFS(家計簿[金額],家計簿[年],月比較[[#This Row],[年]],家計簿[月],月比較[[#This Row],[月]],家計簿[収入/支出],月比較[[#Headers],[収入]])","v":0},{"$f":"SUMIFS(家計簿[金額],家計簿[年],月比較[[#This Row],[年]],家計簿[月],月比較[[#This Row],[月]],家計簿[収入/支出],月比較[[#Headers],[支出]])","v":0},{"$f":"SUMIFS(家計簿[金額],家計簿[年],月比較[[#This Row],[年]],家計簿[月],月比較[[#This Row],[月]],家計簿[固定費/変動費],月比較[[#Headers],[固定費]])","v":0},{"$f":"SUMIFS(家計簿[金額],家計簿[年],月比較[[#This Row],[年]],家計簿[月],月比較[[#This Row],[月]],家計簿[固定費/変動費],月比較[[#Headers],[変動費]])","v":0},{"$f":"SUMIFS(家計簿[金額],家計簿[年],月比較[[#This Row],[年]],家計簿[月],月比較[[#This Row],[月]],家計簿[勘定科目],月比較[[#Headers],[給料]])","v":0},{"$f":"SUMIFS(家計簿[金額],家計簿[年],月比較[[#This Row],[年]],家計簿[月],月比較[[#This Row],[月]],家計簿[勘定科目],月比較[[#Headers],[ボーナス]])","v":0},{"$f":"SUMIFS(家計簿[金額],家計簿[年],月比較[[#This Row],[年]],家計簿[月],月比較[[#This Row],[月]],家計簿[勘定科目],月比較[[#Headers],[家賃補助]])","v":0},{"$f":"SUMIFS(家計簿[金額],家計簿[年],月比較[[#This Row],[年]],家計簿[月],月比較[[#This Row],[月]],家計簿[勘定科目],月比較[[#Headers],[児童手当]])","v":0},{"$f":"SUMIFS(家計簿[金額],家計簿[年],月比較[[#This Row],[年]],家計簿[月],月比較[[#This Row],[月]],家計簿[勘定科目],月比較[[#Headers],[配当金]])","v":0},{"$f":"SUMIFS(家計簿[金額],家計簿[年],月比較[[#This Row],[年]],家計簿[月],月比較[[#This Row],[月]],家計簿[勘定科目],月比較[[#Headers],[特別収入]])","v":0},{"$f":"SUMIFS(家計簿[金額],家計簿[年],月比較[[#This Row],[年]],家計簿[月],月比較[[#This Row],[月]],家計簿[勘定科目],月比較[[#Headers],[家賃]])","v":0},{"$f":"SUMIFS(家計簿[金額],家計簿[年],月比較[[#This Row],[年]],家計簿[月],月比較[[#This Row],[月]],家計簿[勘定科目],月比較[[#Headers],[電気代]])","v":0},{"$f":"SUMIFS(家計簿[金額],家計簿[年],月比較[[#This Row],[年]],家計簿[月],月比較[[#This Row],[月]],家計簿[勘定科目],月比較[[#Headers],[ガス代]])","v":0},{"$f":"SUMIFS(家計簿[金額],家計簿[年],月比較[[#This Row],[年]],家計簿[月],月比較[[#This Row],[月]],家計簿[勘定科目],月比較[[#Headers],[水道代]])","v":0},{"$f":"SUMIFS(家計簿[金額],家計簿[年],月比較[[#This Row],[年]],家計簿[月],月比較[[#This Row],[月]],家計簿[勘定科目],月比較[[#Headers],[通信費]])","v":0},{"$f":"SUMIFS(家計簿[金額],家計簿[年],月比較[[#This Row],[年]],家計簿[月],月比較[[#This Row],[月]],家計簿[勘定科目],月比較[[#Headers],[保険代]])","v":0},{"$f":"SUMIFS(家計簿[金額],家計簿[年],月比較[[#This Row],[年]],家計簿[月],月比較[[#This Row],[月]],家計簿[勘定科目],月比較[[#Headers],[サブスク]])","v":0},{"$f":"SUMIFS(家計簿[金額],家計簿[年],月比較[[#This Row],[年]],家計簿[月],月比較[[#This Row],[月]],家計簿[勘定科目],月比較[[#Headers],[税金（固定資産、自動車）]])","v":0},{"$f":"SUMIFS(家計簿[金額],家計簿[年],月比較[[#This Row],[年]],家計簿[月],月比較[[#This Row],[月]],家計簿[勘定科目],月比較[[#Headers],[食費]])","v":0},{"$f":"SUMIFS(家計簿[金額],家計簿[年],月比較[[#This Row],[年]],家計簿[月],月比較[[#This Row],[月]],家計簿[勘定科目],月比較[[#Headers],[日用品]])","v":0},{"$f":"SUMIFS(家計簿[金額],家計簿[年],月比較[[#This Row],[年]],家計簿[月],月比較[[#This Row],[月]],家計簿[勘定科目],月比較[[#Headers],[衣服]])","v":0},{"$f":"SUMIFS(家計簿[金額],家計簿[年],月比較[[#This Row],[年]],家計簿[月],月比較[[#This Row],[月]],家計簿[勘定科目],月比較[[#Headers],[教育費]])","v":0},{"$f":"SUMIFS(家計簿[金額],家計簿[年],月比較[[#This Row],[年]],家計簿[月],月比較[[#This Row],[月]],家計簿[勘定科目],月比較[[#Headers],[外食費]])","v":0},{"$f":"SUMIFS(家計簿[金額],家計簿[年],月比較[[#This Row],[年]],家計簿[月],月比較[[#This Row],[月]],家計簿[勘定科目],月比較[[#Headers],[移動費]])","v":0},{"$f":"SUMIFS(家計簿[金額],家計簿[年],月比較[[#This Row],[年]],家計簿[月],月比較[[#This Row],[月]],家計簿[勘定科目],月比較[[#Headers],[旅費]])","v":0},{"$f":"SUMIFS(家計簿[金額],家計簿[年],月比較[[#This Row],[年]],家計簿[月],月比較[[#This Row],[月]],家計簿[勘定科目],月比較[[#Headers],[娯楽費]])","v":0},{"$f":"SUMIFS(家計簿[金額],家計簿[年],月比較[[#This Row],[年]],家計簿[月],月比較[[#This Row],[月]],家計簿[勘定科目],月比較[[#Headers],[医療費]])","v":0},{"$f":"SUMIFS(家計簿[金額],家計簿[年],月比較[[#This Row],[年]],家計簿[月],月比較[[#This Row],[月]],家計簿[勘定科目],月比較[[#Headers],[特別出費]])","v":0}]
[null,null,{"$f":"IF(月比較[[#This Row],[月]]=1,C32+1,C32)","v":2025},4,{"$f":"DATE(月比較[[#This Row],[年]],月比較[[#This Row],[月]],1)","v":"2025-04-01"},{"$f":"SUMIFS(家計簿[金額],家計簿[年],月比較[[#This Row],[年]],家計簿[月],月比較[[#This Row],[月]],家計簿[収入/支出],月比較[[#Headers],[収入]])","v":0},{"$f":"SUMIFS(家計簿[金額],家計簿[年],月比較[[#This Row],[年]],家計簿[月],月比較[[#This Row],[月]],家計簿[収入/支出],月比較[[#Headers],[支出]])","v":0},{"$f":"SUMIFS(家計簿[金額],家計簿[年],月比較[[#This Row],[年]],家計簿[月],月比較[[#This Row],[月]],家計簿[固定費/変動費],月比較[[#Headers],[固定費]])","v":0},{"$f":"SUMIFS(家計簿[金額],家計簿[年],月比較[[#This Row],[年]],家計簿[月],月比較[[#This Row],[月]],家計簿[固定費/変動費],月比較[[#Headers],[変動費]])","v":0},{"$f":"SUMIFS(家計簿[金額],家計簿[年],月比較[[#This Row],[年]],家計簿[月],月比較[[#This Row],[月]],家計簿[勘定科目],月比較[[#Headers],[給料]])","v":0},{"$f":"SUMIFS(家計簿[金額],家計簿[年],月比較[[#This Row],[年]],家計簿[月],月比較[[#This Row],[月]],家計簿[勘定科目],月比較[[#Headers],[ボーナス]])","v":0},{"$f":"SUMIFS(家計簿[金額],家計簿[年],月比較[[#This Row],[年]],家計簿[月],月比較[[#This Row],[月]],家計簿[勘定科目],月比較[[#Headers],[家賃補助]])","v":0},{"$f":"SUMIFS(家計簿[金額],家計簿[年],月比較[[#This Row],[年]],家計簿[月],月比較[[#This Row],[月]],家計簿[勘定科目],月比較[[#Headers],[児童手当]])","v":0},{"$f":"SUMIFS(家計簿[金額],家計簿[年],月比較[[#This Row],[年]],家計簿[月],月比較[[#This Row],[月]],家計簿[勘定科目],月比較[[#Headers],[配当金]])","v":0},{"$f":"SUMIFS(家計簿[金額],家計簿[年],月比較[[#This Row],[年]],家計簿[月],月比較[[#This Row],[月]],家計簿[勘定科目],月比較[[#Headers],[特別収入]])","v":0},{"$f":"SUMIFS(家計簿[金額],家計簿[年],月比較[[#This Row],[年]],家計簿[月],月比較[[#This Row],[月]],家計簿[勘定科目],月比較[[#Headers],[家賃]])","v":0},{"$f":"SUMIFS(家計簿[金額],家計簿[年],月比較[[#This Row],[年]],家計簿[月],月比較[[#This Row],[月]],家計簿[勘定科目],月比較[[#Headers],[電気代]])","v":0},{"$f":"SUMIFS(家計簿[金額],家計簿[年],月比較[[#This Row],[年]],家計簿[月],月比較[[#This Row],[月]],家計簿[勘定科目],月比較[[#Headers],[ガス代]])","v":0},{"$f":"SUMIFS(家計簿[金額],家計簿[年],月比較[[#This Row],[年]],家計簿[月],月比較[[#This Row],[月]],家計簿[勘定科目],月比較[[#Headers],[水道代]])","v":0},{"$f":"SUMIFS(家計簿[金額],家計簿[年],月比較[[#This Row],[年]],家計簿[月],月比較[[#This Row],[月]],家計簿[勘定科目],月比較[[#Headers],[通信費]])","v":0},{"$f":"SUMIFS(家計簿[金額],家計簿[年],月比較[[#This Row],[年]],家計簿[月],月比較[[#This Row],[月]],家計簿[勘定科目],月比較[[#Headers],[保険代]])","v":0},{"$f":"SUMIFS(家計簿[金額],家計簿[年],月比較[[#This Row],[年]],家計簿[月],月比較[[#This Row],[月]],家計簿[勘定科目],月比較[[#Headers],[サブスク]])","v":0},{"$f":"SUMIFS(家計簿[金額],家計簿[年],月比較[[#This Row],[年]],家計簿[月],月比較[[#This Row],[月]],家計簿[勘定科目],月比較[[#Headers],[税金（固定資産、自動車）]])","v":0},{"$f":"SUMIFS(家計簿[金額],家計簿[年],月比較[[#This Row],[年]],家計簿[月],月比較[[#This Row],[月]],家計簿[勘定科目],月比較[[#Headers],[食費]])","v":0},{"$f":"SUMIFS(家計簿[金額],家計簿[年],月比較[[#This Row],[年]],家計簿[月],月比較[[#This Row],[月]],家計簿[勘定科目],月比較[[#Headers],[日用品]])","v":0},{"$f":"SUMIFS(家計簿[金額],家計簿[年],月比較[[#This Row],[年]],家計簿[月],月比較[[#This Row],[月]],家計簿[勘定科目],月比較[[#Headers],[衣服]])","v":0},{"$f":"SUMIFS(家計簿[金額],家計簿[年],月比較[[#This Row],[年]],家計簿[月],月比較[[#This Row],[月]],家計簿[勘定科目],月比較[[#Headers],[教育費]])","v":0},{"$f":"SUMIFS(家計簿[金額],家計簿[年],月比較[[#This Row],[年]],家計簿[月],月比較[[#This Row],[月]],家計簿[勘定科目],月比較[[#Headers],[外食費]])","v":0},{"$f":"SUMIFS(家計簿[金額],家計簿[年],月比較[[#This Row],[年]],家計簿[月],月比較[[#This Row],[月]],家計簿[勘定科目],月比較[[#Headers],[移動費]])","v":0},{"$f":"SUMIFS(家計簿[金額],家計簿[年],月比較[[#This Row],[年]],家計簿[月],月比較[[#This Row],[月]],家計簿[勘定科目],月比較[[#Headers],[旅費]])","v":0},{"$f":"SUMIFS(家計簿[金額],家計簿[年],月比較[[#This Row],[年]],家計簿[月],月比較[[#This Row],[月]],家計簿[勘定科目],月比較[[#Headers],[娯楽費]])","v":0},{"$f":"SUMIFS(家計簿[金額],家計簿[年],月比較[[#This Row],[年]],家計簿[月],月比較[[#This Row],[月]],家計簿[勘定科目],月比較[[#Headers],[医療費]])","v":0},{"$f":"SUMIFS(家計簿[金額],家計簿[年],月比較[[#This Row],[年]],家計簿[月],月比較[[#This Row],[月]],家計簿[勘定科目],月比較[[#Headers],[特別出費]])","v":0}]
[null,null,{"$f":"IF(月比較[[#This Row],[月]]=1,C33+1,C33)","v":2025},5,{"$f":"DATE(月比較[[#This Row],[年]],月比較[[#This Row],[月]],1)","v":"2025-05-01"},{"$f":"SUMIFS(家計簿[金額],家計簿[年],月比較[[#This Row],[年]],家計簿[月],月比較[[#This Row],[月]],家計簿[収入/支出],月比較[[#Headers],[収入]])","v":0},{"$f":"SUMIFS(家計簿[金額],家計簿[年],月比較[[#This Row],[年]],家計簿[月],月比較[[#This Row],[月]],家計簿[収入/支出],月比較[[#Headers],[支出]])","v":0},{"$f":"SUMIFS(家計簿[金額],家計簿[年],月比較[[#This Row],[年]],家計簿[月],月比較[[#This Row],[月]],家計簿[固定費/変動費],月比較[[#Headers],[固定費]])","v":0},{"$f":"SUMIFS(家計簿[金額],家計簿[年],月比較[[#This Row],[年]],家計簿[月],月比較[[#This Row],[月]],家計簿[固定費/変動費],月比較[[#Headers],[変動費]])","v":0},{"$f":"SUMIFS(家計簿[金額],家計簿[年],月比較[[#This Row],[年]],家計簿[月],月比較[[#This Row],[月]],家計簿[勘定科目],月比較[[#Headers],[給料]])","v":0},{"$f":"SUMIFS(家計簿[金額],家計簿[年],月比較[[#This Row],[年]],家計簿[月],月比較[[#This Row],[月]],家計簿[勘定科目],月比較[[#Headers],[ボーナス]])","v":0},{"$f":"SUMIFS(家計簿[金額],家計簿[年],月比較[[#This Row],[年]],家計簿[月],月比較[[#This Row],[月]],家計簿[勘定科目],月比較[[#Headers],[家賃補助]])","v":0},{"$f":"SUMIFS(家計簿[金額],家計簿[年],月比較[[#This Row],[年]],家計簿[月],月比較[[#This Row],[月]],家計簿[勘定科目],月比較[[#Headers],[児童手当]])","v":0},{"$f":"SUMIFS(家計簿[金額],家計簿[年],月比較[[#This Row],[年]],家計簿[月],月比較[[#This Row],[月]],家計簿[勘定科目],月比較[[#Headers],[配当金]])","v":0},{"$f":"SUMIFS(家計簿[金額],家計簿[年],月比較[[#This Row],[年]],家計簿[月],月比較[[#This Row],[月]],家計簿[勘定科目],月比較[[#Headers],[特別収入]])","v":0},{"$f":"SUMIFS(家計簿[金額],家計簿[年],月比較[[#This Row],[年]],家計簿[月],月比較[[#This Row],[月]],家計簿[勘定科目],月比較[[#Headers],[家賃]])","v":0},{"$f":"SUMIFS(家計簿[金額],家計簿[年],月比較[[#This Row],[年]],家計簿[月],月比較[[#This Row],[月]],家計簿[勘定科目],月比較[[#Headers],[電気代]])","v":0},{"$f":"SUMIFS(家計簿[金額],家計簿[年],月比較[[#This Row],[年]],家計簿[月],月比較[[#This Row],[月]],家計簿[勘定科目],月比較[[#Headers],[ガス代]])","v":0},{"$f":"SUMIFS(家計簿[金額],家計簿[年],月比較[[#This Row],[年]],家計簿[月],月比較[[#This Row],[月]],家計簿[勘定科目],月比較[[#Headers],[水道代]])","v":0},{"$f":"SUMIFS(家計簿[金額],家計簿[年],月比較[[#This Row],[年]],家計簿[月],月比較[[#This Row],[月]],家計簿[勘定科目],月比較[[#Headers],[通信費]])","v":0},{"$f":"SUMIFS(家計簿[金額],家計簿[年],月比較[[#This Row],[年]],家計簿[月],月比較[[#This Row],[月]],家計簿[勘定科目],月比較[[#Headers],[保険代]])","v":0},{"$f":"SUMIFS(家計簿[金額],家計簿[年],月比較[[#This Row],[年]],家計簿[月],月比較[[#This Row],[月]],家計簿[勘定科目],月比較[[#Headers],[サブスク]])","v":0},{"$f":"SUMIFS(家計簿[金額],家計簿[年],月比較[[#This Row],[年]],家計簿[月],月比較[[#This Row],[月]],家計簿[勘定科目],月比較[[#Headers],[税金（固定資産、自動車）]])","v":0},{"$f":"SUMIFS(家計簿[金額],家計簿[年],月比較[[#This Row],[年]],家計簿[月],月比較[[#This Row],[月]],家計簿[勘定科目],月比較[[#Headers],[食費]])","v":0},{"$f":"SUMIFS(家計簿[金額],家計簿[年],月比較[[#This Row],[年]],家計簿[月],月比較[[#This Row],[月]],家計簿[勘定科目],月比較[[#Headers],[日用品]])","v":0},{"$f":"SUMIFS(家計簿[金額],家計簿[年],月比較[[#This Row],[年]],家計簿[月],月比較[[#This Row],[月]],家計簿[勘定科目],月比較[[#Headers],[衣服]])","v":0},{"$f":"SUMIFS(家計簿[金額],家計簿[年],月比較[[#This Row],[年]],家計簿[月],月比較[[#This Row],[月]],家計簿[勘定科目],月比較[[#Headers],[教育費]])","v":0},{"$f":"SUMIFS(家計簿[金額],家計簿[年],月比較[[#This Row],[年]],家計簿[月],月比較[[#This Row],[月]],家計簿[勘定科目],月比較[[#Headers],[外食費]])","v":0},{"$f":"SUMIFS(家計簿[金額],家計簿[年],月比較[[#This Row],[年]],家計簿[月],月比較[[#This Row],[月]],家計簿[勘定科目],月比較[[#Headers],[移動費]])","v":0},{"$f":"SUMIFS(家計簿[金額],家計簿[年],月比較[[#This Row],[年]],家計簿[月],月比較[[#This Row],[月]],家計簿[勘定科目],月比較[[#Headers],[旅費]])","v":0},{"$f":"SUMIFS(家計簿[金額],家計簿[年],月比較[[#This Row],[年]],家計簿[月],月比較[[#This Row],[月]],家計簿[勘定科目],月比較[[#Headers],[娯楽費]])","v":0},{"$f":"SUMIFS(家計簿[金額],家計簿[年],月比較[[#This Row],[年]],家計簿[月],月比較[[#This Row],[月]],家計簿[勘定科目],月比較[[#Headers],[医療費]])","v":0},{"$f":"SUMIFS(家計簿[金額],家計簿[年],月比較[[#This Row],[年]],家計簿[月],月比較[[#This Row],[月]],家計簿[勘定科目],月比較[[#Headers],[特別出費]])","v":0}]
[null,null,{"$f":"IF(月比較[[#This Row],[月]]=1,C34+1,C34)","v":2025},6,{"$f":"DATE(月比較[[#This Row],[年]],月比較[[#This Row],[月]],1)","v":"2025-06-01"},{"$f":"SUMIFS(家計簿[金額],家計簿[年],月比較[[#This Row],[年]],家計簿[月],月比較[[#This Row],[月]],家計簿[収入/支出],月比較[[#Headers],[収入]])","v":0},{"$f":"SUMIFS(家計簿[金額],家計簿[年],月比較[[#This Row],[年]],家計簿[月],月比較[[#This Row],[月]],家計簿[収入/支出],月比較[[#Headers],[支出]])","v":0},{"$f":"SUMIFS(家計簿[金額],家計簿[年],月比較[[#This Row],[年]],家計簿[月],月比較[[#This Row],[月]],家計簿[固定費/変動費],月比較[[#Headers],[固定費]])","v":0},{"$f":"SUMIFS(家計簿[金額],家計簿[年],月比較[[#This Row],[年]],家計簿[月],月比較[[#This Row],[月]],家計簿[固定費/変動費],月比較[[#Headers],[変動費]])","v":0},{"$f":"SUMIFS(家計簿[金額],家計簿[年],月比較[[#This Row],[年]],家計簿[月],月比較[[#This Row],[月]],家計簿[勘定科目],月比較[[#Headers],[給料]])","v":0},{"$f":"SUMIFS(家計簿[金額],家計簿[年],月比較[[#This Row],[年]],家計簿[月],月比較[[#This Row],[月]],家計簿[勘定科目],月比較[[#Headers],[ボーナス]])","v":0},{"$f":"SUMIFS(家計簿[金額],家計簿[年],月比較[[#This Row],[年]],家計簿[月],月比較[[#This Row],[月]],家計簿[勘定科目],月比較[[#Headers],[家賃補助]])","v":0},{"$f":"SUMIFS(家計簿[金額],家計簿[年],月比較[[#This Row],[年]],家計簿[月],月比較[[#This Row],[月]],家計簿[勘定科目],月比較[[#Headers],[児童手当]])","v":0},{"$f":"SUMIFS(家計簿[金額],家計簿[年],月比較[[#This Row],[年]],家計簿[月],月比較[[#This Row],[月]],家計簿[勘定科目],月比較[[#Headers],[配当金]])","v":0},{"$f":"SUMIFS(家計簿[金額],家計簿[年],月比較[[#This Row],[年]],家計簿[月],月比較[[#This Row],[月]],家計簿[勘定科目],月比較[[#Headers],[特別収入]])","v":0},{"$f":"SUMIFS(家計簿[金額],家計簿[年],月比較[[#This Row],[年]],家計簿[月],月比較[[#This Row],[月]],家計簿[勘定科目],月比較[[#Headers],[家賃]])","v":0},{"$f":"SUMIFS(家計簿[金額],家計簿[年],月比較[[#This Row],[年]],家計簿[月],月比較[[#This Row],[月]],家計簿[勘定科目],月比較[[#Headers],[電気代]])","v":0},{"$f":"SUMIFS(家計簿[金額],家計簿[年],月比較[[#This Row],[年]],家計簿[月],月比較[[#This Row],[月]],家計簿[勘定科目],月比較[[#Headers],[ガス代]])","v":0},{"$f":"SUMIFS(家計簿[金額],家計簿[年],月比較[[#This Row],[年]],家計簿[月],月比較[[#This Row],[月]],家計簿[勘定科目],月比較[[#Headers],[水道代]])","v":0},{"$f":"SUMIFS(家計簿[金額],家計簿[年],月比較[[#This Row],[年]],家計簿[月],月比較[[#This Row],[月]],家計簿[勘定科目],月比較[[#Headers],[通信費]])","v":0},{"$f":"SUMIFS(家計簿[金額],家計簿[年],月比較[[#This Row],[年]],家計簿[月],月比較[[#This Row],[月]],家計簿[勘定科目],月比較[[#Headers],[保険代]])","v":0},{"$f":"SUMIFS(家計簿[金額],家計簿[年],月比較[[#This Row],[年]],家計簿[月],月比較[[#This Row],[月]],家計簿[勘定科目],月比較[[#Headers],[サブスク]])","v":0},{"$f":"SUMIFS(家計簿[金額],家計簿[年],月比較[[#This Row],[年]],家計簿[月],月比較[[#This Row],[月]],家計簿[勘定科目],月比較[[#Headers],[税金（固定資産、自動車）]])","v":0},{"$f":"SUMIFS(家計簿[金額],家計簿[年],月比較[[#This Row],[年]],家計簿[月],月比較[[#This Row],[月]],家計簿[勘定科目],月比較[[#Headers],[食費]])","v":0},{"$f":"SUMIFS(家計簿[金額],家計簿[年],月比較[[#This Row],[年]],家計簿[月],月比較[[#This Row],[月]],家計簿[勘定科目],月比較[[#Headers],[日用品]])","v":0},{"$f":"SUMIFS(家計簿[金額],家計簿[年],月比較[[#This Row],[年]],家計簿[月],月比較[[#This Row],[月]],家計簿[勘定科目],月比較[[#Headers],[衣服]])","v":0},{"$f":"SUMIFS(家計簿[金額],家計簿[年],月比較[[#This Row],[年]],家計簿[月],月比較[[#This Row],[月]],家計簿[勘定科目],月比較[[#Headers],[教育費]])","v":0},{"$f":"SUMIFS(家計簿[金額],家計簿[年],月比較[[#This Row],[年]],家計簿[月],月比較[[#This Row],[月]],家計簿[勘定科目],月比較[[#Headers],[外食費]])","v":0},{"$f":"SUMIFS(家計簿[金額],家計簿[年],月比較[[#This Row],[年]],家計簿[月],月比較[[#This Row],[月]],家計簿[勘定科目],月比較[[#Headers],[移動費]])","v":0},{"$f":"SUMIFS(家計簿[金額],家計簿[年],月比較[[#This Row],[年]],家計簿[月],月比較[[#This Row],[月]],家計簿[勘定科目],月比較[[#Headers],[旅費]])","v":0},{"$f":"SUMIFS(家計簿[金額],家計簿[年],月比較[[#This Row],[年]],家計簿[月],月比較[[#This Row],[月]],家計簿[勘定科目],月比較[[#Headers],[娯楽費]])","v":0},{"$f":"SUMIFS(家計簿[金額],家計簿[年],月比較[[#This Row],[年]],家計簿[月],月比較[[#This Row],[月]],家計簿[勘定科目],月比較[[#Headers],[医療費]])","v":0},{"$f":"SUMIFS(家計簿[金額],家計簿[年],月比較[[#This Row],[年]],家計簿[月],月比較[[#This Row],[月]],家計簿[勘定科目],月比較[[#Headers],[特別出費]])","v":0}]
[null,null,{"$f":"IF(月比較[[#This Row],[月]]=1,C35+1,C35)","v":2025},7,{"$f":"DATE(月比較[[#This Row],[年]],月比較[[#This Row],[月]],1)","v":"2025-07-01"},{"$f":"SUMIFS(家計簿[金額],家計簿[年],月比較[[#This Row],[年]],家計簿[月],月比較[[#This Row],[月]],家計簿[収入/支出],月比較[[#Headers],[収入]])","v":0},{"$f":"SUMIFS(家計簿[金額],家計簿[年],月比較[[#This Row],[年]],家計簿[月],月比較[[#This Row],[月]],家計簿[収入/支出],月比較[[#Headers],[支出]])","v":0},{"$f":"SUMIFS(家計簿[金額],家計簿[年],月比較[[#This Row],[年]],家計簿[月],月比較[[#This Row],[月]],家計簿[固定費/変動費],月比較[[#Headers],[固定費]])","v":0},{"$f":"SUMIFS(家計簿[金額],家計簿[年],月比較[[#This Row],[年]],家計簿[月],月比較[[#This Row],[月]],家計簿[固定費/変動費],月比較[[#Headers],[変動費]])","v":0},{"$f":"SUMIFS(家計簿[金額],家計簿[年],月比較[[#This Row],[年]],家計簿[月],月比較[[#This Row],[月]],家計簿[勘定科目],月比較[[#Headers],[給料]])","v":0},{"$f":"SUMIFS(家計簿[金額],家計簿[年],月比較[[#This Row],[年]],家計簿[月],月比較[[#This Row],[月]],家計簿[勘定科目],月比較[[#Headers],[ボーナス]])","v":0},{"$f":"SUMIFS(家計簿[金額],家計簿[年],月比較[[#This Row],[年]],家計簿[月],月比較[[#This Row],[月]],家計簿[勘定科目],月比較[[#Headers],[家賃補助]])","v":0},{"$f":"SUMIFS(家計簿[金額],家計簿[年],月比較[[#This Row],[年]],家計簿[月],月比較[[#This Row],[月]],家計簿[勘定科目],月比較[[#Headers],[児童手当]])","v":0},{"$f":"SUMIFS(家計簿[金額],家計簿[年],月比較[[#This Row],[年]],家計簿[月],月比較[[#This Row],[月]],家計簿[勘定科目],月比較[[#Headers],[配当金]])","v":0},{"$f":"SUMIFS(家計簿[金額],家計簿[年],月比較[[#This Row],[年]],家計簿[月],月比較[[#This Row],[月]],家計簿[勘定科目],月比較[[#Headers],[特別収入]])","v":0},{"$f":"SUMIFS(家計簿[金額],家計簿[年],月比較[[#This Row],[年]],家計簿[月],月比較[[#This Row],[月]],家計簿[勘定科目],月比較[[#Headers],[家賃]])","v":0},{"$f":"SUMIFS(家計簿[金額],家計簿[年],月比較[[#This Row],[年]],家計簿[月],月比較[[#This Row],[月]],家計簿[勘定科目],月比較[[#Headers],[電気代]])","v":0},{"$f":"SUMIFS(家計簿[金額],家計簿[年],月比較[[#This Row],[年]],家計簿[月],月比較[[#This Row],[月]],家計簿[勘定科目],月比較[[#Headers],[ガス代]])","v":0},{"$f":"SUMIFS(家計簿[金額],家計簿[年],月比較[[#This Row],[年]],家計簿[月],月比較[[#This Row],[月]],家計簿[勘定科目],月比較[[#Headers],[水道代]])","v":0},{"$f":"SUMIFS(家計簿[金額],家計簿[年],月比較[[#This Row],[年]],家計簿[月],月比較[[#This Row],[月]],家計簿[勘定科目],月比較[[#Headers],[通信費]])","v":0},{"$f":"SUMIFS(家計簿[金額],家計簿[年],月比較[[#This Row],[年]],家計簿[月],月比較[[#This Row],[月]],家計簿[勘定科目],月比較[[#Headers],[保険代]])","v":0},{"$f":"SUMIFS(家計簿[金額],家計簿[年],月比較[[#This Row],[年]],家計簿[月],月比較[[#This Row],[月]],家計簿[勘定科目],月比較[[#Headers],[サブスク]])","v":0},{"$f":"SUMIFS(家計簿[金額],家計簿[年],月比較[[#This Row],[年]],家計簿[月],月比較[[#This Row],[月]],家計簿[勘定科目],月比較[[#Headers],[税金（固定資産、自動車）]])","v":0},{"$f":"SUMIFS(家計簿[金額],家計簿[年],月比較[[#This Row],[年]],家計簿[月],月比較[[#This Row],[月]],家計簿[勘定科目],月比較[[#Headers],[食費]])","v":0},{"$f":"SUMIFS(家計簿[金額],家計簿[年],月比較[[#This Row],[年]],家計簿[月],月比較[[#This Row],[月]],家計簿[勘定科目],月比較[[#Headers],[日用品]])","v":0},{"$f":"SUMIFS(家計簿[金額],家計簿[年],月比較[[#This Row],[年]],家計簿[月],月比較[[#This Row],[月]],家計簿[勘定科目],月比較[[#Headers],[衣服]])","v":0},{"$f":"SUMIFS(家計簿[金額],家計簿[年],月比較[[#This Row],[年]],家計簿[月],月比較[[#This Row],[月]],家計簿[勘定科目],月比較[[#Headers],[教育費]])","v":0},{"$f":"SUMIFS(家計簿[金額],家計簿[年],月比較[[#This Row],[年]],家計簿[月],月比較[[#This Row],[月]],家計簿[勘定科目],月比較[[#Headers],[外食費]])","v":0},{"$f":"SUMIFS(家計簿[金額],家計簿[年],月比較[[#This Row],[年]],家計簿[月],月比較[[#This Row],[月]],家計簿[勘定科目],月比較[[#Headers],[移動費]])","v":0},{"$f":"SUMIFS(家計簿[金額],家計簿[年],月比較[[#This Row],[年]],家計簿[月],月比較[[#This Row],[月]],家計簿[勘定科目],月比較[[#Headers],[旅費]])","v":0},{"$f":"SUMIFS(家計簿[金額],家計簿[年],月比較[[#This Row],[年]],家計簿[月],月比較[[#This Row],[月]],家計簿[勘定科目],月比較[[#Headers],[娯楽費]])","v":0},{"$f":"SUMIFS(家計簿[金額],家計簿[年],月比較[[#This Row],[年]],家計簿[月],月比較[[#This Row],[月]],家計簿[勘定科目],月比較[[#Headers],[医療費]])","v":0},{"$f":"SUMIFS(家計簿[金額],家計簿[年],月比較[[#This Row],[年]],家計簿[月],月比較[[#This Row],[月]],家計簿[勘定科目],月比較[[#Headers],[特別出費]])","v":0}]
[null,null,{"$f":"IF(月比較[[#This Row],[月]]=1,C36+1,C36)","v":2025},8,{"$f":"DATE(月比較[[#This Row],[年]],月比較[[#This Row],[月]],1)","v":"2025-08-01"},{"$f":"SUMIFS(家計簿[金額],家計簿[年],月比較[[#This Row],[年]],家計簿[月],月比較[[#This Row],[月]],家計簿[収入/支出],月比較[[#Headers],[収入]])","v":0},{"$f":"SUMIFS(家計簿[金額],家計簿[年],月比較[[#This Row],[年]],家計簿[月],月比較[[#This Row],[月]],家計簿[収入/支出],月比較[[#Headers],[支出]])","v":0},{"$f":"SUMIFS(家計簿[金額],家計簿[年],月比較[[#This Row],[年]],家計簿[月],月比較[[#This Row],[月]],家計簿[固定費/変動費],月比較[[#Headers],[固定費]])","v":0},{"$f":"SUMIFS(家計簿[金額],家計簿[年],月比較[[#This Row],[年]],家計簿[月],月比較[[#This Row],[月]],家計簿[固定費/変動費],月比較[[#Headers],[変動費]])","v":0},{"$f":"SUMIFS(家計簿[金額],家計簿[年],月比較[[#This Row],[年]],家計簿[月],月比較[[#This Row],[月]],家計簿[勘定科目],月比較[[#Headers],[給料]])","v":0},{"$f":"SUMIFS(家計簿[金額],家計簿[年],月比較[[#This Row],[年]],家計簿[月],月比較[[#This Row],[月]],家計簿[勘定科目],月比較[[#Headers],[ボーナス]])","v":0},{"$f":"SUMIFS(家計簿[金額],家計簿[年],月比較[[#This Row],[年]],家計簿[月],月比較[[#This Row],[月]],家計簿[勘定科目],月比較[[#Headers],[家賃補助]])","v":0},{"$f":"SUMIFS(家計簿[金額],家計簿[年],月比較[[#This Row],[年]],家計簿[月],月比較[[#This Row],[月]],家計簿[勘定科目],月比較[[#Headers],[児童手当]])","v":0},{"$f":"SUMIFS(家計簿[金額],家計簿[年],月比較[[#This Row],[年]],家計簿[月],月比較[[#This Row],[月]],家計簿[勘定科目],月比較[[#Headers],[配当金]])","v":0},{"$f":"SUMIFS(家計簿[金額],家計簿[年],月比較[[#This Row],[年]],家計簿[月],月比較[[#This Row],[月]],家計簿[勘定科目],月比較[[#Headers],[特別収入]])","v":0},{"$f":"SUMIFS(家計簿[金額],家計簿[年],月比較[[#This Row],[年]],家計簿[月],月比較[[#This Row],[月]],家計簿[勘定科目],月比較[[#Headers],[家賃]])","v":0},{"$f":"SUMIFS(家計簿[金額],家計簿[年],月比較[[#This Row],[年]],家計簿[月],月比較[[#This Row],[月]],家計簿[勘定科目],月比較[[#Headers],[電気代]])","v":0},{"$f":"SUMIFS(家計簿[金額],家計簿[年],月比較[[#This Row],[年]],家計簿[月],月比較[[#This Row],[月]],家計簿[勘定科目],月比較[[#Headers],[ガス代]])","v":0},{"$f":"SUMIFS(家計簿[金額],家計簿[年],月比較[[#This Row],[年]],家計簿[月],月比較[[#This Row],[月]],家計簿[勘定科目],月比較[[#Headers],[水道代]])","v":0},{"$f":"SUMIFS(家計簿[金額],家計簿[年],月比較[[#This Row],[年]],家計簿[月],月比較[[#This Row],[月]],家計簿[勘定科目],月比較[[#Headers],[通信費]])","v":0},{"$f":"SUMIFS(家計簿[金額],家計簿[年],月比較[[#This Row],[年]],家計簿[月],月比較[[#This Row],[月]],家計簿[勘定科目],月比較[[#Headers],[保険代]])","v":0},{"$f":"SUMIFS(家計簿[金額],家計簿[年],月比較[[#This Row],[年]],家計簿[月],月比較[[#This Row],[月]],家計簿[勘定科目],月比較[[#Headers],[サブスク]])","v":0},{"$f":"SUMIFS(家計簿[金額],家計簿[年],月比較[[#This Row],[年]],家計簿[月],月比較[[#This Row],[月]],家計簿[勘定科目],月比較[[#Headers],[税金（固定資産、自動車）]])","v":0},{"$f":"SUMIFS(家計簿[金額],家計簿[年],月比較[[#This Row],[年]],家計簿[月],月比較[[#This Row],[月]],家計簿[勘定科目],月比較[[#Headers],[食費]])","v":0},{"$f":"SUMIFS(家計簿[金額],家計簿[年],月比較[[#This Row],[年]],家計簿[月],月比較[[#This Row],[月]],家計簿[勘定科目],月比較[[#Headers],[日用品]])","v":0},{"$f":"SUMIFS(家計簿[金額],家計簿[年],月比較[[#This Row],[年]],家計簿[月],月比較[[#This Row],[月]],家計簿[勘定科目],月比較[[#Headers],[衣服]])","v":0},{"$f":"SUMIFS(家計簿[金額],家計簿[年],月比較[[#This Row],[年]],家計簿[月],月比較[[#This Row],[月]],家計簿[勘定科目],月比較[[#Headers],[教育費]])","v":0},{"$f":"SUMIFS(家計簿[金額],家計簿[年],月比較[[#This Row],[年]],家計簿[月],月比較[[#This Row],[月]],家計簿[勘定科目],月比較[[#Headers],[外食費]])","v":0},{"$f":"SUMIFS(家計簿[金額],家計簿[年],月比較[[#This Row],[年]],家計簿[月],月比較[[#This Row],[月]],家計簿[勘定科目],月比較[[#Headers],[移動費]])","v":0},{"$f":"SUMIFS(家計簿[金額],家計簿[年],月比較[[#This Row],[年]],家計簿[月],月比較[[#This Row],[月]],家計簿[勘定科目],月比較[[#Headers],[旅費]])","v":0},{"$f":"SUMIFS(家計簿[金額],家計簿[年],月比較[[#This Row],[年]],家計簿[月],月比較[[#This Row],[月]],家計簿[勘定科目],月比較[[#Headers],[娯楽費]])","v":0},{"$f":"SUMIFS(家計簿[金額],家計簿[年],月比較[[#This Row],[年]],家計簿[月],月比較[[#This Row],[月]],家計簿[勘定科目],月比較[[#Headers],[医療費]])","v":0},{"$f":"SUMIFS(家計簿[金額],家計簿[年],月比較[[#This Row],[年]],家計簿[月],月比較[[#This Row],[月]],家計簿[勘定科目],月比較[[#Headers],[特別出費]])","v":0}]
[null,null,{"$f":"IF(月比較[[#This Row],[月]]=1,C37+1,C37)","v":2025},9,{"$f":"DATE(月比較[[#This Row],[年]],月比較[[#This Row],[月]],1)","v":"2025-09-01"},{"$f":"SUMIFS(家計簿[金額],家計簿[年],月比較[[#This Row],[年]],家計簿[月],月比較[[#This Row],[月]],家計簿[収入/支出],月比較[[#Headers],[収入]])","v":0},{"$f":"SUMIFS(家計簿[金額],家計簿[年],月比較[[#This Row],[年]],家計簿[月],月比較[[#This Row],[月]],家計簿[収入/支出],月比較[[#Headers],[支出]])","v":0},{"$f":"SUMIFS(家計簿[金額],家計簿[年],月比較[[#This Row],[年]],家計簿[月],月比較[[#This Row],[月]],家計簿[固定費/変動費],月比較[[#Headers],[固定費]])","v":0},{"$f":"SUMIFS(家計簿[金額],家計簿[年],月比較[[#This Row],[年]],家計簿[月],月比較[[#This Row],[月]],家計簿[固定費/変動費],月比較[[#Headers],[変動費]])","v":0},{"$f":"SUMIFS(家計簿[金額],家計簿[年],月比較[[#This Row],[年]],家計簿[月],月比較[[#This Row],[月]],家計簿[勘定科目],月比較[[#Headers],[給料]])","v":0},{"$f":"SUMIFS(家計簿[金額],家計簿[年],月比較[[#This Row],[年]],家計簿[月],月比較[[#This Row],[月]],家計簿[勘定科目],月比較[[#Headers],[ボーナス]])","v":0},{"$f":"SUMIFS(家計簿[金額],家計簿[年],月比較[[#This Row],[年]],家計簿[月],月比較[[#This Row],[月]],家計簿[勘定科目],月比較[[#Headers],[家賃補助]])","v":0},{"$f":"SUMIFS(家計簿[金額],家計簿[年],月比較[[#This Row],[年]],家計簿[月],月比較[[#This Row],[月]],家計簿[勘定科目],月比較[[#Headers],[児童手当]])","v":0},{"$f":"SUMIFS(家計簿[金額],家計簿[年],月比較[[#This Row],[年]],家計簿[月],月比較[[#This Row],[月]],家計簿[勘定科目],月比較[[#Headers],[配当金]])","v":0},{"$f":"SUMIFS(家計簿[金額],家計簿[年],月比較[[#This Row],[年]],家計簿[月],月比較[[#This Row],[月]],家計簿[勘定科目],月比較[[#Headers],[特別収入]])","v":0},{"$f":"SUMIFS(家計簿[金額],家計簿[年],月比較[[#This Row],[年]],家計簿[月],月比較[[#This Row],[月]],家計簿[勘定科目],月比較[[#Headers],[家賃]])","v":0},{"$f":"SUMIFS(家計簿[金額],家計簿[年],月比較[[#This Row],[年]],家計簿[月],月比較[[#This Row],[月]],家計簿[勘定科目],月比較[[#Headers],[電気代]])","v":0},{"$f":"SUMIFS(家計簿[金額],家計簿[年],月比較[[#This Row],[年]],家計簿[月],月比較[[#This Row],[月]],家計簿[勘定科目],月比較[[#Headers],[ガス代]])","v":0},{"$f":"SUMIFS(家計簿[金額],家計簿[年],月比較[[#This Row],[年]],家計簿[月],月比較[[#This Row],[月]],家計簿[勘定科目],月比較[[#Headers],[水道代]])","v":0},{"$f":"SUMIFS(家計簿[金額],家計簿[年],月比較[[#This Row],[年]],家計簿[月],月比較[[#This Row],[月]],家計簿[勘定科目],月比較[[#Headers],[通信費]])","v":0},{"$f":"SUMIFS(家計簿[金額],家計簿[年],月比較[[#This Row],[年]],家計簿[月],月比較[[#This Row],[月]],家計簿[勘定科目],月比較[[#Headers],[保険代]])","v":0},{"$f":"SUMIFS(家計簿[金額],家計簿[年],月比較[[#This Row],[年]],家計簿[月],月比較[[#This Row],[月]],家計簿[勘定科目],月比較[[#Headers],[サブスク]])","v":0},{"$f":"SUMIFS(家計簿[金額],家計簿[年],月比較[[#This Row],[年]],家計簿[月],月比較[[#This Row],[月]],家計簿[勘定科目],月比較[[#Headers],[税金（固定資産、自動車）]])","v":0},{"$f":"SUMIFS(家計簿[金額],家計簿[年],月比較[[#This Row],[年]],家計簿[月],月比較[[#This Row],[月]],家計簿[勘定科目],月比較[[#Headers],[食費]])","v":0},{"$f":"SUMIFS(家計簿[金額],家計簿[年],月比較[[#This Row],[年]],家計簿[月],月比較[[#This Row],[月]],家計簿[勘定科目],月比較[[#Headers],[日用品]])","v":0},{"$f":"SUMIFS(家計簿[金額],家計簿[年],月比較[[#This Row],[年]],家計簿[月],月比較[[#This Row],[月]],家計簿[勘定科目],月比較[[#Headers],[衣服]])","v":0},{"$f":"SUMIFS(家計簿[金額],家計簿[年],月比較[[#This Row],[年]],家計簿[月],月比較[[#This Row],[月]],家計簿[勘定科目],月比較[[#Headers],[教育費]])","v":0},{"$f":"SUMIFS(家計簿[金額],家計簿[年],月比較[[#This Row],[年]],家計簿[月],月比較[[#This Row],[月]],家計簿[勘定科目],月比較[[#Headers],[外食費]])","v":0},{"$f":"SUMIFS(家計簿[金額],家計簿[年],月比較[[#This Row],[年]],家計簿[月],月比較[[#This Row],[月]],家計簿[勘定科目],月比較[[#Headers],[移動費]])","v":0},{"$f":"SUMIFS(家計簿[金額],家計簿[年],月比較[[#This Row],[年]],家計簿[月],月比較[[#This Row],[月]],家計簿[勘定科目],月比較[[#Headers],[旅費]])","v":0},{"$f":"SUMIFS(家計簿[金額],家計簿[年],月比較[[#This Row],[年]],家計簿[月],月比較[[#This Row],[月]],家計簿[勘定科目],月比較[[#Headers],[娯楽費]])","v":0},{"$f":"SUMIFS(家計簿[金額],家計簿[年],月比較[[#This Row],[年]],家計簿[月],月比較[[#This Row],[月]],家計簿[勘定科目],月比較[[#Headers],[医療費]])","v":0},{"$f":"SUMIFS(家計簿[金額],家計簿[年],月比較[[#This Row],[年]],家計簿[月],月比較[[#This Row],[月]],家計簿[勘定科目],月比較[[#Headers],[特別出費]])","v":0}]
[null,null,{"$f":"IF(月比較[[#This Row],[月]]=1,C38+1,C38)","v":2025},10,{"$f":"DATE(月比較[[#This Row],[年]],月比較[[#This Row],[月]],1)","v":"2025-10-01"},{"$f":"SUMIFS(家計簿[金額],家計簿[年],月比較[[#This Row],[年]],家計簿[月],月比較[[#This Row],[月]],家計簿[収入/支出],月比較[[#Headers],[収入]])","v":0},{"$f":"SUMIFS(家計簿[金額],家計簿[年],月比較[[#This Row],[年]],家計簿[月],月比較[[#This Row],[月]],家計簿[収入/支出],月比較[[#Headers],[支出]])","v":0},{"$f":"SUMIFS(家計簿[金額],家計簿[年],月比較[[#This Row],[年]],家計簿[月],月比較[[#This Row],[月]],家計簿[固定費/変動費],月比較[[#Headers],[固定費]])","v":0},{"$f":"SUMIFS(家計簿[金額],家計簿[年],月比較[[#This Row],[年]],家計簿[月],月比較[[#This Row],[月]],家計簿[固定費/変動費],月比較[[#Headers],[変動費]])","v":0},{"$f":"SUMIFS(家計簿[金額],家計簿[年],月比較[[#This Row],[年]],家計簿[月],月比較[[#This Row],[月]],家計簿[勘定科目],月比較[[#Headers],[給料]])","v":0},{"$f":"SUMIFS(家計簿[金額],家計簿[年],月比較[[#This Row],[年]],家計簿[月],月比較[[#This Row],[月]],家計簿[勘定科目],月比較[[#Headers],[ボーナス]])","v":0},{"$f":"SUMIFS(家計簿[金額],家計簿[年],月比較[[#This Row],[年]],家計簿[月],月比較[[#This Row],[月]],家計簿[勘定科目],月比較[[#Headers],[家賃補助]])","v":0},{"$f":"SUMIFS(家計簿[金額],家計簿[年],月比較[[#This Row],[年]],家計簿[月],月比較[[#This Row],[月]],家計簿[勘定科目],月比較[[#Headers],[児童手当]])","v":0},{"$f":"SUMIFS(家計簿[金額],家計簿[年],月比較[[#This Row],[年]],家計簿[月],月比較[[#This Row],[月]],家計簿[勘定科目],月比較[[#Headers],[配当金]])","v":0},{"$f":"SUMIFS(家計簿[金額],家計簿[年],月比較[[#This Row],[年]],家計簿[月],月比較[[#This Row],[月]],家計簿[勘定科目],月比較[[#Headers],[特別収入]])","v":0},{"$f":"SUMIFS(家計簿[金額],家計簿[年],月比較[[#This Row],[年]],家計簿[月],月比較[[#This Row],[月]],家計簿[勘定科目],月比較[[#Headers],[家賃]])","v":0},{"$f":"SUMIFS(家計簿[金額],家計簿[年],月比較[[#This Row],[年]],家計簿[月],月比較[[#This Row],[月]],家計簿[勘定科目],月比較[[#Headers],[電気代]])","v":0},{"$f":"SUMIFS(家計簿[金額],家計簿[年],月比較[[#This Row],[年]],家計簿[月],月比較[[#This Row],[月]],家計簿[勘定科目],月比較[[#Headers],[ガス代]])","v":0},{"$f":"SUMIFS(家計簿[金額],家計簿[年],月比較[[#This Row],[年]],家計簿[月],月比較[[#This Row],[月]],家計簿[勘定科目],月比較[[#Headers],[水道代]])","v":0},{"$f":"SUMIFS(家計簿[金額],家計簿[年],月比較[[#This Row],[年]],家計簿[月],月比較[[#This Row],[月]],家計簿[勘定科目],月比較[[#Headers],[通信費]])","v":0},{"$f":"SUMIFS(家計簿[金額],家計簿[年],月比較[[#This Row],[年]],家計簿[月],月比較[[#This Row],[月]],家計簿[勘定科目],月比較[[#Headers],[保険代]])","v":0},{"$f":"SUMIFS(家計簿[金額],家計簿[年],月比較[[#This Row],[年]],家計簿[月],月比較[[#This Row],[月]],家計簿[勘定科目],月比較[[#Headers],[サブスク]])","v":0},{"$f":"SUMIFS(家計簿[金額],家計簿[年],月比較[[#This Row],[年]],家計簿[月],月比較[[#This Row],[月]],家計簿[勘定科目],月比較[[#Headers],[税金（固定資産、自動車）]])","v":0},{"$f":"SUMIFS(家計簿[金額],家計簿[年],月比較[[#This Row],[年]],家計簿[月],月比較[[#This Row],[月]],家計簿[勘定科目],月比較[[#Headers],[食費]])","v":0},{"$f":"SUMIFS(家計簿[金額],家計簿[年],月比較[[#This Row],[年]],家計簿[月],月比較[[#This Row],[月]],家計簿[勘定科目],月比較[[#Headers],[日用品]])","v":0},{"$f":"SUMIFS(家計簿[金額],家計簿[年],月比較[[#This Row],[年]],家計簿[月],月比較[[#This Row],[月]],家計簿[勘定科目],月比較[[#Headers],[衣服]])","v":0},{"$f":"SUMIFS(家計簿[金額],家計簿[年],月比較[[#This Row],[年]],家計簿[月],月比較[[#This Row],[月]],家計簿[勘定科目],月比較[[#Headers],[教育費]])","v":0},{"$f":"SUMIFS(家計簿[金額],家計簿[年],月比較[[#This Row],[年]],家計簿[月],月比較[[#This Row],[月]],家計簿[勘定科目],月比較[[#Headers],[外食費]])","v":0},{"$f":"SUMIFS(家計簿[金額],家計簿[年],月比較[[#This Row],[年]],家計簿[月],月比較[[#This Row],[月]],家計簿[勘定科目],月比較[[#Headers],[移動費]])","v":0},{"$f":"SUMIFS(家計簿[金額],家計簿[年],月比較[[#This Row],[年]],家計簿[月],月比較[[#This Row],[月]],家計簿[勘定科目],月比較[[#Headers],[旅費]])","v":0},{"$f":"SUMIFS(家計簿[金額],家計簿[年],月比較[[#This Row],[年]],家計簿[月],月比較[[#This Row],[月]],家計簿[勘定科目],月比較[[#Headers],[娯楽費]])","v":0},{"$f":"SUMIFS(家計簿[金額],家計簿[年],月比較[[#This Row],[年]],家計簿[月],月比較[[#This Row],[月]],家計簿[勘定科目],月比較[[#Headers],[医療費]])","v":0},{"$f":"SUMIFS(家計簿[金額],家計簿[年],月比較[[#This Row],[年]],家計簿[月],月比較[[#This Row],[月]],家計簿[勘定科目],月比較[[#Headers],[特別出費]])","v":0}]
[null,null,{"$f":"IF(月比較[[#This Row],[月]]=1,C39+1,C39)","v":2025},11,{"$f":"DATE(月比較[[#This Row],[年]],月比較[[#This Row],[月]],1)","v":"2025-11-01"},{"$f":"SUMIFS(家計簿[金額],家計簿[年],月比較[[#This Row],[年]],家計簿[月],月比較[[#This Row],[月]],家計簿[収入/支出],月比較[[#Headers],[収入]])","v":0},{"$f":"SUMIFS(家計簿[金額],家計簿[年],月比較[[#This Row],[年]],家計簿[月],月比較[[#This Row],[月]],家計簿[収入/支出],月比較[[#Headers],[支出]])","v":0},{"$f":"SUMIFS(家計簿[金額],家計簿[年],月比較[[#This Row],[年]],家計簿[月],月比較[[#This Row],[月]],家計簿[固定費/変動費],月比較[[#Headers],[固定費]])","v":0},{"$f":"SUMIFS(家計簿[金額],家計簿[年],月比較[[#This Row],[年]],家計簿[月],月比較[[#This Row],[月]],家計簿[固定費/変動費],月比較[[#Headers],[変動費]])","v":0},{"$f":"SUMIFS(家計簿[金額],家計簿[年],月比較[[#This Row],[年]],家計簿[月],月比較[[#This Row],[月]],家計簿[勘定科目],月比較[[#Headers],[給料]])","v":0},{"$f":"SUMIFS(家計簿[金額],家計簿[年],月比較[[#This Row],[年]],家計簿[月],月比較[[#This Row],[月]],家計簿[勘定科目],月比較[[#Headers],[ボーナス]])","v":0},{"$f":"SUMIFS(家計簿[金額],家計簿[年],月比較[[#This Row],[年]],家計簿[月],月比較[[#This Row],[月]],家計簿[勘定科目],月比較[[#Headers],[家賃補助]])","v":0},{"$f":"SUMIFS(家計簿[金額],家計簿[年],月比較[[#This Row],[年]],家計簿[月],月比較[[#This Row],[月]],家計簿[勘定科目],月比較[[#Headers],[児童手当]])","v":0},{"$f":"SUMIFS(家計簿[金額],家計簿[年],月比較[[#This Row],[年]],家計簿[月],月比較[[#This Row],[月]],家計簿[勘定科目],月比較[[#Headers],[配当金]])","v":0},{"$f":"SUMIFS(家計簿[金額],家計簿[年],月比較[[#This Row],[年]],家計簿[月],月比較[[#This Row],[月]],家計簿[勘定科目],月比較[[#Headers],[特別収入]])","v":0},{"$f":"SUMIFS(家計簿[金額],家計簿[年],月比較[[#This Row],[年]],家計簿[月],月比較[[#This Row],[月]],家計簿[勘定科目],月比較[[#Headers],[家賃]])","v":0},{"$f":"SUMIFS(家計簿[金額],家計簿[年],月比較[[#This Row],[年]],家計簿[月],月比較[[#This Row],[月]],家計簿[勘定科目],月比較[[#Headers],[電気代]])","v":0},{"$f":"SUMIFS(家計簿[金額],家計簿[年],月比較[[#This Row],[年]],家計簿[月],月比較[[#This Row],[月]],家計簿[勘定科目],月比較[[#Headers],[ガス代]])","v":0},{"$f":"SUMIFS(家計簿[金額],家計簿[年],月比較[[#This Row],[年]],家計簿[月],月比較[[#This Row],[月]],家計簿[勘定科目],月比較[[#Headers],[水道代]])","v":0},{"$f":"SUMIFS(家計簿[金額],家計簿[年],月比較[[#This Row],[年]],家計簿[月],月比較[[#This Row],[月]],家計簿[勘定科目],月比較[[#Headers],[通信費]])","v":0},{"$f":"SUMIFS(家計簿[金額],家計簿[年],月比較[[#This Row],[年]],家計簿[月],月比較[[#This Row],[月]],家計簿[勘定科目],月比較[[#Headers],[保険代]])","v":0},{"$f":"SUMIFS(家計簿[金額],家計簿[年],月比較[[#This Row],[年]],家計簿[月],月比較[[#This Row],[月]],家計簿[勘定科目],月比較[[#Headers],[サブスク]])","v":0},{"$f":"SUMIFS(家計簿[金額],家計簿[年],月比較[[#This Row],[年]],家計簿[月],月比較[[#This Row],[月]],家計簿[勘定科目],月比較[[#Headers],[税金（固定資産、自動車）]])","v":0},{"$f":"SUMIFS(家計簿[金額],家計簿[年],月比較[[#This Row],[年]],家計簿[月],月比較[[#This Row],[月]],家計簿[勘定科目],月比較[[#Headers],[食費]])","v":0},{"$f":"SUMIFS(家計簿[金額],家計簿[年],月比較[[#This Row],[年]],家計簿[月],月比較[[#This Row],[月]],家計簿[勘定科目],月比較[[#Headers],[日用品]])","v":0},{"$f":"SUMIFS(家計簿[金額],家計簿[年],月比較[[#This Row],[年]],家計簿[月],月比較[[#This Row],[月]],家計簿[勘定科目],月比較[[#Headers],[衣服]])","v":0},{"$f":"SUMIFS(家計簿[金額],家計簿[年],月比較[[#This Row],[年]],家計簿[月],月比較[[#This Row],[月]],家計簿[勘定科目],月比較[[#Headers],[教育費]])","v":0},{"$f":"SUMIFS(家計簿[金額],家計簿[年],月比較[[#This Row],[年]],家計簿[月],月比較[[#This Row],[月]],家計簿[勘定科目],月比較[[#Headers],[外食費]])","v":0},{"$f":"SUMIFS(家計簿[金額],家計簿[年],月比較[[#This Row],[年]],家計簿[月],月比較[[#This Row],[月]],家計簿[勘定科目],月比較[[#Headers],[移動費]])","v":0},{"$f":"SUMIFS(家計簿[金額],家計簿[年],月比較[[#This Row],[年]],家計簿[月],月比較[[#This Row],[月]],家計簿[勘定科目],月比較[[#Headers],[旅費]])","v":0},{"$f":"SUMIFS(家計簿[金額],家計簿[年],月比較[[#This Row],[年]],家計簿[月],月比較[[#This Row],[月]],家計簿[勘定科目],月比較[[#Headers],[娯楽費]])","v":0},{"$f":"SUMIFS(家計簿[金額],家計簿[年],月比較[[#This Row],[年]],家計簿[月],月比較[[#This Row],[月]],家計簿[勘定科目],月比較[[#Headers],[医療費]])","v":0},{"$f":"SUMIFS(家計簿[金額],家計簿[年],月比較[[#This Row],[年]],家計簿[月],月比較[[#This Row],[月]],家計簿[勘定科目],月比較[[#Headers],[特別出費]])","v":0}]
[null,null,{"$f":"IF(月比較[[#This Row],[月]]=1,C40+1,C40)","v":2025},12,{"$f":"DATE(月比較[[#This Row],[年]],月比較[[#This Row],[月]],1)","v":"2025-12-01"},{"$f":"SUMIFS(家計簿[金額],家計簿[年],月比較[[#This Row],[年]],家計簿[月],月比較[[#This Row],[月]],家計簿[収入/支出],月比較[[#Headers],[収入]])","v":0},{"$f":"SUMIFS(家計簿[金額],家計簿[年],月比較[[#This Row],[年]],家計簿[月],月比較[[#This Row],[月]],家計簿[収入/支出],月比較[[#Headers],[支出]])","v":0},{"$f":"SUMIFS(家計簿[金額],家計簿[年],月比較[[#This Row],[年]],家計簿[月],月比較[[#This Row],[月]],家計簿[固定費/変動費],月比較[[#Headers],[固定費]])","v":0},{"$f":"SUMIFS(家計簿[金額],家計簿[年],月比較[[#This Row],[年]],家計簿[月],月比較[[#This Row],[月]],家計簿[固定費/変動費],月比較[[#Headers],[変動費]])","v":0},{"$f":"SUMIFS(家計簿[金額],家計簿[年],月比較[[#This Row],[年]],家計簿[月],月比較[[#This Row],[月]],家計簿[勘定科目],月比較[[#Headers],[給料]])","v":0},{"$f":"SUMIFS(家計簿[金額],家計簿[年],月比較[[#This Row],[年]],家計簿[月],月比較[[#This Row],[月]],家計簿[勘定科目],月比較[[#Headers],[ボーナス]])","v":0},{"$f":"SUMIFS(家計簿[金額],家計簿[年],月比較[[#This Row],[年]],家計簿[月],月比較[[#This Row],[月]],家計簿[勘定科目],月比較[[#Headers],[家賃補助]])","v":0},{"$f":"SUMIFS(家計簿[金額],家計簿[年],月比較[[#This Row],[年]],家計簿[月],月比較[[#This Row],[月]],家計簿[勘定科目],月比較[[#Headers],[児童手当]])","v":0},{"$f":"SUMIFS(家計簿[金額],家計簿[年],月比較[[#This Row],[年]],家計簿[月],月比較[[#This Row],[月]],家計簿[勘定科目],月比較[[#Headers],[配当金]])","v":0},{"$f":"SUMIFS(家計簿[金額],家計簿[年],月比較[[#This Row],[年]],家計簿[月],月比較[[#This Row],[月]],家計簿[勘定科目],月比較[[#Headers],[特別収入]])","v":0},{"$f":"SUMIFS(家計簿[金額],家計簿[年],月比較[[#This Row],[年]],家計簿[月],月比較[[#This Row],[月]],家計簿[勘定科目],月比較[[#Headers],[家賃]])","v":0},{"$f":"SUMIFS(家計簿[金額],家計簿[年],月比較[[#This Row],[年]],家計簿[月],月比較[[#This Row],[月]],家計簿[勘定科目],月比較[[#Headers],[電気代]])","v":0},{"$f":"SUMIFS(家計簿[金額],家計簿[年],月比較[[#This Row],[年]],家計簿[月],月比較[[#This Row],[月]],家計簿[勘定科目],月比較[[#Headers],[ガス代]])","v":0},{"$f":"SUMIFS(家計簿[金額],家計簿[年],月比較[[#This Row],[年]],家計簿[月],月比較[[#This Row],[月]],家計簿[勘定科目],月比較[[#Headers],[水道代]])","v":0},{"$f":"SUMIFS(家計簿[金額],家計簿[年],月比較[[#This Row],[年]],家計簿[月],月比較[[#This Row],[月]],家計簿[勘定科目],月比較[[#Headers],[通信費]])","v":0},{"$f":"SUMIFS(家計簿[金額],家計簿[年],月比較[[#This Row],[年]],家計簿[月],月比較[[#This Row],[月]],家計簿[勘定科目],月比較[[#Headers],[保険代]])","v":0},{"$f":"SUMIFS(家計簿[金額],家計簿[年],月比較[[#This Row],[年]],家計簿[月],月比較[[#This Row],[月]],家計簿[勘定科目],月比較[[#Headers],[サブスク]])","v":0},{"$f":"SUMIFS(家計簿[金額],家計簿[年],月比較[[#This Row],[年]],家計簿[月],月比較[[#This Row],[月]],家計簿[勘定科目],月比較[[#Headers],[税金（固定資産、自動車）]])","v":0},{"$f":"SUMIFS(家計簿[金額],家計簿[年],月比較[[#This Row],[年]],家計簿[月],月比較[[#This Row],[月]],家計簿[勘定科目],月比較[[#Headers],[食費]])","v":0},{"$f":"SUMIFS(家計簿[金額],家計簿[年],月比較[[#This Row],[年]],家計簿[月],月比較[[#This Row],[月]],家計簿[勘定科目],月比較[[#Headers],[日用品]])","v":0},{"$f":"SUMIFS(家計簿[金額],家計簿[年],月比較[[#This Row],[年]],家計簿[月],月比較[[#This Row],[月]],家計簿[勘定科目],月比較[[#Headers],[衣服]])","v":0},{"$f":"SUMIFS(家計簿[金額],家計簿[年],月比較[[#This Row],[年]],家計簿[月],月比較[[#This Row],[月]],家計簿[勘定科目],月比較[[#Headers],[教育費]])","v":0},{"$f":"SUMIFS(家計簿[金額],家計簿[年],月比較[[#This Row],[年]],家計簿[月],月比較[[#This Row],[月]],家計簿[勘定科目],月比較[[#Headers],[外食費]])","v":0},{"$f":"SUMIFS(家計簿[金額],家計簿[年],月比較[[#This Row],[年]],家計簿[月],月比較[[#This Row],[月]],家計簿[勘定科目],月比較[[#Headers],[移動費]])","v":0},{"$f":"SUMIFS(家計簿[金額],家計簿[年],月比較[[#This Row],[年]],家計簿[月],月比較[[#This Row],[月]],家計簿[勘定科目],月比較[[#Headers],[旅費]])","v":0},{"$f":"SUMIFS(家計簿[金額],家計簿[年],月比較[[#This Row],[年]],家計簿[月],月比較[[#This Row],[月]],家計簿[勘定科目],月比較[[#Headers],[娯楽費]])","v":0},{"$f":"SUMIFS(家計簿[金額],家計簿[年],月比較[[#This Row],[年]],家計簿[月],月比較[[#This Row],[月]],家計簿[勘定科目],月比較[[#Headers],[医療費]])","v":0},{"$f":"SUMIFS(家計簿[金額],家計簿[年],月比較[[#This Row],[年]],家計簿[月],月比較[[#This Row],[月]],家計簿[勘定科目],月比較[[#Headers],[特別出費]])","v":0}]
[null,null,{"$f":"IF(月比較[[#This Row],[月]]=1,C41+1,C41)","v":2026},1,{"$f":"DATE(月比較[[#This Row],[年]],月比較[[#This Row],[月]],1)","v":"2026-01-01"},{"$f":"SUMIFS(家計簿[金額],家計簿[年],月比較[[#This Row],[年]],家計簿[月],月比較[[#This Row],[月]],家計簿[収入/支出],月比較[[#Headers],[収入]])","v":0},{"$f":"SUMIFS(家計簿[金額],家計簿[年],月比較[[#This Row],[年]],家計簿[月],月比較[[#This Row],[月]],家計簿[収入/支出],月比較[[#Headers],[支出]])","v":0},{"$f":"SUMIFS(家計簿[金額],家計簿[年],月比較[[#This Row],[年]],家計簿[月],月比較[[#This Row],[月]],家計簿[固定費/変動費],月比較[[#Headers],[固定費]])","v":0},{"$f":"SUMIFS(家計簿[金額],家計簿[年],月比較[[#This Row],[年]],家計簿[月],月比較[[#This Row],[月]],家計簿[固定費/変動費],月比較[[#Headers],[変動費]])","v":0},{"$f":"SUMIFS(家計簿[金額],家計簿[年],月比較[[#This Row],[年]],家計簿[月],月比較[[#This Row],[月]],家計簿[勘定科目],月比較[[#Headers],[給料]])","v":0},{"$f":"SUMIFS(家計簿[金額],家計簿[年],月比較[[#This Row],[年]],家計簿[月],月比較[[#This Row],[月]],家計簿[勘定科目],月比較[[#Headers],[ボーナス]])","v":0},{"$f":"SUMIFS(家計簿[金額],家計簿[年],月比較[[#This Row],[年]],家計簿[月],月比較[[#This Row],[月]],家計簿[勘定科目],月比較[[#Headers],[家賃補助]])","v":0},{"$f":"SUMIFS(家計簿[金額],家計簿[年],月比較[[#This Row],[年]],家計簿[月],月比較[[#This Row],[月]],家計簿[勘定科目],月比較[[#Headers],[児童手当]])","v":0},{"$f":"SUMIFS(家計簿[金額],家計簿[年],月比較[[#This Row],[年]],家計簿[月],月比較[[#This Row],[月]],家計簿[勘定科目],月比較[[#Headers],[配当金]])","v":0},{"$f":"SUMIFS(家計簿[金額],家計簿[年],月比較[[#This Row],[年]],家計簿[月],月比較[[#This Row],[月]],家計簿[勘定科目],月比較[[#Headers],[特別収入]])","v":0},{"$f":"SUMIFS(家計簿[金額],家計簿[年],月比較[[#This Row],[年]],家計簿[月],月比較[[#This Row],[月]],家計簿[勘定科目],月比較[[#Headers],[家賃]])","v":0},{"$f":"SUMIFS(家計簿[金額],家計簿[年],月比較[[#This Row],[年]],家計簿[月],月比較[[#This Row],[月]],家計簿[勘定科目],月比較[[#Headers],[電気代]])","v":0},{"$f":"SUMIFS(家計簿[金額],家計簿[年],月比較[[#This Row],[年]],家計簿[月],月比較[[#This Row],[月]],家計簿[勘定科目],月比較[[#Headers],[ガス代]])","v":0},{"$f":"SUMIFS(家計簿[金額],家計簿[年],月比較[[#This Row],[年]],家計簿[月],月比較[[#This Row],[月]],家計簿[勘定科目],月比較[[#Headers],[水道代]])","v":0},{"$f":"SUMIFS(家計簿[金額],家計簿[年],月比較[[#This Row],[年]],家計簿[月],月比較[[#This Row],[月]],家計簿[勘定科目],月比較[[#Headers],[通信費]])","v":0},{"$f":"SUMIFS(家計簿[金額],家計簿[年],月比較[[#This Row],[年]],家計簿[月],月比較[[#This Row],[月]],家計簿[勘定科目],月比較[[#Headers],[保険代]])","v":0},{"$f":"SUMIFS(家計簿[金額],家計簿[年],月比較[[#This Row],[年]],家計簿[月],月比較[[#This Row],[月]],家計簿[勘定科目],月比較[[#Headers],[サブスク]])","v":0},{"$f":"SUMIFS(家計簿[金額],家計簿[年],月比較[[#This Row],[年]],家計簿[月],月比較[[#This Row],[月]],家計簿[勘定科目],月比較[[#Headers],[税金（固定資産、自動車）]])","v":0},{"$f":"SUMIFS(家計簿[金額],家計簿[年],月比較[[#This Row],[年]],家計簿[月],月比較[[#This Row],[月]],家計簿[勘定科目],月比較[[#Headers],[食費]])","v":0},{"$f":"SUMIFS(家計簿[金額],家計簿[年],月比較[[#This Row],[年]],家計簿[月],月比較[[#This Row],[月]],家計簿[勘定科目],月比較[[#Headers],[日用品]])","v":0},{"$f":"SUMIFS(家計簿[金額],家計簿[年],月比較[[#This Row],[年]],家計簿[月],月比較[[#This Row],[月]],家計簿[勘定科目],月比較[[#Headers],[衣服]])","v":0},{"$f":"SUMIFS(家計簿[金額],家計簿[年],月比較[[#This Row],[年]],家計簿[月],月比較[[#This Row],[月]],家計簿[勘定科目],月比較[[#Headers],[教育費]])","v":0},{"$f":"SUMIFS(家計簿[金額],家計簿[年],月比較[[#This Row],[年]],家計簿[月],月比較[[#This Row],[月]],家計簿[勘定科目],月比較[[#Headers],[外食費]])","v":0},{"$f":"SUMIFS(家計簿[金額],家計簿[年],月比較[[#This Row],[年]],家計簿[月],月比較[[#This Row],[月]],家計簿[勘定科目],月比較[[#Headers],[移動費]])","v":0},{"$f":"SUMIFS(家計簿[金額],家計簿[年],月比較[[#This Row],[年]],家計簿[月],月比較[[#This Row],[月]],家計簿[勘定科目],月比較[[#Headers],[旅費]])","v":0},{"$f":"SUMIFS(家計簿[金額],家計簿[年],月比較[[#This Row],[年]],家計簿[月],月比較[[#This Row],[月]],家計簿[勘定科目],月比較[[#Headers],[娯楽費]])","v":0},{"$f":"SUMIFS(家計簿[金額],家計簿[年],月比較[[#This Row],[年]],家計簿[月],月比較[[#This Row],[月]],家計簿[勘定科目],月比較[[#Headers],[医療費]])","v":0},{"$f":"SUMIFS(家計簿[金額],家計簿[年],月比較[[#This Row],[年]],家計簿[月],月比較[[#This Row],[月]],家計簿[勘定科目],月比較[[#Headers],[特別出費]])","v":0}]
[null,null,{"$f":"IF(月比較[[#This Row],[月]]=1,C42+1,C42)","v":2026},2,{"$f":"DATE(月比較[[#This Row],[年]],月比較[[#This Row],[月]],1)","v":"2026-02-01"},{"$f":"SUMIFS(家計簿[金額],家計簿[年],月比較[[#This Row],[年]],家計簿[月],月比較[[#This Row],[月]],家計簿[収入/支出],月比較[[#Headers],[収入]])","v":0},{"$f":"SUMIFS(家計簿[金額],家計簿[年],月比較[[#This Row],[年]],家計簿[月],月比較[[#This Row],[月]],家計簿[収入/支出],月比較[[#Headers],[支出]])","v":0},{"$f":"SUMIFS(家計簿[金額],家計簿[年],月比較[[#This Row],[年]],家計簿[月],月比較[[#This Row],[月]],家計簿[固定費/変動費],月比較[[#Headers],[固定費]])","v":0},{"$f":"SUMIFS(家計簿[金額],家計簿[年],月比較[[#This Row],[年]],家計簿[月],月比較[[#This Row],[月]],家計簿[固定費/変動費],月比較[[#Headers],[変動費]])","v":0},{"$f":"SUMIFS(家計簿[金額],家計簿[年],月比較[[#This Row],[年]],家計簿[月],月比較[[#This Row],[月]],家計簿[勘定科目],月比較[[#Headers],[給料]])","v":0},{"$f":"SUMIFS(家計簿[金額],家計簿[年],月比較[[#This Row],[年]],家計簿[月],月比較[[#This Row],[月]],家計簿[勘定科目],月比較[[#Headers],[ボーナス]])","v":0},{"$f":"SUMIFS(家計簿[金額],家計簿[年],月比較[[#This Row],[年]],家計簿[月],月比較[[#This Row],[月]],家計簿[勘定科目],月比較[[#Headers],[家賃補助]])","v":0},{"$f":"SUMIFS(家計簿[金額],家計簿[年],月比較[[#This Row],[年]],家計簿[月],月比較[[#This Row],[月]],家計簿[勘定科目],月比較[[#Headers],[児童手当]])","v":0},{"$f":"SUMIFS(家計簿[金額],家計簿[年],月比較[[#This Row],[年]],家計簿[月],月比較[[#This Row],[月]],家計簿[勘定科目],月比較[[#Headers],[配当金]])","v":0},{"$f":"SUMIFS(家計簿[金額],家計簿[年],月比較[[#This Row],[年]],家計簿[月],月比較[[#This Row],[月]],家計簿[勘定科目],月比較[[#Headers],[特別収入]])","v":0},{"$f":"SUMIFS(家計簿[金額],家計簿[年],月比較[[#This Row],[年]],家計簿[月],月比較[[#This Row],[月]],家計簿[勘定科目],月比較[[#Headers],[家賃]])","v":0},{"$f":"SUMIFS(家計簿[金額],家計簿[年],月比較[[#This Row],[年]],家計簿[月],月比較[[#This Row],[月]],家計簿[勘定科目],月比較[[#Headers],[電気代]])","v":0},{"$f":"SUMIFS(家計簿[金額],家計簿[年],月比較[[#This Row],[年]],家計簿[月],月比較[[#This Row],[月]],家計簿[勘定科目],月比較[[#Headers],[ガス代]])","v":0},{"$f":"SUMIFS(家計簿[金額],家計簿[年],月比較[[#This Row],[年]],家計簿[月],月比較[[#This Row],[月]],家計簿[勘定科目],月比較[[#Headers],[水道代]])","v":0},{"$f":"SUMIFS(家計簿[金額],家計簿[年],月比較[[#This Row],[年]],家計簿[月],月比較[[#This Row],[月]],家計簿[勘定科目],月比較[[#Headers],[通信費]])","v":0},{"$f":"SUMIFS(家計簿[金額],家計簿[年],月比較[[#This Row],[年]],家計簿[月],月比較[[#This Row],[月]],家計簿[勘定科目],月比較[[#Headers],[保険代]])","v":0},{"$f":"SUMIFS(家計簿[金額],家計簿[年],月比較[[#This Row],[年]],家計簿[月],月比較[[#This Row],[月]],家計簿[勘定科目],月比較[[#Headers],[サブスク]])","v":0},{"$f":"SUMIFS(家計簿[金額],家計簿[年],月比較[[#This Row],[年]],家計簿[月],月比較[[#This Row],[月]],家計簿[勘定科目],月比較[[#Headers],[税金（固定資産、自動車）]])","v":0},{"$f":"SUMIFS(家計簿[金額],家計簿[年],月比較[[#This Row],[年]],家計簿[月],月比較[[#This Row],[月]],家計簿[勘定科目],月比較[[#Headers],[食費]])","v":0},{"$f":"SUMIFS(家計簿[金額],家計簿[年],月比較[[#This Row],[年]],家計簿[月],月比較[[#This Row],[月]],家計簿[勘定科目],月比較[[#Headers],[日用品]])","v":0},{"$f":"SUMIFS(家計簿[金額],家計簿[年],月比較[[#This Row],[年]],家計簿[月],月比較[[#This Row],[月]],家計簿[勘定科目],月比較[[#Headers],[衣服]])","v":0},{"$f":"SUMIFS(家計簿[金額],家計簿[年],月比較[[#This Row],[年]],家計簿[月],月比較[[#This Row],[月]],家計簿[勘定科目],月比較[[#Headers],[教育費]])","v":0},{"$f":"SUMIFS(家計簿[金額],家計簿[年],月比較[[#This Row],[年]],家計簿[月],月比較[[#This Row],[月]],家計簿[勘定科目],月比較[[#Headers],[外食費]])","v":0},{"$f":"SUMIFS(家計簿[金額],家計簿[年],月比較[[#This Row],[年]],家計簿[月],月比較[[#This Row],[月]],家計簿[勘定科目],月比較[[#Headers],[移動費]])","v":0},{"$f":"SUMIFS(家計簿[金額],家計簿[年],月比較[[#This Row],[年]],家計簿[月],月比較[[#This Row],[月]],家計簿[勘定科目],月比較[[#Headers],[旅費]])","v":0},{"$f":"SUMIFS(家計簿[金額],家計簿[年],月比較[[#This Row],[年]],家計簿[月],月比較[[#This Row],[月]],家計簿[勘定科目],月比較[[#Headers],[娯楽費]])","v":0},{"$f":"SUMIFS(家計簿[金額],家計簿[年],月比較[[#This Row],[年]],家計簿[月],月比較[[#This Row],[月]],家計簿[勘定科目],月比較[[#Headers],[医療費]])","v":0},{"$f":"SUMIFS(家計簿[金額],家計簿[年],月比較[[#This Row],[年]],家計簿[月],月比較[[#This Row],[月]],家計簿[勘定科目],月比較[[#Headers],[特別出費]])","v":0}]
[null,null,{"$f":"IF(月比較[[#This Row],[月]]=1,C43+1,C43)","v":2026},3,{"$f":"DATE(月比較[[#This Row],[年]],月比較[[#This Row],[月]],1)","v":"2026-03-01"},{"$f":"SUMIFS(家計簿[金額],家計簿[年],月比較[[#This Row],[年]],家計簿[月],月比較[[#This Row],[月]],家計簿[収入/支出],月比較[[#Headers],[収入]])","v":0},{"$f":"SUMIFS(家計簿[金額],家計簿[年],月比較[[#This Row],[年]],家計簿[月],月比較[[#This Row],[月]],家計簿[収入/支出],月比較[[#Headers],[支出]])","v":0},{"$f":"SUMIFS(家計簿[金額],家計簿[年],月比較[[#This Row],[年]],家計簿[月],月比較[[#This Row],[月]],家計簿[固定費/変動費],月比較[[#Headers],[固定費]])","v":0},{"$f":"SUMIFS(家計簿[金額],家計簿[年],月比較[[#This Row],[年]],家計簿[月],月比較[[#This Row],[月]],家計簿[固定費/変動費],月比較[[#Headers],[変動費]])","v":0},{"$f":"SUMIFS(家計簿[金額],家計簿[年],月比較[[#This Row],[年]],家計簿[月],月比較[[#This Row],[月]],家計簿[勘定科目],月比較[[#Headers],[給料]])","v":0},{"$f":"SUMIFS(家計簿[金額],家計簿[年],月比較[[#This Row],[年]],家計簿[月],月比較[[#This Row],[月]],家計簿[勘定科目],月比較[[#Headers],[ボーナス]])","v":0},{"$f":"SUMIFS(家計簿[金額],家計簿[年],月比較[[#This Row],[年]],家計簿[月],月比較[[#This Row],[月]],家計簿[勘定科目],月比較[[#Headers],[家賃補助]])","v":0},{"$f":"SUMIFS(家計簿[金額],家計簿[年],月比較[[#This Row],[年]],家計簿[月],月比較[[#This Row],[月]],家計簿[勘定科目],月比較[[#Headers],[児童手当]])","v":0},{"$f":"SUMIFS(家計簿[金額],家計簿[年],月比較[[#This Row],[年]],家計簿[月],月比較[[#This Row],[月]],家計簿[勘定科目],月比較[[#Headers],[配当金]])","v":0},{"$f":"SUMIFS(家計簿[金額],家計簿[年],月比較[[#This Row],[年]],家計簿[月],月比較[[#This Row],[月]],家計簿[勘定科目],月比較[[#Headers],[特別収入]])","v":0},{"$f":"SUMIFS(家計簿[金額],家計簿[年],月比較[[#This Row],[年]],家計簿[月],月比較[[#This Row],[月]],家計簿[勘定科目],月比較[[#Headers],[家賃]])","v":0},{"$f":"SUMIFS(家計簿[金額],家計簿[年],月比較[[#This Row],[年]],家計簿[月],月比較[[#This Row],[月]],家計簿[勘定科目],月比較[[#Headers],[電気代]])","v":0},{"$f":"SUMIFS(家計簿[金額],家計簿[年],月比較[[#This Row],[年]],家計簿[月],月比較[[#This Row],[月]],家計簿[勘定科目],月比較[[#Headers],[ガス代]])","v":0},{"$f":"SUMIFS(家計簿[金額],家計簿[年],月比較[[#This Row],[年]],家計簿[月],月比較[[#This Row],[月]],家計簿[勘定科目],月比較[[#Headers],[水道代]])","v":0},{"$f":"SUMIFS(家計簿[金額],家計簿[年],月比較[[#This Row],[年]],家計簿[月],月比較[[#This Row],[月]],家計簿[勘定科目],月比較[[#Headers],[通信費]])","v":0},{"$f":"SUMIFS(家計簿[金額],家計簿[年],月比較[[#This Row],[年]],家計簿[月],月比較[[#This Row],[月]],家計簿[勘定科目],月比較[[#Headers],[保険代]])","v":0},{"$f":"SUMIFS(家計簿[金額],家計簿[年],月比較[[#This Row],[年]],家計簿[月],月比較[[#This Row],[月]],家計簿[勘定科目],月比較[[#Headers],[サブスク]])","v":0},{"$f":"SUMIFS(家計簿[金額],家計簿[年],月比較[[#This Row],[年]],家計簿[月],月比較[[#This Row],[月]],家計簿[勘定科目],月比較[[#Headers],[税金（固定資産、自動車）]])","v":0},{"$f":"SUMIFS(家計簿[金額],家計簿[年],月比較[[#This Row],[年]],家計簿[月],月比較[[#This Row],[月]],家計簿[勘定科目],月比較[[#Headers],[食費]])","v":0},{"$f":"SUMIFS(家計簿[金額],家計簿[年],月比較[[#This Row],[年]],家計簿[月],月比較[[#This Row],[月]],家計簿[勘定科目],月比較[[#Headers],[日用品]])","v":0},{"$f":"SUMIFS(家計簿[金額],家計簿[年],月比較[[#This Row],[年]],家計簿[月],月比較[[#This Row],[月]],家計簿[勘定科目],月比較[[#Headers],[衣服]])","v":0},{"$f":"SUMIFS(家計簿[金額],家計簿[年],月比較[[#This Row],[年]],家計簿[月],月比較[[#This Row],[月]],家計簿[勘定科目],月比較[[#Headers],[教育費]])","v":0},{"$f":"SUMIFS(家計簿[金額],家計簿[年],月比較[[#This Row],[年]],家計簿[月],月比較[[#This Row],[月]],家計簿[勘定科目],月比較[[#Headers],[外食費]])","v":0},{"$f":"SUMIFS(家計簿[金額],家計簿[年],月比較[[#This Row],[年]],家計簿[月],月比較[[#This Row],[月]],家計簿[勘定科目],月比較[[#Headers],[移動費]])","v":0},{"$f":"SUMIFS(家計簿[金額],家計簿[年],月比較[[#This Row],[年]],家計簿[月],月比較[[#This Row],[月]],家計簿[勘定科目],月比較[[#Headers],[旅費]])","v":0},{"$f":"SUMIFS(家計簿[金額],家計簿[年],月比較[[#This Row],[年]],家計簿[月],月比較[[#This Row],[月]],家計簿[勘定科目],月比較[[#Headers],[娯楽費]])","v":0},{"$f":"SUMIFS(家計簿[金額],家計簿[年],月比較[[#This Row],[年]],家計簿[月],月比較[[#This Row],[月]],家計簿[勘定科目],月比較[[#Headers],[医療費]])","v":0},{"$f":"SUMIFS(家計簿[金額],家計簿[年],月比較[[#This Row],[年]],家計簿[月],月比較[[#This Row],[月]],家計簿[勘定科目],月比較[[#Headers],[特別出費]])","v":0}]
[null,null,{"$f":"IF(月比較[[#This Row],[月]]=1,C44+1,C44)","v":2026},4,{"$f":"DATE(月比較[[#This Row],[年]],月比較[[#This Row],[月]],1)","v":"2026-04-01"},{"$f":"SUMIFS(家計簿[金額],家計簿[年],月比較[[#This Row],[年]],家計簿[月],月比較[[#This Row],[月]],家計簿[収入/支出],月比較[[#Headers],[収入]])","v":0},{"$f":"SUMIFS(家計簿[金額],家計簿[年],月比較[[#This Row],[年]],家計簿[月],月比較[[#This Row],[月]],家計簿[収入/支出],月比較[[#Headers],[支出]])","v":0},{"$f":"SUMIFS(家計簿[金額],家計簿[年],月比較[[#This Row],[年]],家計簿[月],月比較[[#This Row],[月]],家計簿[固定費/変動費],月比較[[#Headers],[固定費]])","v":0},{"$f":"SUMIFS(家計簿[金額],家計簿[年],月比較[[#This Row],[年]],家計簿[月],月比較[[#This Row],[月]],家計簿[固定費/変動費],月比較[[#Headers],[変動費]])","v":0},{"$f":"SUMIFS(家計簿[金額],家計簿[年],月比較[[#This Row],[年]],家計簿[月],月比較[[#This Row],[月]],家計簿[勘定科目],月比較[[#Headers],[給料]])","v":0},{"$f":"SUMIFS(家計簿[金額],家計簿[年],月比較[[#This Row],[年]],家計簿[月],月比較[[#This Row],[月]],家計簿[勘定科目],月比較[[#Headers],[ボーナス]])","v":0},{"$f":"SUMIFS(家計簿[金額],家計簿[年],月比較[[#This Row],[年]],家計簿[月],月比較[[#This Row],[月]],家計簿[勘定科目],月比較[[#Headers],[家賃補助]])","v":0},{"$f":"SUMIFS(家計簿[金額],家計簿[年],月比較[[#This Row],[年]],家計簿[月],月比較[[#This Row],[月]],家計簿[勘定科目],月比較[[#Headers],[児童手当]])","v":0},{"$f":"SUMIFS(家計簿[金額],家計簿[年],月比較[[#This Row],[年]],家計簿[月],月比較[[#This Row],[月]],家計簿[勘定科目],月比較[[#Headers],[配当金]])","v":0},{"$f":"SUMIFS(家計簿[金額],家計簿[年],月比較[[#This Row],[年]],家計簿[月],月比較[[#This Row],[月]],家計簿[勘定科目],月比較[[#Headers],[特別収入]])","v":0},{"$f":"SUMIFS(家計簿[金額],家計簿[年],月比較[[#This Row],[年]],家計簿[月],月比較[[#This Row],[月]],家計簿[勘定科目],月比較[[#Headers],[家賃]])","v":0},{"$f":"SUMIFS(家計簿[金額],家計簿[年],月比較[[#This Row],[年]],家計簿[月],月比較[[#This Row],[月]],家計簿[勘定科目],月比較[[#Headers],[電気代]])","v":0},{"$f":"SUMIFS(家計簿[金額],家計簿[年],月比較[[#This Row],[年]],家計簿[月],月比較[[#This Row],[月]],家計簿[勘定科目],月比較[[#Headers],[ガス代]])","v":0},{"$f":"SUMIFS(家計簿[金額],家計簿[年],月比較[[#This Row],[年]],家計簿[月],月比較[[#This Row],[月]],家計簿[勘定科目],月比較[[#Headers],[水道代]])","v":0},{"$f":"SUMIFS(家計簿[金額],家計簿[年],月比較[[#This Row],[年]],家計簿[月],月比較[[#This Row],[月]],家計簿[勘定科目],月比較[[#Headers],[通信費]])","v":0},{"$f":"SUMIFS(家計簿[金額],家計簿[年],月比較[[#This Row],[年]],家計簿[月],月比較[[#This Row],[月]],家計簿[勘定科目],月比較[[#Headers],[保険代]])","v":0},{"$f":"SUMIFS(家計簿[金額],家計簿[年],月比較[[#This Row],[年]],家計簿[月],月比較[[#This Row],[月]],家計簿[勘定科目],月比較[[#Headers],[サブスク]])","v":0},{"$f":"SUMIFS(家計簿[金額],家計簿[年],月比較[[#This Row],[年]],家計簿[月],月比較[[#This Row],[月]],家計簿[勘定科目],月比較[[#Headers],[税金（固定資産、自動車）]])","v":0},{"$f":"SUMIFS(家計簿[金額],家計簿[年],月比較[[#This Row],[年]],家計簿[月],月比較[[#This Row],[月]],家計簿[勘定科目],月比較[[#Headers],[食費]])","v":0},{"$f":"SUMIFS(家計簿[金額],家計簿[年],月比較[[#This Row],[年]],家計簿[月],月比較[[#This Row],[月]],家計簿[勘定科目],月比較[[#Headers],[日用品]])","v":0},{"$f":"SUMIFS(家計簿[金額],家計簿[年],月比較[[#This Row],[年]],家計簿[月],月比較[[#This Row],[月]],家計簿[勘定科目],月比較[[#Headers],[衣服]])","v":0},{"$f":"SUMIFS(家計簿[金額],家計簿[年],月比較[[#This Row],[年]],家計簿[月],月比較[[#This Row],[月]],家計簿[勘定科目],月比較[[#Headers],[教育費]])","v":0},{"$f":"SUMIFS(家計簿[金額],家計簿[年],月比較[[#This Row],[年]],家計簿[月],月比較[[#This Row],[月]],家計簿[勘定科目],月比較[[#Headers],[外食費]])","v":0},{"$f":"SUMIFS(家計簿[金額],家計簿[年],月比較[[#This Row],[年]],家計簿[月],月比較[[#This Row],[月]],家計簿[勘定科目],月比較[[#Headers],[移動費]])","v":0},{"$f":"SUMIFS(家計簿[金額],家計簿[年],月比較[[#This Row],[年]],家計簿[月],月比較[[#This Row],[月]],家計簿[勘定科目],月比較[[#Headers],[旅費]])","v":0},{"$f":"SUMIFS(家計簿[金額],家計簿[年],月比較[[#This Row],[年]],家計簿[月],月比較[[#This Row],[月]],家計簿[勘定科目],月比較[[#Headers],[娯楽費]])","v":0},{"$f":"SUMIFS(家計簿[金額],家計簿[年],月比較[[#This Row],[年]],家計簿[月],月比較[[#This Row],[月]],家計簿[勘定科目],月比較[[#Headers],[医療費]])","v":0},{"$f":"SUMIFS(家計簿[金額],家計簿[年],月比較[[#This Row],[年]],家計簿[月],月比較[[#This Row],[月]],家計簿[勘定科目],月比較[[#Headers],[特別出費]])","v":0}]
[null,null,{"$f":"IF(月比較[[#This Row],[月]]=1,C45+1,C45)","v":2026},5,{"$f":"DATE(月比較[[#This Row],[年]],月比較[[#This Row],[月]],1)","v":"2026-05-01"},{"$f":"SUMIFS(家計簿[金額],家計簿[年],月比較[[#This Row],[年]],家計簿[月],月比較[[#This Row],[月]],家計簿[収入/支出],月比較[[#Headers],[収入]])","v":0},{"$f":"SUMIFS(家計簿[金額],家計簿[年],月比較[[#This Row],[年]],家計簿[月],月比較[[#This Row],[月]],家計簿[収入/支出],月比較[[#Headers],[支出]])","v":0},{"$f":"SUMIFS(家計簿[金額],家計簿[年],月比較[[#This Row],[年]],家計簿[月],月比較[[#This Row],[月]],家計簿[固定費/変動費],月比較[[#Headers],[固定費]])","v":0},{"$f":"SUMIFS(家計簿[金額],家計簿[年],月比較[[#This Row],[年]],家計簿[月],月比較[[#This Row],[月]],家計簿[固定費/変動費],月比較[[#Headers],[変動費]])","v":0},{"$f":"SUMIFS(家計簿[金額],家計簿[年],月比較[[#This Row],[年]],家計簿[月],月比較[[#This Row],[月]],家計簿[勘定科目],月比較[[#Headers],[給料]])","v":0},{"$f":"SUMIFS(家計簿[金額],家計簿[年],月比較[[#This Row],[年]],家計簿[月],月比較[[#This Row],[月]],家計簿[勘定科目],月比較[[#Headers],[ボーナス]])","v":0},{"$f":"SUMIFS(家計簿[金額],家計簿[年],月比較[[#This Row],[年]],家計簿[月],月比較[[#This Row],[月]],家計簿[勘定科目],月比較[[#Headers],[家賃補助]])","v":0},{"$f":"SUMIFS(家計簿[金額],家計簿[年],月比較[[#This Row],[年]],家計簿[月],月比較[[#This Row],[月]],家計簿[勘定科目],月比較[[#Headers],[児童手当]])","v":0},{"$f":"SUMIFS(家計簿[金額],家計簿[年],月比較[[#This Row],[年]],家計簿[月],月比較[[#This Row],[月]],家計簿[勘定科目],月比較[[#Headers],[配当金]])","v":0},{"$f":"SUMIFS(家計簿[金額],家計簿[年],月比較[[#This Row],[年]],家計簿[月],月比較[[#This Row],[月]],家計簿[勘定科目],月比較[[#Headers],[特別収入]])","v":0},{"$f":"SUMIFS(家計簿[金額],家計簿[年],月比較[[#This Row],[年]],家計簿[月],月比較[[#This Row],[月]],家計簿[勘定科目],月比較[[#Headers],[家賃]])","v":0},{"$f":"SUMIFS(家計簿[金額],家計簿[年],月比較[[#This Row],[年]],家計簿[月],月比較[[#This Row],[月]],家計簿[勘定科目],月比較[[#Headers],[電気代]])","v":0},{"$f":"SUMIFS(家計簿[金額],家計簿[年],月比較[[#This Row],[年]],家計簿[月],月比較[[#This Row],[月]],家計簿[勘定科目],月比較[[#Headers],[ガス代]])","v":0},{"$f":"SUMIFS(家計簿[金額],家計簿[年],月比較[[#This Row],[年]],家計簿[月],月比較[[#This Row],[月]],家計簿[勘定科目],月比較[[#Headers],[水道代]])","v":0},{"$f":"SUMIFS(家計簿[金額],家計簿[年],月比較[[#This Row],[年]],家計簿[月],月比較[[#This Row],[月]],家計簿[勘定科目],月比較[[#Headers],[通信費]])","v":0},{"$f":"SUMIFS(家計簿[金額],家計簿[年],月比較[[#This Row],[年]],家計簿[月],月比較[[#This Row],[月]],家計簿[勘定科目],月比較[[#Headers],[保険代]])","v":0},{"$f":"SUMIFS(家計簿[金額],家計簿[年],月比較[[#This Row],[年]],家計簿[月],月比較[[#This Row],[月]],家計簿[勘定科目],月比較[[#Headers],[サブスク]])","v":0},{"$f":"SUMIFS(家計簿[金額],家計簿[年],月比較[[#This Row],[年]],家計簿[月],月比較[[#This Row],[月]],家計簿[勘定科目],月比較[[#Headers],[税金（固定資産、自動車）]])","v":0},{"$f":"SUMIFS(家計簿[金額],家計簿[年],月比較[[#This Row],[年]],家計簿[月],月比較[[#This Row],[月]],家計簿[勘定科目],月比較[[#Headers],[食費]])","v":0},{"$f":"SUMIFS(家計簿[金額],家計簿[年],月比較[[#This Row],[年]],家計簿[月],月比較[[#This Row],[月]],家計簿[勘定科目],月比較[[#Headers],[日用品]])","v":0},{"$f":"SUMIFS(家計簿[金額],家計簿[年],月比較[[#This Row],[年]],家計簿[月],月比較[[#This Row],[月]],家計簿[勘定科目],月比較[[#Headers],[衣服]])","v":0},{"$f":"SUMIFS(家計簿[金額],家計簿[年],月比較[[#This Row],[年]],家計簿[月],月比較[[#This Row],[月]],家計簿[勘定科目],月比較[[#Headers],[教育費]])","v":0},{"$f":"SUMIFS(家計簿[金額],家計簿[年],月比較[[#This Row],[年]],家計簿[月],月比較[[#This Row],[月]],家計簿[勘定科目],月比較[[#Headers],[外食費]])","v":0},{"$f":"SUMIFS(家計簿[金額],家計簿[年],月比較[[#This Row],[年]],家計簿[月],月比較[[#This Row],[月]],家計簿[勘定科目],月比較[[#Headers],[移動費]])","v":0},{"$f":"SUMIFS(家計簿[金額],家計簿[年],月比較[[#This Row],[年]],家計簿[月],月比較[[#This Row],[月]],家計簿[勘定科目],月比較[[#Headers],[旅費]])","v":0},{"$f":"SUMIFS(家計簿[金額],家計簿[年],月比較[[#This Row],[年]],家計簿[月],月比較[[#This Row],[月]],家計簿[勘定科目],月比較[[#Headers],[娯楽費]])","v":0},{"$f":"SUMIFS(家計簿[金額],家計簿[年],月比較[[#This Row],[年]],家計簿[月],月比較[[#This Row],[月]],家計簿[勘定科目],月比較[[#Headers],[医療費]])","v":0},{"$f":"SUMIFS(家計簿[金額],家計簿[年],月比較[[#This Row],[年]],家計簿[月],月比較[[#This Row],[月]],家計簿[勘定科目],月比較[[#Headers],[特別出費]])","v":0}]
[null,null,{"$f":"IF(月比較[[#This Row],[月]]=1,C46+1,C46)","v":2026},6,{"$f":"DATE(月比較[[#This Row],[年]],月比較[[#This Row],[月]],1)","v":"2026-06-01"},{"$f":"SUMIFS(家計簿[金額],家計簿[年],月比較[[#This Row],[年]],家計簿[月],月比較[[#This Row],[月]],家計簿[収入/支出],月比較[[#Headers],[収入]])","v":0},{"$f":"SUMIFS(家計簿[金額],家計簿[年],月比較[[#This Row],[年]],家計簿[月],月比較[[#This Row],[月]],家計簿[収入/支出],月比較[[#Headers],[支出]])","v":0},{"$f":"SUMIFS(家計簿[金額],家計簿[年],月比較[[#This Row],[年]],家計簿[月],月比較[[#This Row],[月]],家計簿[固定費/変動費],月比較[[#Headers],[固定費]])","v":0},{"$f":"SUMIFS(家計簿[金額],家計簿[年],月比較[[#This Row],[年]],家計簿[月],月比較[[#This Row],[月]],家計簿[固定費/変動費],月比較[[#Headers],[変動費]])","v":0},{"$f":"SUMIFS(家計簿[金額],家計簿[年],月比較[[#This Row],[年]],家計簿[月],月比較[[#This Row],[月]],家計簿[勘定科目],月比較[[#Headers],[給料]])","v":0},{"$f":"SUMIFS(家計簿[金額],家計簿[年],月比較[[#This Row],[年]],家計簿[月],月比較[[#This Row],[月]],家計簿[勘定科目],月比較[[#Headers],[ボーナス]])","v":0},{"$f":"SUMIFS(家計簿[金額],家計簿[年],月比較[[#This Row],[年]],家計簿[月],月比較[[#This Row],[月]],家計簿[勘定科目],月比較[[#Headers],[家賃補助]])","v":0},{"$f":"SUMIFS(家計簿[金額],家計簿[年],月比較[[#This Row],[年]],家計簿[月],月比較[[#This Row],[月]],家計簿[勘定科目],月比較[[#Headers],[児童手当]])","v":0},{"$f":"SUMIFS(家計簿[金額],家計簿[年],月比較[[#This Row],[年]],家計簿[月],月比較[[#This Row],[月]],家計簿[勘定科目],月比較[[#Headers],[配当金]])","v":0},{"$f":"SUMIFS(家計簿[金額],家計簿[年],月比較[[#This Row],[年]],家計簿[月],月比較[[#This Row],[月]],家計簿[勘定科目],月比較[[#Headers],[特別収入]])","v":0},{"$f":"SUMIFS(家計簿[金額],家計簿[年],月比較[[#This Row],[年]],家計簿[月],月比較[[#This Row],[月]],家計簿[勘定科目],月比較[[#Headers],[家賃]])","v":0},{"$f":"SUMIFS(家計簿[金額],家計簿[年],月比較[[#This Row],[年]],家計簿[月],月比較[[#This Row],[月]],家計簿[勘定科目],月比較[[#Headers],[電気代]])","v":0},{"$f":"SUMIFS(家計簿[金額],家計簿[年],月比較[[#This Row],[年]],家計簿[月],月比較[[#This Row],[月]],家計簿[勘定科目],月比較[[#Headers],[ガス代]])","v":0},{"$f":"SUMIFS(家計簿[金額],家計簿[年],月比較[[#This Row],[年]],家計簿[月],月比較[[#This Row],[月]],家計簿[勘定科目],月比較[[#Headers],[水道代]])","v":0},{"$f":"SUMIFS(家計簿[金額],家計簿[年],月比較[[#This Row],[年]],家計簿[月],月比較[[#This Row],[月]],家計簿[勘定科目],月比較[[#Headers],[通信費]])","v":0},{"$f":"SUMIFS(家計簿[金額],家計簿[年],月比較[[#This Row],[年]],家計簿[月],月比較[[#This Row],[月]],家計簿[勘定科目],月比較[[#Headers],[保険代]])","v":0},{"$f":"SUMIFS(家計簿[金額],家計簿[年],月比較[[#This Row],[年]],家計簿[月],月比較[[#This Row],[月]],家計簿[勘定科目],月比較[[#Headers],[サブスク]])","v":0},{"$f":"SUMIFS(家計簿[金額],家計簿[年],月比較[[#This Row],[年]],家計簿[月],月比較[[#This Row],[月]],家計簿[勘定科目],月比較[[#Headers],[税金（固定資産、自動車）]])","v":0},{"$f":"SUMIFS(家計簿[金額],家計簿[年],月比較[[#This Row],[年]],家計簿[月],月比較[[#This Row],[月]],家計簿[勘定科目],月比較[[#Headers],[食費]])","v":0},{"$f":"SUMIFS(家計簿[金額],家計簿[年],月比較[[#This Row],[年]],家計簿[月],月比較[[#This Row],[月]],家計簿[勘定科目],月比較[[#Headers],[日用品]])","v":0},{"$f":"SUMIFS(家計簿[金額],家計簿[年],月比較[[#This Row],[年]],家計簿[月],月比較[[#This Row],[月]],家計簿[勘定科目],月比較[[#Headers],[衣服]])","v":0},{"$f":"SUMIFS(家計簿[金額],家計簿[年],月比較[[#This Row],[年]],家計簿[月],月比較[[#This Row],[月]],家計簿[勘定科目],月比較[[#Headers],[教育費]])","v":0},{"$f":"SUMIFS(家計簿[金額],家計簿[年],月比較[[#This Row],[年]],家計簿[月],月比較[[#This Row],[月]],家計簿[勘定科目],月比較[[#Headers],[外食費]])","v":0},{"$f":"SUMIFS(家計簿[金額],家計簿[年],月比較[[#This Row],[年]],家計簿[月],月比較[[#This Row],[月]],家計簿[勘定科目],月比較[[#Headers],[移動費]])","v":0},{"$f":"SUMIFS(家計簿[金額],家計簿[年],月比較[[#This Row],[年]],家計簿[月],月比較[[#This Row],[月]],家計簿[勘定科目],月比較[[#Headers],[旅費]])","v":0},{"$f":"SUMIFS(家計簿[金額],家計簿[年],月比較[[#This Row],[年]],家計簿[月],月比較[[#This Row],[月]],家計簿[勘定科目],月比較[[#Headers],[娯楽費]])","v":0},{"$f":"SUMIFS(家計簿[金額],家計簿[年],月比較[[#This Row],[年]],家計簿[月],月比較[[#This Row],[月]],家計簿[勘定科目],月比較[[#Headers],[医療費]])","v":0},{"$f":"SUMIFS(家計簿[金額],家計簿[年],月比較[[#This Row],[年]],家計簿[月],月比較[[#This Row],[月]],家計簿[勘定科目],月比較[[#Headers],[特別出費]])","v":0}]
[null,null,{"$f":"IF(月比較[[#This Row],[月]]=1,C47+1,C47)","v":2026},7,{"$f":"DATE(月比較[[#This Row],[年]],月比較[[#This Row],[月]],1)","v":"2026-07-01"},{"$f":"SUMIFS(家計簿[金額],家計簿[年],月比較[[#This Row],[年]],家計簿[月],月比較[[#This Row],[月]],家計簿[収入/支出],月比較[[#Headers],[収入]])","v":0},{"$f":"SUMIFS(家計簿[金額],家計簿[年],月比較[[#This Row],[年]],家計簿[月],月比較[[#This Row],[月]],家計簿[収入/支出],月比較[[#Headers],[支出]])","v":0},{"$f":"SUMIFS(家計簿[金額],家計簿[年],月比較[[#This Row],[年]],家計簿[月],月比較[[#This Row],[月]],家計簿[固定費/変動費],月比較[[#Headers],[固定費]])","v":0},{"$f":"SUMIFS(家計簿[金額],家計簿[年],月比較[[#This Row],[年]],家計簿[月],月比較[[#This Row],[月]],家計簿[固定費/変動費],月比較[[#Headers],[変動費]])","v":0},{"$f":"SUMIFS(家計簿[金額],家計簿[年],月比較[[#This Row],[年]],家計簿[月],月比較[[#This Row],[月]],家計簿[勘定科目],月比較[[#Headers],[給料]])","v":0},{"$f":"SUMIFS(家計簿[金額],家計簿[年],月比較[[#This Row],[年]],家計簿[月],月比較[[#This Row],[月]],家計簿[勘定科目],月比較[[#Headers],[ボーナス]])","v":0},{"$f":"SUMIFS(家計簿[金額],家計簿[年],月比較[[#This Row],[年]],家計簿[月],月比較[[#This Row],[月]],家計簿[勘定科目],月比較[[#Headers],[家賃補助]])","v":0},{"$f":"SUMIFS(家計簿[金額],家計簿[年],月比較[[#This Row],[年]],家計簿[月],月比較[[#This Row],[月]],家計簿[勘定科目],月比較[[#Headers],[児童手当]])","v":0},{"$f":"SUMIFS(家計簿[金額],家計簿[年],月比較[[#This Row],[年]],家計簿[月],月比較[[#This Row],[月]],家計簿[勘定科目],月比較[[#Headers],[配当金]])","v":0},{"$f":"SUMIFS(家計簿[金額],家計簿[年],月比較[[#This Row],[年]],家計簿[月],月比較[[#This Row],[月]],家計簿[勘定科目],月比較[[#Headers],[特別収入]])","v":0},{"$f":"SUMIFS(家計簿[金額],家計簿[年],月比較[[#This Row],[年]],家計簿[月],月比較[[#This Row],[月]],家計簿[勘定科目],月比較[[#Headers],[家賃]])","v":0},{"$f":"SUMIFS(家計簿[金額],家計簿[年],月比較[[#This Row],[年]],家計簿[月],月比較[[#This Row],[月]],家計簿[勘定科目],月比較[[#Headers],[電気代]])","v":0},{"$f":"SUMIFS(家計簿[金額],家計簿[年],月比較[[#This Row],[年]],家計簿[月],月比較[[#This Row],[月]],家計簿[勘定科目],月比較[[#Headers],[ガス代]])","v":0},{"$f":"SUMIFS(家計簿[金額],家計簿[年],月比較[[#This Row],[年]],家計簿[月],月比較[[#This Row],[月]],家計簿[勘定科目],月比較[[#Headers],[水道代]])","v":0},{"$f":"SUMIFS(家計簿[金額],家計簿[年],月比較[[#This Row],[年]],家計簿[月],月比較[[#This Row],[月]],家計簿[勘定科目],月比較[[#Headers],[通信費]])","v":0},{"$f":"SUMIFS(家計簿[金額],家計簿[年],月比較[[#This Row],[年]],家計簿[月],月比較[[#This Row],[月]],家計簿[勘定科目],月比較[[#Headers],[保険代]])","v":0},{"$f":"SUMIFS(家計簿[金額],家計簿[年],月比較[[#This Row],[年]],家計簿[月],月比較[[#This Row],[月]],家計簿[勘定科目],月比較[[#Headers],[サブスク]])","v":0},{"$f":"SUMIFS(家計簿[金額],家計簿[年],月比較[[#This Row],[年]],家計簿[月],月比較[[#This Row],[月]],家計簿[勘定科目],月比較[[#Headers],[税金（固定資産、自動車）]])","v":0},{"$f":"SUMIFS(家計簿[金額],家計簿[年],月比較[[#This Row],[年]],家計簿[月],月比較[[#This Row],[月]],家計簿[勘定科目],月比較[[#Headers],[食費]])","v":0},{"$f":"SUMIFS(家計簿[金額],家計簿[年],月比較[[#This Row],[年]],家計簿[月],月比較[[#This Row],[月]],家計簿[勘定科目],月比較[[#Headers],[日用品]])","v":0},{"$f":"SUMIFS(家計簿[金額],家計簿[年],月比較[[#This Row],[年]],家計簿[月],月比較[[#This Row],[月]],家計簿[勘定科目],月比較[[#Headers],[衣服]])","v":0},{"$f":"SUMIFS(家計簿[金額],家計簿[年],月比較[[#This Row],[年]],家計簿[月],月比較[[#This Row],[月]],家計簿[勘定科目],月比較[[#Headers],[教育費]])","v":0},{"$f":"SUMIFS(家計簿[金額],家計簿[年],月比較[[#This Row],[年]],家計簿[月],月比較[[#This Row],[月]],家計簿[勘定科目],月比較[[#Headers],[外食費]])","v":0},{"$f":"SUMIFS(家計簿[金額],家計簿[年],月比較[[#This Row],[年]],家計簿[月],月比較[[#This Row],[月]],家計簿[勘定科目],月比較[[#Headers],[移動費]])","v":0},{"$f":"SUMIFS(家計簿[金額],家計簿[年],月比較[[#This Row],[年]],家計簿[月],月比較[[#This Row],[月]],家計簿[勘定科目],月比較[[#Headers],[旅費]])","v":0},{"$f":"SUMIFS(家計簿[金額],家計簿[年],月比較[[#This Row],[年]],家計簿[月],月比較[[#This Row],[月]],家計簿[勘定科目],月比較[[#Headers],[娯楽費]])","v":0},{"$f":"SUMIFS(家計簿[金額],家計簿[年],月比較[[#This Row],[年]],家計簿[月],月比較[[#This Row],[月]],家計簿[勘定科目],月比較[[#Headers],[医療費]])","v":0},{"$f":"SUMIFS(家計簿[金額],家計簿[年],月比較[[#This Row],[年]],家計簿[月],月比較[[#This Row],[月]],家計簿[勘定科目],月比較[[#Headers],[特別出費]])","v":0}]
[null,null,{"$f":"IF(月比較[[#This Row],[月]]=1,C48+1,C48)","v":2026},8,{"$f":"DATE(月比較[[#This Row],[年]],月比較[[#This Row],[月]],1)","v":"2026-08-01"},{"$f":"SUMIFS(家計簿[金額],家計簿[年],月比較[[#This Row],[年]],家計簿[月],月比較[[#This Row],[月]],家計簿[収入/支出],月比較[[#Headers],[収入]])","v":0},{"$f":"SUMIFS(家計簿[金額],家計簿[年],月比較[[#This Row],[年]],家計簿[月],月比較[[#This Row],[月]],家計簿[収入/支出],月比較[[#Headers],[支出]])","v":0},{"$f":"SUMIFS(家計簿[金額],家計簿[年],月比較[[#This Row],[年]],家計簿[月],月比較[[#This Row],[月]],家計簿[固定費/変動費],月比較[[#Headers],[固定費]])","v":0},{"$f":"SUMIFS(家計簿[金額],家計簿[年],月比較[[#This Row],[年]],家計簿[月],月比較[[#This Row],[月]],家計簿[固定費/変動費],月比較[[#Headers],[変動費]])","v":0},{"$f":"SUMIFS(家計簿[金額],家計簿[年],月比較[[#This Row],[年]],家計簿[月],月比較[[#This Row],[月]],家計簿[勘定科目],月比較[[#Headers],[給料]])","v":0},{"$f":"SUMIFS(家計簿[金額],家計簿[年],月比較[[#This Row],[年]],家計簿[月],月比較[[#This Row],[月]],家計簿[勘定科目],月比較[[#Headers],[ボーナス]])","v":0},{"$f":"SUMIFS(家計簿[金額],家計簿[年],月比較[[#This Row],[年]],家計簿[月],月比較[[#This Row],[月]],家計簿[勘定科目],月比較[[#Headers],[家賃補助]])","v":0},{"$f":"SUMIFS(家計簿[金額],家計簿[年],月比較[[#This Row],[年]],家計簿[月],月比較[[#This Row],[月]],家計簿[勘定科目],月比較[[#Headers],[児童手当]])","v":0},{"$f":"SUMIFS(家計簿[金額],家計簿[年],月比較[[#This Row],[年]],家計簿[月],月比較[[#This Row],[月]],家計簿[勘定科目],月比較[[#Headers],[配当金]])","v":0},{"$f":"SUMIFS(家計簿[金額],家計簿[年],月比較[[#This Row],[年]],家計簿[月],月比較[[#This Row],[月]],家計簿[勘定科目],月比較[[#Headers],[特別収入]])","v":0},{"$f":"SUMIFS(家計簿[金額],家計簿[年],月比較[[#This Row],[年]],家計簿[月],月比較[[#This Row],[月]],家計簿[勘定科目],月比較[[#Headers],[家賃]])","v":0},{"$f":"SUMIFS(家計簿[金額],家計簿[年],月比較[[#This Row],[年]],家計簿[月],月比較[[#This Row],[月]],家計簿[勘定科目],月比較[[#Headers],[電気代]])","v":0},{"$f":"SUMIFS(家計簿[金額],家計簿[年],月比較[[#This Row],[年]],家計簿[月],月比較[[#This Row],[月]],家計簿[勘定科目],月比較[[#Headers],[ガス代]])","v":0},{"$f":"SUMIFS(家計簿[金額],家計簿[年],月比較[[#This Row],[年]],家計簿[月],月比較[[#This Row],[月]],家計簿[勘定科目],月比較[[#Headers],[水道代]])","v":0},{"$f":"SUMIFS(家計簿[金額],家計簿[年],月比較[[#This Row],[年]],家計簿[月],月比較[[#This Row],[月]],家計簿[勘定科目],月比較[[#Headers],[通信費]])","v":0},{"$f":"SUMIFS(家計簿[金額],家計簿[年],月比較[[#This Row],[年]],家計簿[月],月比較[[#This Row],[月]],家計簿[勘定科目],月比較[[#Headers],[保険代]])","v":0},{"$f":"SUMIFS(家計簿[金額],家計簿[年],月比較[[#This Row],[年]],家計簿[月],月比較[[#This Row],[月]],家計簿[勘定科目],月比較[[#Headers],[サブスク]])","v":0},{"$f":"SUMIFS(家計簿[金額],家計簿[年],月比較[[#This Row],[年]],家計簿[月],月比較[[#This Row],[月]],家計簿[勘定科目],月比較[[#Headers],[税金（固定資産、自動車）]])","v":0},{"$f":"SUMIFS(家計簿[金額],家計簿[年],月比較[[#This Row],[年]],家計簿[月],月比較[[#This Row],[月]],家計簿[勘定科目],月比較[[#Headers],[食費]])","v":0},{"$f":"SUMIFS(家計簿[金額],家計簿[年],月比較[[#This Row],[年]],家計簿[月],月比較[[#This Row],[月]],家計簿[勘定科目],月比較[[#Headers],[日用品]])","v":0},{"$f":"SUMIFS(家計簿[金額],家計簿[年],月比較[[#This Row],[年]],家計簿[月],月比較[[#This Row],[月]],家計簿[勘定科目],月比較[[#Headers],[衣服]])","v":0},{"$f":"SUMIFS(家計簿[金額],家計簿[年],月比較[[#This Row],[年]],家計簿[月],月比較[[#This Row],[月]],家計簿[勘定科目],月比較[[#Headers],[教育費]])","v":0},{"$f":"SUMIFS(家計簿[金額],家計簿[年],月比較[[#This Row],[年]],家計簿[月],月比較[[#This Row],[月]],家計簿[勘定科目],月比較[[#Headers],[外食費]])","v":0},{"$f":"SUMIFS(家計簿[金額],家計簿[年],月比較[[#This Row],[年]],家計簿[月],月比較[[#This Row],[月]],家計簿[勘定科目],月比較[[#Headers],[移動費]])","v":0},{"$f":"SUMIFS(家計簿[金額],家計簿[年],月比較[[#This Row],[年]],家計簿[月],月比較[[#This Row],[月]],家計簿[勘定科目],月比較[[#Headers],[旅費]])","v":0},{"$f":"SUMIFS(家計簿[金額],家計簿[年],月比較[[#This Row],[年]],家計簿[月],月比較[[#This Row],[月]],家計簿[勘定科目],月比較[[#Headers],[娯楽費]])","v":0},{"$f":"SUMIFS(家計簿[金額],家計簿[年],月比較[[#This Row],[年]],家計簿[月],月比較[[#This Row],[月]],家計簿[勘定科目],月比較[[#Headers],[医療費]])","v":0},{"$f":"SUMIFS(家計簿[金額],家計簿[年],月比較[[#This Row],[年]],家計簿[月],月比較[[#This Row],[月]],家計簿[勘定科目],月比較[[#Headers],[特別出費]])","v":0}]
[null,null,{"$f":"IF(月比較[[#This Row],[月]]=1,C49+1,C49)","v":2026},9,{"$f":"DATE(月比較[[#This Row],[年]],月比較[[#This Row],[月]],1)","v":"2026-09-01"},{"$f":"SUMIFS(家計簿[金額],家計簿[年],月比較[[#This Row],[年]],家計簿[月],月比較[[#This Row],[月]],家計簿[収入/支出],月比較[[#Headers],[収入]])","v":0},{"$f":"SUMIFS(家計簿[金額],家計簿[年],月比較[[#This Row],[年]],家計簿[月],月比較[[#This Row],[月]],家計簿[収入/支出],月比較[[#Headers],[支出]])","v":0},{"$f":"SUMIFS(家計簿[金額],家計簿[年],月比較[[#This Row],[年]],家計簿[月],月比較[[#This Row],[月]],家計簿[固定費/変動費],月比較[[#Headers],[固定費]])","v":0},{"$f":"SUMIFS(家計簿[金額],家計簿[年],月比較[[#This Row],[年]],家計簿[月],月比較[[#This Row],[月]],家計簿[固定費/変動費],月比較[[#Headers],[変動費]])","v":0},{"$f":"SUMIFS(家計簿[金額],家計簿[年],月比較[[#This Row],[年]],家計簿[月],月比較[[#This Row],[月]],家計簿[勘定科目],月比較[[#Headers],[給料]])","v":0},{"$f":"SUMIFS(家計簿[金額],家計簿[年],月比較[[#This Row],[年]],家計簿[月],月比較[[#This Row],[月]],家計簿[勘定科目],月比較[[#Headers],[ボーナス]])","v":0},{"$f":"SUMIFS(家計簿[金額],家計簿[年],月比較[[#This Row],[年]],家計簿[月],月比較[[#This Row],[月]],家計簿[勘定科目],月比較[[#Headers],[家賃補助]])","v":0},{"$f":"SUMIFS(家計簿[金額],家計簿[年],月比較[[#This Row],[年]],家計簿[月],月比較[[#This Row],[月]],家計簿[勘定科目],月比較[[#Headers],[児童手当]])","v":0},{"$f":"SUMIFS(家計簿[金額],家計簿[年],月比較[[#This Row],[年]],家計簿[月],月比較[[#This Row],[月]],家計簿[勘定科目],月比較[[#Headers],[配当金]])","v":0},{"$f":"SUMIFS(家計簿[金額],家計簿[年],月比較[[#This Row],[年]],家計簿[月],月比較[[#This Row],[月]],家計簿[勘定科目],月比較[[#Headers],[特別収入]])","v":0},{"$f":"SUMIFS(家計簿[金額],家計簿[年],月比較[[#This Row],[年]],家計簿[月],月比較[[#This Row],[月]],家計簿[勘定科目],月比較[[#Headers],[家賃]])","v":0},{"$f":"SUMIFS(家計簿[金額],家計簿[年],月比較[[#This Row],[年]],家計簿[月],月比較[[#This Row],[月]],家計簿[勘定科目],月比較[[#Headers],[電気代]])","v":0},{"$f":"SUMIFS(家計簿[金額],家計簿[年],月比較[[#This Row],[年]],家計簿[月],月比較[[#This Row],[月]],家計簿[勘定科目],月比較[[#Headers],[ガス代]])","v":0},{"$f":"SUMIFS(家計簿[金額],家計簿[年],月比較[[#This Row],[年]],家計簿[月],月比較[[#This Row],[月]],家計簿[勘定科目],月比較[[#Headers],[水道代]])","v":0},{"$f":"SUMIFS(家計簿[金額],家計簿[年],月比較[[#This Row],[年]],家計簿[月],月比較[[#This Row],[月]],家計簿[勘定科目],月比較[[#Headers],[通信費]])","v":0},{"$f":"SUMIFS(家計簿[金額],家計簿[年],月比較[[#This Row],[年]],家計簿[月],月比較[[#This Row],[月]],家計簿[勘定科目],月比較[[#Headers],[保険代]])","v":0},{"$f":"SUMIFS(家計簿[金額],家計簿[年],月比較[[#This Row],[年]],家計簿[月],月比較[[#This Row],[月]],家計簿[勘定科目],月比較[[#Headers],[サブスク]])","v":0},{"$f":"SUMIFS(家計簿[金額],家計簿[年],月比較[[#This Row],[年]],家計簿[月],月比較[[#This Row],[月]],家計簿[勘定科目],月比較[[#Headers],[税金（固定資産、自動車）]])","v":0},{"$f":"SUMIFS(家計簿[金額],家計簿[年],月比較[[#This Row],[年]],家計簿[月],月比較[[#This Row],[月]],家計簿[勘定科目],月比較[[#Headers],[食費]])","v":0},{"$f":"SUMIFS(家計簿[金額],家計簿[年],月比較[[#This Row],[年]],家計簿[月],月比較[[#This Row],[月]],家計簿[勘定科目],月比較[[#Headers],[日用品]])","v":0},{"$f":"SUMIFS(家計簿[金額],家計簿[年],月比較[[#This Row],[年]],家計簿[月],月比較[[#This Row],[月]],家計簿[勘定科目],月比較[[#Headers],[衣服]])","v":0},{"$f":"SUMIFS(家計簿[金額],家計簿[年],月比較[[#This Row],[年]],家計簿[月],月比較[[#This Row],[月]],家計簿[勘定科目],月比較[[#Headers],[教育費]])","v":0},{"$f":"SUMIFS(家計簿[金額],家計簿[年],月比較[[#This Row],[年]],家計簿[月],月比較[[#This Row],[月]],家計簿[勘定科目],月比較[[#Headers],[外食費]])","v":0},{"$f":"SUMIFS(家計簿[金額],家計簿[年],月比較[[#This Row],[年]],家計簿[月],月比較[[#This Row],[月]],家計簿[勘定科目],月比較[[#Headers],[移動費]])","v":0},{"$f":"SUMIFS(家計簿[金額],家計簿[年],月比較[[#This Row],[年]],家計簿[月],月比較[[#This Row],[月]],家計簿[勘定科目],月比較[[#Headers],[旅費]])","v":0},{"$f":"SUMIFS(家計簿[金額],家計簿[年],月比較[[#This Row],[年]],家計簿[月],月比較[[#This Row],[月]],家計簿[勘定科目],月比較[[#Headers],[娯楽費]])","v":0},{"$f":"SUMIFS(家計簿[金額],家計簿[年],月比較[[#This Row],[年]],家計簿[月],月比較[[#This Row],[月]],家計簿[勘定科目],月比較[[#Headers],[医療費]])","v":0},{"$f":"SUMIFS(家計簿[金額],家計簿[年],月比較[[#This Row],[年]],家計簿[月],月比較[[#This Row],[月]],家計簿[勘定科目],月比較[[#Headers],[特別出費]])","v":0}]
[null,null,{"$f":"IF(月比較[[#This Row],[月]]=1,C50+1,C50)","v":2026},10,{"$f":"DATE(月比較[[#This Row],[年]],月比較[[#This Row],[月]],1)","v":"2026-10-01"},{"$f":"SUMIFS(家計簿[金額],家計簿[年],月比較[[#This Row],[年]],家計簿[月],月比較[[#This Row],[月]],家計簿[収入/支出],月比較[[#Headers],[収入]])","v":0},{"$f":"SUMIFS(家計簿[金額],家計簿[年],月比較[[#This Row],[年]],家計簿[月],月比較[[#This Row],[月]],家計簿[収入/支出],月比較[[#Headers],[支出]])","v":0},{"$f":"SUMIFS(家計簿[金額],家計簿[年],月比較[[#This Row],[年]],家計簿[月],月比較[[#This Row],[月]],家計簿[固定費/変動費],月比較[[#Headers],[固定費]])","v":0},{"$f":"SUMIFS(家計簿[金額],家計簿[年],月比較[[#This Row],[年]],家計簿[月],月比較[[#This Row],[月]],家計簿[固定費/変動費],月比較[[#Headers],[変動費]])","v":0},{"$f":"SUMIFS(家計簿[金額],家計簿[年],月比較[[#This Row],[年]],家計簿[月],月比較[[#This Row],[月]],家計簿[勘定科目],月比較[[#Headers],[給料]])","v":0},{"$f":"SUMIFS(家計簿[金額],家計簿[年],月比較[[#This Row],[年]],家計簿[月],月比較[[#This Row],[月]],家計簿[勘定科目],月比較[[#Headers],[ボーナス]])","v":0},{"$f":"SUMIFS(家計簿[金額],家計簿[年],月比較[[#This Row],[年]],家計簿[月],月比較[[#This Row],[月]],家計簿[勘定科目],月比較[[#Headers],[家賃補助]])","v":0},{"$f":"SUMIFS(家計簿[金額],家計簿[年],月比較[[#This Row],[年]],家計簿[月],月比較[[#This Row],[月]],家計簿[勘定科目],月比較[[#Headers],[児童手当]])","v":0},{"$f":"SUMIFS(家計簿[金額],家計簿[年],月比較[[#This Row],[年]],家計簿[月],月比較[[#This Row],[月]],家計簿[勘定科目],月比較[[#Headers],[配当金]])","v":0},{"$f":"SUMIFS(家計簿[金額],家計簿[年],月比較[[#This Row],[年]],家計簿[月],月比較[[#This Row],[月]],家計簿[勘定科目],月比較[[#Headers],[特別収入]])","v":0},{"$f":"SUMIFS(家計簿[金額],家計簿[年],月比較[[#This Row],[年]],家計簿[月],月比較[[#This Row],[月]],家計簿[勘定科目],月比較[[#Headers],[家賃]])","v":0},{"$f":"SUMIFS(家計簿[金額],家計簿[年],月比較[[#This Row],[年]],家計簿[月],月比較[[#This Row],[月]],家計簿[勘定科目],月比較[[#Headers],[電気代]])","v":0},{"$f":"SUMIFS(家計簿[金額],家計簿[年],月比較[[#This Row],[年]],家計簿[月],月比較[[#This Row],[月]],家計簿[勘定科目],月比較[[#Headers],[ガス代]])","v":0},{"$f":"SUMIFS(家計簿[金額],家計簿[年],月比較[[#This Row],[年]],家計簿[月],月比較[[#This Row],[月]],家計簿[勘定科目],月比較[[#Headers],[水道代]])","v":0},{"$f":"SUMIFS(家計簿[金額],家計簿[年],月比較[[#This Row],[年]],家計簿[月],月比較[[#This Row],[月]],家計簿[勘定科目],月比較[[#Headers],[通信費]])","v":0},{"$f":"SUMIFS(家計簿[金額],家計簿[年],月比較[[#This Row],[年]],家計簿[月],月比較[[#This Row],[月]],家計簿[勘定科目],月比較[[#Headers],[保険代]])","v":0},{"$f":"SUMIFS(家計簿[金額],家計簿[年],月比較[[#This Row],[年]],家計簿[月],月比較[[#This Row],[月]],家計簿[勘定科目],月比較[[#Headers],[サブスク]])","v":0},{"$f":"SUMIFS(家計簿[金額],家計簿[年],月比較[[#This Row],[年]],家計簿[月],月比較[[#This Row],[月]],家計簿[勘定科目],月比較[[#Headers],[税金（固定資産、自動車）]])","v":0},{"$f":"SUMIFS(家計簿[金額],家計簿[年],月比較[[#This Row],[年]],家計簿[月],月比較[[#This Row],[月]],家計簿[勘定科目],月比較[[#Headers],[食費]])","v":0},{"$f":"SUMIFS(家計簿[金額],家計簿[年],月比較[[#This Row],[年]],家計簿[月],月比較[[#This Row],[月]],家計簿[勘定科目],月比較[[#Headers],[日用品]])","v":0},{"$f":"SUMIFS(家計簿[金額],家計簿[年],月比較[[#This Row],[年]],家計簿[月],月比較[[#This Row],[月]],家計簿[勘定科目],月比較[[#Headers],[衣服]])","v":0},{"$f":"SUMIFS(家計簿[金額],家計簿[年],月比較[[#This Row],[年]],家計簿[月],月比較[[#This Row],[月]],家計簿[勘定科目],月比較[[#Headers],[教育費]])","v":0},{"$f":"SUMIFS(家計簿[金額],家計簿[年],月比較[[#This Row],[年]],家計簿[月],月比較[[#This Row],[月]],家計簿[勘定科目],月比較[[#Headers],[外食費]])","v":0},{"$f":"SUMIFS(家計簿[金額],家計簿[年],月比較[[#This Row],[年]],家計簿[月],月比較[[#This Row],[月]],家計簿[勘定科目],月比較[[#Headers],[移動費]])","v":0},{"$f":"SUMIFS(家計簿[金額],家計簿[年],月比較[[#This Row],[年]],家計簿[月],月比較[[#This Row],[月]],家計簿[勘定科目],月比較[[#Headers],[旅費]])","v":0},{"$f":"SUMIFS(家計簿[金額],家計簿[年],月比較[[#This Row],[年]],家計簿[月],月比較[[#This Row],[月]],家計簿[勘定科目],月比較[[#Headers],[娯楽費]])","v":0},{"$f":"SUMIFS(家計簿[金額],家計簿[年],月比較[[#This Row],[年]],家計簿[月],月比較[[#This Row],[月]],家計簿[勘定科目],月比較[[#Headers],[医療費]])","v":0},{"$f":"SUMIFS(家計簿[金額],家計簿[年],月比較[[#This Row],[年]],家計簿[月],月比較[[#This Row],[月]],家計簿[勘定科目],月比較[[#Headers],[特別出費]])","v":0}]
[null,null,{"$f":"IF(月比較[[#This Row],[月]]=1,C51+1,C51)","v":2026},11,{"$f":"DATE(月比較[[#This Row],[年]],月比較[[#This Row],[月]],1)","v":"2026-11-01"},{"$f":"SUMIFS(家計簿[金額],家計簿[年],月比較[[#This Row],[年]],家計簿[月],月比較[[#This Row],[月]],家計簿[収入/支出],月比較[[#Headers],[収入]])","v":0},{"$f":"SUMIFS(家計簿[金額],家計簿[年],月比較[[#This Row],[年]],家計簿[月],月比較[[#This Row],[月]],家計簿[収入/支出],月比較[[#Headers],[支出]])","v":0},{"$f":"SUMIFS(家計簿[金額],家計簿[年],月比較[[#This Row],[年]],家計簿[月],月比較[[#This Row],[月]],家計簿[固定費/変動費],月比較[[#Headers],[固定費]])","v":0},{"$f":"SUMIFS(家計簿[金額],家計簿[年],月比較[[#This Row],[年]],家計簿[月],月比較[[#This Row],[月]],家計簿[固定費/変動費],月比較[[#Headers],[変動費]])","v":0},{"$f":"SUMIFS(家計簿[金額],家計簿[年],月比較[[#This Row],[年]],家計簿[月],月比較[[#This Row],[月]],家計簿[勘定科目],月比較[[#Headers],[給料]])","v":0},{"$f":"SUMIFS(家計簿[金額],家計簿[年],月比較[[#This Row],[年]],家計簿[月],月比較[[#This Row],[月]],家計簿[勘定科目],月比較[[#Headers],[ボーナス]])","v":0},{"$f":"SUMIFS(家計簿[金額],家計簿[年],月比較[[#This Row],[年]],家計簿[月],月比較[[#This Row],[月]],家計簿[勘定科目],月比較[[#Headers],[家賃補助]])","v":0},{"$f":"SUMIFS(家計簿[金額],家計簿[年],月比較[[#This Row],[年]],家計簿[月],月比較[[#This Row],[月]],家計簿[勘定科目],月比較[[#Headers],[児童手当]])","v":0},{"$f":"SUMIFS(家計簿[金額],家計簿[年],月比較[[#This Row],[年]],家計簿[月],月比較[[#This Row],[月]],家計簿[勘定科目],月比較[[#Headers],[配当金]])","v":0},{"$f":"SUMIFS(家計簿[金額],家計簿[年],月比較[[#This Row],[年]],家計簿[月],月比較[[#This Row],[月]],家計簿[勘定科目],月比較[[#Headers],[特別収入]])","v":0},{"$f":"SUMIFS(家計簿[金額],家計簿[年],月比較[[#This Row],[年]],家計簿[月],月比較[[#This Row],[月]],家計簿[勘定科目],月比較[[#Headers],[家賃]])","v":0},{"$f":"SUMIFS(家計簿[金額],家計簿[年],月比較[[#This Row],[年]],家計簿[月],月比較[[#This Row],[月]],家計簿[勘定科目],月比較[[#Headers],[電気代]])","v":0},{"$f":"SUMIFS(家計簿[金額],家計簿[年],月比較[[#This Row],[年]],家計簿[月],月比較[[#This Row],[月]],家計簿[勘定科目],月比較[[#Headers],[ガス代]])","v":0},{"$f":"SUMIFS(家計簿[金額],家計簿[年],月比較[[#This Row],[年]],家計簿[月],月比較[[#This Row],[月]],家計簿[勘定科目],月比較[[#Headers],[水道代]])","v":0},{"$f":"SUMIFS(家計簿[金額],家計簿[年],月比較[[#This Row],[年]],家計簿[月],月比較[[#This Row],[月]],家計簿[勘定科目],月比較[[#Headers],[通信費]])","v":0},{"$f":"SUMIFS(家計簿[金額],家計簿[年],月比較[[#This Row],[年]],家計簿[月],月比較[[#This Row],[月]],家計簿[勘定科目],月比較[[#Headers],[保険代]])","v":0},{"$f":"SUMIFS(家計簿[金額],家計簿[年],月比較[[#This Row],[年]],家計簿[月],月比較[[#This Row],[月]],家計簿[勘定科目],月比較[[#Headers],[サブスク]])","v":0},{"$f":"SUMIFS(家計簿[金額],家計簿[年],月比較[[#This Row],[年]],家計簿[月],月比較[[#This Row],[月]],家計簿[勘定科目],月比較[[#Headers],[税金（固定資産、自動車）]])","v":0},{"$f":"SUMIFS(家計簿[金額],家計簿[年],月比較[[#This Row],[年]],家計簿[月],月比較[[#This Row],[月]],家計簿[勘定科目],月比較[[#Headers],[食費]])","v":0},{"$f":"SUMIFS(家計簿[金額],家計簿[年],月比較[[#This Row],[年]],家計簿[月],月比較[[#This Row],[月]],家計簿[勘定科目],月比較[[#Headers],[日用品]])","v":0},{"$f":"SUMIFS(家計簿[金額],家計簿[年],月比較[[#This Row],[年]],家計簿[月],月比較[[#This Row],[月]],家計簿[勘定科目],月比較[[#Headers],[衣服]])","v":0},{"$f":"SUMIFS(家計簿[金額],家計簿[年],月比較[[#This Row],[年]],家計簿[月],月比較[[#This Row],[月]],家計簿[勘定科目],月比較[[#Headers],[教育費]])","v":0},{"$f":"SUMIFS(家計簿[金額],家計簿[年],月比較[[#This Row],[年]],家計簿[月],月比較[[#This Row],[月]],家計簿[勘定科目],月比較[[#Headers],[外食費]])","v":0},{"$f":"SUMIFS(家計簿[金額],家計簿[年],月比較[[#This Row],[年]],家計簿[月],月比較[[#This Row],[月]],家計簿[勘定科目],月比較[[#Headers],[移動費]])","v":0},{"$f":"SUMIFS(家計簿[金額],家計簿[年],月比較[[#This Row],[年]],家計簿[月],月比較[[#This Row],[月]],家計簿[勘定科目],月比較[[#Headers],[旅費]])","v":0},{"$f":"SUMIFS(家計簿[金額],家計簿[年],月比較[[#This Row],[年]],家計簿[月],月比較[[#This Row],[月]],家計簿[勘定科目],月比較[[#Headers],[娯楽費]])","v":0},{"$f":"SUMIFS(家計簿[金額],家計簿[年],月比較[[#This Row],[年]],家計簿[月],月比較[[#This Row],[月]],家計簿[勘定科目],月比較[[#Headers],[医療費]])","v":0},{"$f":"SUMIFS(家計簿[金額],家計簿[年],月比較[[#This Row],[年]],家計簿[月],月比較[[#This Row],[月]],家計簿[勘定科目],月比較[[#Headers],[特別出費]])","v":0}]
[null,null,{"$f":"IF(月比較[[#This Row],[月]]=1,C52+1,C52)","v":2026},12,{"$f":"DATE(月比較[[#This Row],[年]],月比較[[#This Row],[月]],1)","v":"2026-12-01"},{"$f":"SUMIFS(家計簿[金額],家計簿[年],月比較[[#This Row],[年]],家計簿[月],月比較[[#This Row],[月]],家計簿[収入/支出],月比較[[#Headers],[収入]])","v":0},{"$f":"SUMIFS(家計簿[金額],家計簿[年],月比較[[#This Row],[年]],家計簿[月],月比較[[#This Row],[月]],家計簿[収入/支出],月比較[[#Headers],[支出]])","v":0},{"$f":"SUMIFS(家計簿[金額],家計簿[年],月比較[[#This Row],[年]],家計簿[月],月比較[[#This Row],[月]],家計簿[固定費/変動費],月比較[[#Headers],[固定費]])","v":0},{"$f":"SUMIFS(家計簿[金額],家計簿[年],月比較[[#This Row],[年]],家計簿[月],月比較[[#This Row],[月]],家計簿[固定費/変動費],月比較[[#Headers],[変動費]])","v":0},{"$f":"SUMIFS(家計簿[金額],家計簿[年],月比較[[#This Row],[年]],家計簿[月],月比較[[#This Row],[月]],家計簿[勘定科目],月比較[[#Headers],[給料]])","v":0},{"$f":"SUMIFS(家計簿[金額],家計簿[年],月比較[[#This Row],[年]],家計簿[月],月比較[[#This Row],[月]],家計簿[勘定科目],月比較[[#Headers],[ボーナス]])","v":0},{"$f":"SUMIFS(家計簿[金額],家計簿[年],月比較[[#This Row],[年]],家計簿[月],月比較[[#This Row],[月]],家計簿[勘定科目],月比較[[#Headers],[家賃補助]])","v":0},{"$f":"SUMIFS(家計簿[金額],家計簿[年],月比較[[#This Row],[年]],家計簿[月],月比較[[#This Row],[月]],家計簿[勘定科目],月比較[[#Headers],[児童手当]])","v":0},{"$f":"SUMIFS(家計簿[金額],家計簿[年],月比較[[#This Row],[年]],家計簿[月],月比較[[#This Row],[月]],家計簿[勘定科目],月比較[[#Headers],[配当金]])","v":0},{"$f":"SUMIFS(家計簿[金額],家計簿[年],月比較[[#This Row],[年]],家計簿[月],月比較[[#This Row],[月]],家計簿[勘定科目],月比較[[#Headers],[特別収入]])","v":0},{"$f":"SUMIFS(家計簿[金額],家計簿[年],月比較[[#This Row],[年]],家計簿[月],月比較[[#This Row],[月]],家計簿[勘定科目],月比較[[#Headers],[家賃]])","v":0},{"$f":"SUMIFS(家計簿[金額],家計簿[年],月比較[[#This Row],[年]],家計簿[月],月比較[[#This Row],[月]],家計簿[勘定科目],月比較[[#Headers],[電気代]])","v":0},{"$f":"SUMIFS(家計簿[金額],家計簿[年],月比較[[#This Row],[年]],家計簿[月],月比較[[#This Row],[月]],家計簿[勘定科目],月比較[[#Headers],[ガス代]])","v":0},{"$f":"SUMIFS(家計簿[金額],家計簿[年],月比較[[#This Row],[年]],家計簿[月],月比較[[#This Row],[月]],家計簿[勘定科目],月比較[[#Headers],[水道代]])","v":0},{"$f":"SUMIFS(家計簿[金額],家計簿[年],月比較[[#This Row],[年]],家計簿[月],月比較[[#This Row],[月]],家計簿[勘定科目],月比較[[#Headers],[通信費]])","v":0},{"$f":"SUMIFS(家計簿[金額],家計簿[年],月比較[[#This Row],[年]],家計簿[月],月比較[[#This Row],[月]],家計簿[勘定科目],月比較[[#Headers],[保険代]])","v":0},{"$f":"SUMIFS(家計簿[金額],家計簿[年],月比較[[#This Row],[年]],家計簿[月],月比較[[#This Row],[月]],家計簿[勘定科目],月比較[[#Headers],[サブスク]])","v":0},{"$f":"SUMIFS(家計簿[金額],家計簿[年],月比較[[#This Row],[年]],家計簿[月],月比較[[#This Row],[月]],家計簿[勘定科目],月比較[[#Headers],[税金（固定資産、自動車）]])","v":0},{"$f":"SUMIFS(家計簿[金額],家計簿[年],月比較[[#This Row],[年]],家計簿[月],月比較[[#This Row],[月]],家計簿[勘定科目],月比較[[#Headers],[食費]])","v":0},{"$f":"SUMIFS(家計簿[金額],家計簿[年],月比較[[#This Row],[年]],家計簿[月],月比較[[#This Row],[月]],家計簿[勘定科目],月比較[[#Headers],[日用品]])","v":0},{"$f":"SUMIFS(家計簿[金額],家計簿[年],月比較[[#This Row],[年]],家計簿[月],月比較[[#This Row],[月]],家計簿[勘定科目],月比較[[#Headers],[衣服]])","v":0},{"$f":"SUMIFS(家計簿[金額],家計簿[年],月比較[[#This Row],[年]],家計簿[月],月比較[[#This Row],[月]],家計簿[勘定科目],月比較[[#Headers],[教育費]])","v":0},{"$f":"SUMIFS(家計簿[金額],家計簿[年],月比較[[#This Row],[年]],家計簿[月],月比較[[#This Row],[月]],家計簿[勘定科目],月比較[[#Headers],[外食費]])","v":0},{"$f":"SUMIFS(家計簿[金額],家計簿[年],月比較[[#This Row],[年]],家計簿[月],月比較[[#This Row],[月]],家計簿[勘定科目],月比較[[#Headers],[移動費]])","v":0},{"$f":"SUMIFS(家計簿[金額],家計簿[年],月比較[[#This Row],[年]],家計簿[月],月比較[[#This Row],[月]],家計簿[勘定科目],月比較[[#Headers],[旅費]])","v":0},{"$f":"SUMIFS(家計簿[金額],家計簿[年],月比較[[#This Row],[年]],家計簿[月],月比較[[#This Row],[月]],家計簿[勘定科目],月比較[[#Headers],[娯楽費]])","v":0},{"$f":"SUMIFS(家計簿[金額],家計簿[年],月比較[[#This Row],[年]],家計簿[月],月比較[[#This Row],[月]],家計簿[勘定科目],月比較[[#Headers],[医療費]])","v":0},{"$f":"SUMIFS(家計簿[金額],家計簿[年],月比較[[#This Row],[年]],家計簿[月],月比較[[#This Row],[月]],家計簿[勘定科目],月比較[[#Headers],[特別出費]])","v":0}]
[null,null,{"$f":"IF(月比較[[#This Row],[月]]=1,C53+1,C53)","v":2027},1,{"$f":"DATE(月比較[[#This Row],[年]],月比較[[#This Row],[月]],1)","v":"2027-01-01"},{"$f":"SUMIFS(家計簿[金額],家計簿[年],月比較[[#This Row],[年]],家計簿[月],月比較[[#This Row],[月]],家計簿[収入/支出],月比較[[#Headers],[収入]])","v":0},{"$f":"SUMIFS(家計簿[金額],家計簿[年],月比較[[#This Row],[年]],家計簿[月],月比較[[#This Row],[月]],家計簿[収入/支出],月比較[[#Headers],[支出]])","v":0},{"$f":"SUMIFS(家計簿[金額],家計簿[年],月比較[[#This Row],[年]],家計簿[月],月比較[[#This Row],[月]],家計簿[固定費/変動費],月比較[[#Headers],[固定費]])","v":0},{"$f":"SUMIFS(家計簿[金額],家計簿[年],月比較[[#This Row],[年]],家計簿[月],月比較[[#This Row],[月]],家計簿[固定費/変動費],月比較[[#Headers],[変動費]])","v":0},{"$f":"SUMIFS(家計簿[金額],家計簿[年],月比較[[#This Row],[年]],家計簿[月],月比較[[#This Row],[月]],家計簿[勘定科目],月比較[[#Headers],[給料]])","v":0},{"$f":"SUMIFS(家計簿[金額],家計簿[年],月比較[[#This Row],[年]],家計簿[月],月比較[[#This Row],[月]],家計簿[勘定科目],月比較[[#Headers],[ボーナス]])","v":0},{"$f":"SUMIFS(家計簿[金額],家計簿[年],月比較[[#This Row],[年]],家計簿[月],月比較[[#This Row],[月]],家計簿[勘定科目],月比較[[#Headers],[家賃補助]])","v":0},{"$f":"SUMIFS(家計簿[金額],家計簿[年],月比較[[#This Row],[年]],家計簿[月],月比較[[#This Row],[月]],家計簿[勘定科目],月比較[[#Headers],[児童手当]])","v":0},{"$f":"SUMIFS(家計簿[金額],家計簿[年],月比較[[#This Row],[年]],家計簿[月],月比較[[#This Row],[月]],家計簿[勘定科目],月比較[[#Headers],[配当金]])","v":0},{"$f":"SUMIFS(家計簿[金額],家計簿[年],月比較[[#This Row],[年]],家計簿[月],月比較[[#This Row],[月]],家計簿[勘定科目],月比較[[#Headers],[特別収入]])","v":0},{"$f":"SUMIFS(家計簿[金額],家計簿[年],月比較[[#This Row],[年]],家計簿[月],月比較[[#This Row],[月]],家計簿[勘定科目],月比較[[#Headers],[家賃]])","v":0},{"$f":"SUMIFS(家計簿[金額],家計簿[年],月比較[[#This Row],[年]],家計簿[月],月比較[[#This Row],[月]],家計簿[勘定科目],月比較[[#Headers],[電気代]])","v":0},{"$f":"SUMIFS(家計簿[金額],家計簿[年],月比較[[#This Row],[年]],家計簿[月],月比較[[#This Row],[月]],家計簿[勘定科目],月比較[[#Headers],[ガス代]])","v":0},{"$f":"SUMIFS(家計簿[金額],家計簿[年],月比較[[#This Row],[年]],家計簿[月],月比較[[#This Row],[月]],家計簿[勘定科目],月比較[[#Headers],[水道代]])","v":0},{"$f":"SUMIFS(家計簿[金額],家計簿[年],月比較[[#This Row],[年]],家計簿[月],月比較[[#This Row],[月]],家計簿[勘定科目],月比較[[#Headers],[通信費]])","v":0},{"$f":"SUMIFS(家計簿[金額],家計簿[年],月比較[[#This Row],[年]],家計簿[月],月比較[[#This Row],[月]],家計簿[勘定科目],月比較[[#Headers],[保険代]])","v":0},{"$f":"SUMIFS(家計簿[金額],家計簿[年],月比較[[#This Row],[年]],家計簿[月],月比較[[#This Row],[月]],家計簿[勘定科目],月比較[[#Headers],[サブスク]])","v":0},{"$f":"SUMIFS(家計簿[金額],家計簿[年],月比較[[#This Row],[年]],家計簿[月],月比較[[#This Row],[月]],家計簿[勘定科目],月比較[[#Headers],[税金（固定資産、自動車）]])","v":0},{"$f":"SUMIFS(家計簿[金額],家計簿[年],月比較[[#This Row],[年]],家計簿[月],月比較[[#This Row],[月]],家計簿[勘定科目],月比較[[#Headers],[食費]])","v":0},{"$f":"SUMIFS(家計簿[金額],家計簿[年],月比較[[#This Row],[年]],家計簿[月],月比較[[#This Row],[月]],家計簿[勘定科目],月比較[[#Headers],[日用品]])","v":0},{"$f":"SUMIFS(家計簿[金額],家計簿[年],月比較[[#This Row],[年]],家計簿[月],月比較[[#This Row],[月]],家計簿[勘定科目],月比較[[#Headers],[衣服]])","v":0},{"$f":"SUMIFS(家計簿[金額],家計簿[年],月比較[[#This Row],[年]],家計簿[月],月比較[[#This Row],[月]],家計簿[勘定科目],月比較[[#Headers],[教育費]])","v":0},{"$f":"SUMIFS(家計簿[金額],家計簿[年],月比較[[#This Row],[年]],家計簿[月],月比較[[#This Row],[月]],家計簿[勘定科目],月比較[[#Headers],[外食費]])","v":0},{"$f":"SUMIFS(家計簿[金額],家計簿[年],月比較[[#This Row],[年]],家計簿[月],月比較[[#This Row],[月]],家計簿[勘定科目],月比較[[#Headers],[移動費]])","v":0},{"$f":"SUMIFS(家計簿[金額],家計簿[年],月比較[[#This Row],[年]],家計簿[月],月比較[[#This Row],[月]],家計簿[勘定科目],月比較[[#Headers],[旅費]])","v":0},{"$f":"SUMIFS(家計簿[金額],家計簿[年],月比較[[#This Row],[年]],家計簿[月],月比較[[#This Row],[月]],家計簿[勘定科目],月比較[[#Headers],[娯楽費]])","v":0},{"$f":"SUMIFS(家計簿[金額],家計簿[年],月比較[[#This Row],[年]],家計簿[月],月比較[[#This Row],[月]],家計簿[勘定科目],月比較[[#Headers],[医療費]])","v":0},{"$f":"SUMIFS(家計簿[金額],家計簿[年],月比較[[#This Row],[年]],家計簿[月],月比較[[#This Row],[月]],家計簿[勘定科目],月比較[[#Headers],[特別出費]])","v":0}]
[null,null,{"$f":"IF(月比較[[#This Row],[月]]=1,C54+1,C54)","v":2027},2,{"$f":"DATE(月比較[[#This Row],[年]],月比較[[#This Row],[月]],1)","v":"2027-02-01"},{"$f":"SUMIFS(家計簿[金額],家計簿[年],月比較[[#This Row],[年]],家計簿[月],月比較[[#This Row],[月]],家計簿[収入/支出],月比較[[#Headers],[収入]])","v":0},{"$f":"SUMIFS(家計簿[金額],家計簿[年],月比較[[#This Row],[年]],家計簿[月],月比較[[#This Row],[月]],家計簿[収入/支出],月比較[[#Headers],[支出]])","v":0},{"$f":"SUMIFS(家計簿[金額],家計簿[年],月比較[[#This Row],[年]],家計簿[月],月比較[[#This Row],[月]],家計簿[固定費/変動費],月比較[[#Headers],[固定費]])","v":0},{"$f":"SUMIFS(家計簿[金額],家計簿[年],月比較[[#This Row],[年]],家計簿[月],月比較[[#This Row],[月]],家計簿[固定費/変動費],月比較[[#Headers],[変動費]])","v":0},{"$f":"SUMIFS(家計簿[金額],家計簿[年],月比較[[#This Row],[年]],家計簿[月],月比較[[#This Row],[月]],家計簿[勘定科目],月比較[[#Headers],[給料]])","v":0},{"$f":"SUMIFS(家計簿[金額],家計簿[年],月比較[[#This Row],[年]],家計簿[月],月比較[[#This Row],[月]],家計簿[勘定科目],月比較[[#Headers],[ボーナス]])","v":0},{"$f":"SUMIFS(家計簿[金額],家計簿[年],月比較[[#This Row],[年]],家計簿[月],月比較[[#This Row],[月]],家計簿[勘定科目],月比較[[#Headers],[家賃補助]])","v":0},{"$f":"SUMIFS(家計簿[金額],家計簿[年],月比較[[#This Row],[年]],家計簿[月],月比較[[#This Row],[月]],家計簿[勘定科目],月比較[[#Headers],[児童手当]])","v":0},{"$f":"SUMIFS(家計簿[金額],家計簿[年],月比較[[#This Row],[年]],家計簿[月],月比較[[#This Row],[月]],家計簿[勘定科目],月比較[[#Headers],[配当金]])","v":0},{"$f":"SUMIFS(家計簿[金額],家計簿[年],月比較[[#This Row],[年]],家計簿[月],月比較[[#This Row],[月]],家計簿[勘定科目],月比較[[#Headers],[特別収入]])","v":0},{"$f":"SUMIFS(家計簿[金額],家計簿[年],月比較[[#This Row],[年]],家計簿[月],月比較[[#This Row],[月]],家計簿[勘定科目],月比較[[#Headers],[家賃]])","v":0},{"$f":"SUMIFS(家計簿[金額],家計簿[年],月比較[[#This Row],[年]],家計簿[月],月比較[[#This Row],[月]],家計簿[勘定科目],月比較[[#Headers],[電気代]])","v":0},{"$f":"SUMIFS(家計簿[金額],家計簿[年],月比較[[#This Row],[年]],家計簿[月],月比較[[#This Row],[月]],家計簿[勘定科目],月比較[[#Headers],[ガス代]])","v":0},{"$f":"SUMIFS(家計簿[金額],家計簿[年],月比較[[#This Row],[年]],家計簿[月],月比較[[#This Row],[月]],家計簿[勘定科目],月比較[[#Headers],[水道代]])","v":0},{"$f":"SUMIFS(家計簿[金額],家計簿[年],月比較[[#This Row],[年]],家計簿[月],月比較[[#This Row],[月]],家計簿[勘定科目],月比較[[#Headers],[通信費]])","v":0},{"$f":"SUMIFS(家計簿[金額],家計簿[年],月比較[[#This Row],[年]],家計簿[月],月比較[[#This Row],[月]],家計簿[勘定科目],月比較[[#Headers],[保険代]])","v":0},{"$f":"SUMIFS(家計簿[金額],家計簿[年],月比較[[#This Row],[年]],家計簿[月],月比較[[#This Row],[月]],家計簿[勘定科目],月比較[[#Headers],[サブスク]])","v":0},{"$f":"SUMIFS(家計簿[金額],家計簿[年],月比較[[#This Row],[年]],家計簿[月],月比較[[#This Row],[月]],家計簿[勘定科目],月比較[[#Headers],[税金（固定資産、自動車）]])","v":0},{"$f":"SUMIFS(家計簿[金額],家計簿[年],月比較[[#This Row],[年]],家計簿[月],月比較[[#This Row],[月]],家計簿[勘定科目],月比較[[#Headers],[食費]])","v":0},{"$f":"SUMIFS(家計簿[金額],家計簿[年],月比較[[#This Row],[年]],家計簿[月],月比較[[#This Row],[月]],家計簿[勘定科目],月比較[[#Headers],[日用品]])","v":0},{"$f":"SUMIFS(家計簿[金額],家計簿[年],月比較[[#This Row],[年]],家計簿[月],月比較[[#This Row],[月]],家計簿[勘定科目],月比較[[#Headers],[衣服]])","v":0},{"$f":"SUMIFS(家計簿[金額],家計簿[年],月比較[[#This Row],[年]],家計簿[月],月比較[[#This Row],[月]],家計簿[勘定科目],月比較[[#Headers],[教育費]])","v":0},{"$f":"SUMIFS(家計簿[金額],家計簿[年],月比較[[#This Row],[年]],家計簿[月],月比較[[#This Row],[月]],家計簿[勘定科目],月比較[[#Headers],[外食費]])","v":0},{"$f":"SUMIFS(家計簿[金額],家計簿[年],月比較[[#This Row],[年]],家計簿[月],月比較[[#This Row],[月]],家計簿[勘定科目],月比較[[#Headers],[移動費]])","v":0},{"$f":"SUMIFS(家計簿[金額],家計簿[年],月比較[[#This Row],[年]],家計簿[月],月比較[[#This Row],[月]],家計簿[勘定科目],月比較[[#Headers],[旅費]])","v":0},{"$f":"SUMIFS(家計簿[金額],家計簿[年],月比較[[#This Row],[年]],家計簿[月],月比較[[#This Row],[月]],家計簿[勘定科目],月比較[[#Headers],[娯楽費]])","v":0},{"$f":"SUMIFS(家計簿[金額],家計簿[年],月比較[[#This Row],[年]],家計簿[月],月比較[[#This Row],[月]],家計簿[勘定科目],月比較[[#Headers],[医療費]])","v":0},{"$f":"SUMIFS(家計簿[金額],家計簿[年],月比較[[#This Row],[年]],家計簿[月],月比較[[#This Row],[月]],家計簿[勘定科目],月比較[[#Headers],[特別出費]])","v":0}]
[null,null,{"$f":"IF(月比較[[#This Row],[月]]=1,C55+1,C55)","v":2027},3,{"$f":"DATE(月比較[[#This Row],[年]],月比較[[#This Row],[月]],1)","v":"2027-03-01"},{"$f":"SUMIFS(家計簿[金額],家計簿[年],月比較[[#This Row],[年]],家計簿[月],月比較[[#This Row],[月]],家計簿[収入/支出],月比較[[#Headers],[収入]])","v":0},{"$f":"SUMIFS(家計簿[金額],家計簿[年],月比較[[#This Row],[年]],家計簿[月],月比較[[#This Row],[月]],家計簿[収入/支出],月比較[[#Headers],[支出]])","v":0},{"$f":"SUMIFS(家計簿[金額],家計簿[年],月比較[[#This Row],[年]],家計簿[月],月比較[[#This Row],[月]],家計簿[固定費/変動費],月比較[[#Headers],[固定費]])","v":0},{"$f":"SUMIFS(家計簿[金額],家計簿[年],月比較[[#This Row],[年]],家計簿[月],月比較[[#This Row],[月]],家計簿[固定費/変動費],月比較[[#Headers],[変動費]])","v":0},{"$f":"SUMIFS(家計簿[金額],家計簿[年],月比較[[#This Row],[年]],家計簿[月],月比較[[#This Row],[月]],家計簿[勘定科目],月比較[[#Headers],[給料]])","v":0},{"$f":"SUMIFS(家計簿[金額],家計簿[年],月比較[[#This Row],[年]],家計簿[月],月比較[[#This Row],[月]],家計簿[勘定科目],月比較[[#Headers],[ボーナス]])","v":0},{"$f":"SUMIFS(家計簿[金額],家計簿[年],月比較[[#This Row],[年]],家計簿[月],月比較[[#This Row],[月]],家計簿[勘定科目],月比較[[#Headers],[家賃補助]])","v":0},{"$f":"SUMIFS(家計簿[金額],家計簿[年],月比較[[#This Row],[年]],家計簿[月],月比較[[#This Row],[月]],家計簿[勘定科目],月比較[[#Headers],[児童手当]])","v":0},{"$f":"SUMIFS(家計簿[金額],家計簿[年],月比較[[#This Row],[年]],家計簿[月],月比較[[#This Row],[月]],家計簿[勘定科目],月比較[[#Headers],[配当金]])","v":0},{"$f":"SUMIFS(家計簿[金額],家計簿[年],月比較[[#This Row],[年]],家計簿[月],月比較[[#This Row],[月]],家計簿[勘定科目],月比較[[#Headers],[特別収入]])","v":0},{"$f":"SUMIFS(家計簿[金額],家計簿[年],月比較[[#This Row],[年]],家計簿[月],月比較[[#This Row],[月]],家計簿[勘定科目],月比較[[#Headers],[家賃]])","v":0},{"$f":"SUMIFS(家計簿[金額],家計簿[年],月比較[[#This Row],[年]],家計簿[月],月比較[[#This Row],[月]],家計簿[勘定科目],月比較[[#Headers],[電気代]])","v":0},{"$f":"SUMIFS(家計簿[金額],家計簿[年],月比較[[#This Row],[年]],家計簿[月],月比較[[#This Row],[月]],家計簿[勘定科目],月比較[[#Headers],[ガス代]])","v":0},{"$f":"SUMIFS(家計簿[金額],家計簿[年],月比較[[#This Row],[年]],家計簿[月],月比較[[#This Row],[月]],家計簿[勘定科目],月比較[[#Headers],[水道代]])","v":0},{"$f":"SUMIFS(家計簿[金額],家計簿[年],月比較[[#This Row],[年]],家計簿[月],月比較[[#This Row],[月]],家計簿[勘定科目],月比較[[#Headers],[通信費]])","v":0},{"$f":"SUMIFS(家計簿[金額],家計簿[年],月比較[[#This Row],[年]],家計簿[月],月比較[[#This Row],[月]],家計簿[勘定科目],月比較[[#Headers],[保険代]])","v":0},{"$f":"SUMIFS(家計簿[金額],家計簿[年],月比較[[#This Row],[年]],家計簿[月],月比較[[#This Row],[月]],家計簿[勘定科目],月比較[[#Headers],[サブスク]])","v":0},{"$f":"SUMIFS(家計簿[金額],家計簿[年],月比較[[#This Row],[年]],家計簿[月],月比較[[#This Row],[月]],家計簿[勘定科目],月比較[[#Headers],[税金（固定資産、自動車）]])","v":0},{"$f":"SUMIFS(家計簿[金額],家計簿[年],月比較[[#This Row],[年]],家計簿[月],月比較[[#This Row],[月]],家計簿[勘定科目],月比較[[#Headers],[食費]])","v":0},{"$f":"SUMIFS(家計簿[金額],家計簿[年],月比較[[#This Row],[年]],家計簿[月],月比較[[#This Row],[月]],家計簿[勘定科目],月比較[[#Headers],[日用品]])","v":0},{"$f":"SUMIFS(家計簿[金額],家計簿[年],月比較[[#This Row],[年]],家計簿[月],月比較[[#This Row],[月]],家計簿[勘定科目],月比較[[#Headers],[衣服]])","v":0},{"$f":"SUMIFS(家計簿[金額],家計簿[年],月比較[[#This Row],[年]],家計簿[月],月比較[[#This Row],[月]],家計簿[勘定科目],月比較[[#Headers],[教育費]])","v":0},{"$f":"SUMIFS(家計簿[金額],家計簿[年],月比較[[#This Row],[年]],家計簿[月],月比較[[#This Row],[月]],家計簿[勘定科目],月比較[[#Headers],[外食費]])","v":0},{"$f":"SUMIFS(家計簿[金額],家計簿[年],月比較[[#This Row],[年]],家計簿[月],月比較[[#This Row],[月]],家計簿[勘定科目],月比較[[#Headers],[移動費]])","v":0},{"$f":"SUMIFS(家計簿[金額],家計簿[年],月比較[[#This Row],[年]],家計簿[月],月比較[[#This Row],[月]],家計簿[勘定科目],月比較[[#Headers],[旅費]])","v":0},{"$f":"SUMIFS(家計簿[金額],家計簿[年],月比較[[#This Row],[年]],家計簿[月],月比較[[#This Row],[月]],家計簿[勘定科目],月比較[[#Headers],[娯楽費]])","v":0},{"$f":"SUMIFS(家計簿[金額],家計簿[年],月比較[[#This Row],[年]],家計簿[月],月比較[[#This Row],[月]],家計簿[勘定科目],月比較[[#Headers],[医療費]])","v":0},{"$f":"SUMIFS(家計簿[金額],家計簿[年],月比較[[#This Row],[年]],家計簿[月],月比較[[#This Row],[月]],家計簿[勘定科目],月比較[[#Headers],[特別出費]])","v":0}]
[null,null,{"$f":"IF(月比較[[#This Row],[月]]=1,C56+1,C56)","v":2027},4,{"$f":"DATE(月比較[[#This Row],[年]],月比較[[#This Row],[月]],1)","v":"2027-04-01"},{"$f":"SUMIFS(家計簿[金額],家計簿[年],月比較[[#This Row],[年]],家計簿[月],月比較[[#This Row],[月]],家計簿[収入/支出],月比較[[#Headers],[収入]])","v":0},{"$f":"SUMIFS(家計簿[金額],家計簿[年],月比較[[#This Row],[年]],家計簿[月],月比較[[#This Row],[月]],家計簿[収入/支出],月比較[[#Headers],[支出]])","v":0},{"$f":"SUMIFS(家計簿[金額],家計簿[年],月比較[[#This Row],[年]],家計簿[月],月比較[[#This Row],[月]],家計簿[固定費/変動費],月比較[[#Headers],[固定費]])","v":0},{"$f":"SUMIFS(家計簿[金額],家計簿[年],月比較[[#This Row],[年]],家計簿[月],月比較[[#This Row],[月]],家計簿[固定費/変動費],月比較[[#Headers],[変動費]])","v":0},{"$f":"SUMIFS(家計簿[金額],家計簿[年],月比較[[#This Row],[年]],家計簿[月],月比較[[#This Row],[月]],家計簿[勘定科目],月比較[[#Headers],[給料]])","v":0},{"$f":"SUMIFS(家計簿[金額],家計簿[年],月比較[[#This Row],[年]],家計簿[月],月比較[[#This Row],[月]],家計簿[勘定科目],月比較[[#Headers],[ボーナス]])","v":0},{"$f":"SUMIFS(家計簿[金額],家計簿[年],月比較[[#This Row],[年]],家計簿[月],月比較[[#This Row],[月]],家計簿[勘定科目],月比較[[#Headers],[家賃補助]])","v":0},{"$f":"SUMIFS(家計簿[金額],家計簿[年],月比較[[#This Row],[年]],家計簿[月],月比較[[#This Row],[月]],家計簿[勘定科目],月比較[[#Headers],[児童手当]])","v":0},{"$f":"SUMIFS(家計簿[金額],家計簿[年],月比較[[#This Row],[年]],家計簿[月],月比較[[#This Row],[月]],家計簿[勘定科目],月比較[[#Headers],[配当金]])","v":0},{"$f":"SUMIFS(家計簿[金額],家計簿[年],月比較[[#This Row],[年]],家計簿[月],月比較[[#This Row],[月]],家計簿[勘定科目],月比較[[#Headers],[特別収入]])","v":0},{"$f":"SUMIFS(家計簿[金額],家計簿[年],月比較[[#This Row],[年]],家計簿[月],月比較[[#This Row],[月]],家計簿[勘定科目],月比較[[#Headers],[家賃]])","v":0},{"$f":"SUMIFS(家計簿[金額],家計簿[年],月比較[[#This Row],[年]],家計簿[月],月比較[[#This Row],[月]],家計簿[勘定科目],月比較[[#Headers],[電気代]])","v":0},{"$f":"SUMIFS(家計簿[金額],家計簿[年],月比較[[#This Row],[年]],家計簿[月],月比較[[#This Row],[月]],家計簿[勘定科目],月比較[[#Headers],[ガス代]])","v":0},{"$f":"SUMIFS(家計簿[金額],家計簿[年],月比較[[#This Row],[年]],家計簿[月],月比較[[#This Row],[月]],家計簿[勘定科目],月比較[[#Headers],[水道代]])","v":0},{"$f":"SUMIFS(家計簿[金額],家計簿[年],月比較[[#This Row],[年]],家計簿[月],月比較[[#This Row],[月]],家計簿[勘定科目],月比較[[#Headers],[通信費]])","v":0},{"$f":"SUMIFS(家計簿[金額],家計簿[年],月比較[[#This Row],[年]],家計簿[月],月比較[[#This Row],[月]],家計簿[勘定科目],月比較[[#Headers],[保険代]])","v":0},{"$f":"SUMIFS(家計簿[金額],家計簿[年],月比較[[#This Row],[年]],家計簿[月],月比較[[#This Row],[月]],家計簿[勘定科目],月比較[[#Headers],[サブスク]])","v":0},{"$f":"SUMIFS(家計簿[金額],家計簿[年],月比較[[#This Row],[年]],家計簿[月],月比較[[#This Row],[月]],家計簿[勘定科目],月比較[[#Headers],[税金（固定資産、自動車）]])","v":0},{"$f":"SUMIFS(家計簿[金額],家計簿[年],月比較[[#This Row],[年]],家計簿[月],月比較[[#This Row],[月]],家計簿[勘定科目],月比較[[#Headers],[食費]])","v":0},{"$f":"SUMIFS(家計簿[金額],家計簿[年],月比較[[#This Row],[年]],家計簿[月],月比較[[#This Row],[月]],家計簿[勘定科目],月比較[[#Headers],[日用品]])","v":0},{"$f":"SUMIFS(家計簿[金額],家計簿[年],月比較[[#This Row],[年]],家計簿[月],月比較[[#This Row],[月]],家計簿[勘定科目],月比較[[#Headers],[衣服]])","v":0},{"$f":"SUMIFS(家計簿[金額],家計簿[年],月比較[[#This Row],[年]],家計簿[月],月比較[[#This Row],[月]],家計簿[勘定科目],月比較[[#Headers],[教育費]])","v":0},{"$f":"SUMIFS(家計簿[金額],家計簿[年],月比較[[#This Row],[年]],家計簿[月],月比較[[#This Row],[月]],家計簿[勘定科目],月比較[[#Headers],[外食費]])","v":0},{"$f":"SUMIFS(家計簿[金額],家計簿[年],月比較[[#This Row],[年]],家計簿[月],月比較[[#This Row],[月]],家計簿[勘定科目],月比較[[#Headers],[移動費]])","v":0},{"$f":"SUMIFS(家計簿[金額],家計簿[年],月比較[[#This Row],[年]],家計簿[月],月比較[[#This Row],[月]],家計簿[勘定科目],月比較[[#Headers],[旅費]])","v":0},{"$f":"SUMIFS(家計簿[金額],家計簿[年],月比較[[#This Row],[年]],家計簿[月],月比較[[#This Row],[月]],家計簿[勘定科目],月比較[[#Headers],[娯楽費]])","v":0},{"$f":"SUMIFS(家計簿[金額],家計簿[年],月比較[[#This Row],[年]],家計簿[月],月比較[[#This Row],[月]],家計簿[勘定科目],月比較[[#Headers],[医療費]])","v":0},{"$f":"SUMIFS(家計簿[金額],家計簿[年],月比較[[#This Row],[年]],家計簿[月],月比較[[#This Row],[月]],家計簿[勘定科目],月比較[[#Headers],[特別出費]])","v":0}]
[null,null,{"$f":"IF(月比較[[#This Row],[月]]=1,C57+1,C57)","v":2027},5,{"$f":"DATE(月比較[[#This Row],[年]],月比較[[#This Row],[月]],1)","v":"2027-05-01"},{"$f":"SUMIFS(家計簿[金額],家計簿[年],月比較[[#This Row],[年]],家計簿[月],月比較[[#This Row],[月]],家計簿[収入/支出],月比較[[#Headers],[収入]])","v":0},{"$f":"SUMIFS(家計簿[金額],家計簿[年],月比較[[#This Row],[年]],家計簿[月],月比較[[#This Row],[月]],家計簿[収入/支出],月比較[[#Headers],[支出]])","v":0},{"$f":"SUMIFS(家計簿[金額],家計簿[年],月比較[[#This Row],[年]],家計簿[月],月比較[[#This Row],[月]],家計簿[固定費/変動費],月比較[[#Headers],[固定費]])","v":0},{"$f":"SUMIFS(家計簿[金額],家計簿[年],月比較[[#This Row],[年]],家計簿[月],月比較[[#This Row],[月]],家計簿[固定費/変動費],月比較[[#Headers],[変動費]])","v":0},{"$f":"SUMIFS(家計簿[金額],家計簿[年],月比較[[#This Row],[年]],家計簿[月],月比較[[#This Row],[月]],家計簿[勘定科目],月比較[[#Headers],[給料]])","v":0},{"$f":"SUMIFS(家計簿[金額],家計簿[年],月比較[[#This Row],[年]],家計簿[月],月比較[[#This Row],[月]],家計簿[勘定科目],月比較[[#Headers],[ボーナス]])","v":0},{"$f":"SUMIFS(家計簿[金額],家計簿[年],月比較[[#This Row],[年]],家計簿[月],月比較[[#This Row],[月]],家計簿[勘定科目],月比較[[#Headers],[家賃補助]])","v":0},{"$f":"SUMIFS(家計簿[金額],家計簿[年],月比較[[#This Row],[年]],家計簿[月],月比較[[#This Row],[月]],家計簿[勘定科目],月比較[[#Headers],[児童手当]])","v":0},{"$f":"SUMIFS(家計簿[金額],家計簿[年],月比較[[#This Row],[年]],家計簿[月],月比較[[#This Row],[月]],家計簿[勘定科目],月比較[[#Headers],[配当金]])","v":0},{"$f":"SUMIFS(家計簿[金額],家計簿[年],月比較[[#This Row],[年]],家計簿[月],月比較[[#This Row],[月]],家計簿[勘定科目],月比較[[#Headers],[特別収入]])","v":0},{"$f":"SUMIFS(家計簿[金額],家計簿[年],月比較[[#This Row],[年]],家計簿[月],月比較[[#This Row],[月]],家計簿[勘定科目],月比較[[#Headers],[家賃]])","v":0},{"$f":"SUMIFS(家計簿[金額],家計簿[年],月比較[[#This Row],[年]],家計簿[月],月比較[[#This Row],[月]],家計簿[勘定科目],月比較[[#Headers],[電気代]])","v":0},{"$f":"SUMIFS(家計簿[金額],家計簿[年],月比較[[#This Row],[年]],家計簿[月],月比較[[#This Row],[月]],家計簿[勘定科目],月比較[[#Headers],[ガス代]])","v":0},{"$f":"SUMIFS(家計簿[金額],家計簿[年],月比較[[#This Row],[年]],家計簿[月],月比較[[#This Row],[月]],家計簿[勘定科目],月比較[[#Headers],[水道代]])","v":0},{"$f":"SUMIFS(家計簿[金額],家計簿[年],月比較[[#This Row],[年]],家計簿[月],月比較[[#This Row],[月]],家計簿[勘定科目],月比較[[#Headers],[通信費]])","v":0},{"$f":"SUMIFS(家計簿[金額],家計簿[年],月比較[[#This Row],[年]],家計簿[月],月比較[[#This Row],[月]],家計簿[勘定科目],月比較[[#Headers],[保険代]])","v":0},{"$f":"SUMIFS(家計簿[金額],家計簿[年],月比較[[#This Row],[年]],家計簿[月],月比較[[#This Row],[月]],家計簿[勘定科目],月比較[[#Headers],[サブスク]])","v":0},{"$f":"SUMIFS(家計簿[金額],家計簿[年],月比較[[#This Row],[年]],家計簿[月],月比較[[#This Row],[月]],家計簿[勘定科目],月比較[[#Headers],[税金（固定資産、自動車）]])","v":0},{"$f":"SUMIFS(家計簿[金額],家計簿[年],月比較[[#This Row],[年]],家計簿[月],月比較[[#This Row],[月]],家計簿[勘定科目],月比較[[#Headers],[食費]])","v":0},{"$f":"SUMIFS(家計簿[金額],家計簿[年],月比較[[#This Row],[年]],家計簿[月],月比較[[#This Row],[月]],家計簿[勘定科目],月比較[[#Headers],[日用品]])","v":0},{"$f":"SUMIFS(家計簿[金額],家計簿[年],月比較[[#This Row],[年]],家計簿[月],月比較[[#This Row],[月]],家計簿[勘定科目],月比較[[#Headers],[衣服]])","v":0},{"$f":"SUMIFS(家計簿[金額],家計簿[年],月比較[[#This Row],[年]],家計簿[月],月比較[[#This Row],[月]],家計簿[勘定科目],月比較[[#Headers],[教育費]])","v":0},{"$f":"SUMIFS(家計簿[金額],家計簿[年],月比較[[#This Row],[年]],家計簿[月],月比較[[#This Row],[月]],家計簿[勘定科目],月比較[[#Headers],[外食費]])","v":0},{"$f":"SUMIFS(家計簿[金額],家計簿[年],月比較[[#This Row],[年]],家計簿[月],月比較[[#This Row],[月]],家計簿[勘定科目],月比較[[#Headers],[移動費]])","v":0},{"$f":"SUMIFS(家計簿[金額],家計簿[年],月比較[[#This Row],[年]],家計簿[月],月比較[[#This Row],[月]],家計簿[勘定科目],月比較[[#Headers],[旅費]])","v":0},{"$f":"SUMIFS(家計簿[金額],家計簿[年],月比較[[#This Row],[年]],家計簿[月],月比較[[#This Row],[月]],家計簿[勘定科目],月比較[[#Headers],[娯楽費]])","v":0},{"$f":"SUMIFS(家計簿[金額],家計簿[年],月比較[[#This Row],[年]],家計簿[月],月比較[[#This Row],[月]],家計簿[勘定科目],月比較[[#Headers],[医療費]])","v":0},{"$f":"SUMIFS(家計簿[金額],家計簿[年],月比較[[#This Row],[年]],家計簿[月],月比較[[#This Row],[月]],家計簿[勘定科目],月比較[[#Headers],[特別出費]])","v":0}]
[null,null,{"$f":"IF(月比較[[#This Row],[月]]=1,C58+1,C58)","v":2027},6,{"$f":"DATE(月比較[[#This Row],[年]],月比較[[#This Row],[月]],1)","v":"2027-06-01"},{"$f":"SUMIFS(家計簿[金額],家計簿[年],月比較[[#This Row],[年]],家計簿[月],月比較[[#This Row],[月]],家計簿[収入/支出],月比較[[#Headers],[収入]])","v":0},{"$f":"SUMIFS(家計簿[金額],家計簿[年],月比較[[#This Row],[年]],家計簿[月],月比較[[#This Row],[月]],家計簿[収入/支出],月比較[[#Headers],[支出]])","v":0},{"$f":"SUMIFS(家計簿[金額],家計簿[年],月比較[[#This Row],[年]],家計簿[月],月比較[[#This Row],[月]],家計簿[固定費/変動費],月比較[[#Headers],[固定費]])","v":0},{"$f":"SUMIFS(家計簿[金額],家計簿[年],月比較[[#This Row],[年]],家計簿[月],月比較[[#This Row],[月]],家計簿[固定費/変動費],月比較[[#Headers],[変動費]])","v":0},{"$f":"SUMIFS(家計簿[金額],家計簿[年],月比較[[#This Row],[年]],家計簿[月],月比較[[#This Row],[月]],家計簿[勘定科目],月比較[[#Headers],[給料]])","v":0},{"$f":"SUMIFS(家計簿[金額],家計簿[年],月比較[[#This Row],[年]],家計簿[月],月比較[[#This Row],[月]],家計簿[勘定科目],月比較[[#Headers],[ボーナス]])","v":0},{"$f":"SUMIFS(家計簿[金額],家計簿[年],月比較[[#This Row],[年]],家計簿[月],月比較[[#This Row],[月]],家計簿[勘定科目],月比較[[#Headers],[家賃補助]])","v":0},{"$f":"SUMIFS(家計簿[金額],家計簿[年],月比較[[#This Row],[年]],家計簿[月],月比較[[#This Row],[月]],家計簿[勘定科目],月比較[[#Headers],[児童手当]])","v":0},{"$f":"SUMIFS(家計簿[金額],家計簿[年],月比較[[#This Row],[年]],家計簿[月],月比較[[#This Row],[月]],家計簿[勘定科目],月比較[[#Headers],[配当金]])","v":0},{"$f":"SUMIFS(家計簿[金額],家計簿[年],月比較[[#This Row],[年]],家計簿[月],月比較[[#This Row],[月]],家計簿[勘定科目],月比較[[#Headers],[特別収入]])","v":0},{"$f":"SUMIFS(家計簿[金額],家計簿[年],月比較[[#This Row],[年]],家計簿[月],月比較[[#This Row],[月]],家計簿[勘定科目],月比較[[#Headers],[家賃]])","v":0},{"$f":"SUMIFS(家計簿[金額],家計簿[年],月比較[[#This Row],[年]],家計簿[月],月比較[[#This Row],[月]],家計簿[勘定科目],月比較[[#Headers],[電気代]])","v":0},{"$f":"SUMIFS(家計簿[金額],家計簿[年],月比較[[#This Row],[年]],家計簿[月],月比較[[#This Row],[月]],家計簿[勘定科目],月比較[[#Headers],[ガス代]])","v":0},{"$f":"SUMIFS(家計簿[金額],家計簿[年],月比較[[#This Row],[年]],家計簿[月],月比較[[#This Row],[月]],家計簿[勘定科目],月比較[[#Headers],[水道代]])","v":0},{"$f":"SUMIFS(家計簿[金額],家計簿[年],月比較[[#This Row],[年]],家計簿[月],月比較[[#This Row],[月]],家計簿[勘定科目],月比較[[#Headers],[通信費]])","v":0},{"$f":"SUMIFS(家計簿[金額],家計簿[年],月比較[[#This Row],[年]],家計簿[月],月比較[[#This Row],[月]],家計簿[勘定科目],月比較[[#Headers],[保険代]])","v":0},{"$f":"SUMIFS(家計簿[金額],家計簿[年],月比較[[#This Row],[年]],家計簿[月],月比較[[#This Row],[月]],家計簿[勘定科目],月比較[[#Headers],[サブスク]])","v":0},{"$f":"SUMIFS(家計簿[金額],家計簿[年],月比較[[#This Row],[年]],家計簿[月],月比較[[#This Row],[月]],家計簿[勘定科目],月比較[[#Headers],[税金（固定資産、自動車）]])","v":0},{"$f":"SUMIFS(家計簿[金額],家計簿[年],月比較[[#This Row],[年]],家計簿[月],月比較[[#This Row],[月]],家計簿[勘定科目],月比較[[#Headers],[食費]])","v":0},{"$f":"SUMIFS(家計簿[金額],家計簿[年],月比較[[#This Row],[年]],家計簿[月],月比較[[#This Row],[月]],家計簿[勘定科目],月比較[[#Headers],[日用品]])","v":0},{"$f":"SUMIFS(家計簿[金額],家計簿[年],月比較[[#This Row],[年]],家計簿[月],月比較[[#This Row],[月]],家計簿[勘定科目],月比較[[#Headers],[衣服]])","v":0},{"$f":"SUMIFS(家計簿[金額],家計簿[年],月比較[[#This Row],[年]],家計簿[月],月比較[[#This Row],[月]],家計簿[勘定科目],月比較[[#Headers],[教育費]])","v":0},{"$f":"SUMIFS(家計簿[金額],家計簿[年],月比較[[#This Row],[年]],家計簿[月],月比較[[#This Row],[月]],家計簿[勘定科目],月比較[[#Headers],[外食費]])","v":0},{"$f":"SUMIFS(家計簿[金額],家計簿[年],月比較[[#This Row],[年]],家計簿[月],月比較[[#This Row],[月]],家計簿[勘定科目],月比較[[#Headers],[移動費]])","v":0},{"$f":"SUMIFS(家計簿[金額],家計簿[年],月比較[[#This Row],[年]],家計簿[月],月比較[[#This Row],[月]],家計簿[勘定科目],月比較[[#Headers],[旅費]])","v":0},{"$f":"SUMIFS(家計簿[金額],家計簿[年],月比較[[#This Row],[年]],家計簿[月],月比較[[#This Row],[月]],家計簿[勘定科目],月比較[[#Headers],[娯楽費]])","v":0},{"$f":"SUMIFS(家計簿[金額],家計簿[年],月比較[[#This Row],[年]],家計簿[月],月比較[[#This Row],[月]],家計簿[勘定科目],月比較[[#Headers],[医療費]])","v":0},{"$f":"SUMIFS(家計簿[金額],家計簿[年],月比較[[#This Row],[年]],家計簿[月],月比較[[#This Row],[月]],家計簿[勘定科目],月比較[[#Headers],[特別出費]])","v":0}]
[null,null,{"$f":"IF(月比較[[#This Row],[月]]=1,C59+1,C59)","v":2027},7,{"$f":"DATE(月比較[[#This Row],[年]],月比較[[#This Row],[月]],1)","v":"2027-07-01"},{"$f":"SUMIFS(家計簿[金額],家計簿[年],月比較[[#This Row],[年]],家計簿[月],月比較[[#This Row],[月]],家計簿[収入/支出],月比較[[#Headers],[収入]])","v":0},{"$f":"SUMIFS(家計簿[金額],家計簿[年],月比較[[#This Row],[年]],家計簿[月],月比較[[#This Row],[月]],家計簿[収入/支出],月比較[[#Headers],[支出]])","v":0},{"$f":"SUMIFS(家計簿[金額],家計簿[年],月比較[[#This Row],[年]],家計簿[月],月比較[[#This Row],[月]],家計簿[固定費/変動費],月比較[[#Headers],[固定費]])","v":0},{"$f":"SUMIFS(家計簿[金額],家計簿[年],月比較[[#This Row],[年]],家計簿[月],月比較[[#This Row],[月]],家計簿[固定費/変動費],月比較[[#Headers],[変動費]])","v":0},{"$f":"SUMIFS(家計簿[金額],家計簿[年],月比較[[#This Row],[年]],家計簿[月],月比較[[#This Row],[月]],家計簿[勘定科目],月比較[[#Headers],[給料]])","v":0},{"$f":"SUMIFS(家計簿[金額],家計簿[年],月比較[[#This Row],[年]],家計簿[月],月比較[[#This Row],[月]],家計簿[勘定科目],月比較[[#Headers],[ボーナス]])","v":0},{"$f":"SUMIFS(家計簿[金額],家計簿[年],月比較[[#This Row],[年]],家計簿[月],月比較[[#This Row],[月]],家計簿[勘定科目],月比較[[#Headers],[家賃補助]])","v":0},{"$f":"SUMIFS(家計簿[金額],家計簿[年],月比較[[#This Row],[年]],家計簿[月],月比較[[#This Row],[月]],家計簿[勘定科目],月比較[[#Headers],[児童手当]])","v":0},{"$f":"SUMIFS(家計簿[金額],家計簿[年],月比較[[#This Row],[年]],家計簿[月],月比較[[#This Row],[月]],家計簿[勘定科目],月比較[[#Headers],[配当金]])","v":0},{"$f":"SUMIFS(家計簿[金額],家計簿[年],月比較[[#This Row],[年]],家計簿[月],月比較[[#This Row],[月]],家計簿[勘定科目],月比較[[#Headers],[特別収入]])","v":0},{"$f":"SUMIFS(家計簿[金額],家計簿[年],月比較[[#This Row],[年]],家計簿[月],月比較[[#This Row],[月]],家計簿[勘定科目],月比較[[#Headers],[家賃]])","v":0},{"$f":"SUMIFS(家計簿[金額],家計簿[年],月比較[[#This Row],[年]],家計簿[月],月比較[[#This Row],[月]],家計簿[勘定科目],月比較[[#Headers],[電気代]])","v":0},{"$f":"SUMIFS(家計簿[金額],家計簿[年],月比較[[#This Row],[年]],家計簿[月],月比較[[#This Row],[月]],家計簿[勘定科目],月比較[[#Headers],[ガス代]])","v":0},{"$f":"SUMIFS(家計簿[金額],家計簿[年],月比較[[#This Row],[年]],家計簿[月],月比較[[#This Row],[月]],家計簿[勘定科目],月比較[[#Headers],[水道代]])","v":0},{"$f":"SUMIFS(家計簿[金額],家計簿[年],月比較[[#This Row],[年]],家計簿[月],月比較[[#This Row],[月]],家計簿[勘定科目],月比較[[#Headers],[通信費]])","v":0},{"$f":"SUMIFS(家計簿[金額],家計簿[年],月比較[[#This Row],[年]],家計簿[月],月比較[[#This Row],[月]],家計簿[勘定科目],月比較[[#Headers],[保険代]])","v":0},{"$f":"SUMIFS(家計簿[金額],家計簿[年],月比較[[#This Row],[年]],家計簿[月],月比較[[#This Row],[月]],家計簿[勘定科目],月比較[[#Headers],[サブスク]])","v":0},{"$f":"SUMIFS(家計簿[金額],家計簿[年],月比較[[#This Row],[年]],家計簿[月],月比較[[#This Row],[月]],家計簿[勘定科目],月比較[[#Headers],[税金（固定資産、自動車）]])","v":0},{"$f":"SUMIFS(家計簿[金額],家計簿[年],月比較[[#This Row],[年]],家計簿[月],月比較[[#This Row],[月]],家計簿[勘定科目],月比較[[#Headers],[食費]])","v":0},{"$f":"SUMIFS(家計簿[金額],家計簿[年],月比較[[#This Row],[年]],家計簿[月],月比較[[#This Row],[月]],家計簿[勘定科目],月比較[[#Headers],[日用品]])","v":0},{"$f":"SUMIFS(家計簿[金額],家計簿[年],月比較[[#This Row],[年]],家計簿[月],月比較[[#This Row],[月]],家計簿[勘定科目],月比較[[#Headers],[衣服]])","v":0},{"$f":"SUMIFS(家計簿[金額],家計簿[年],月比較[[#This Row],[年]],家計簿[月],月比較[[#This Row],[月]],家計簿[勘定科目],月比較[[#Headers],[教育費]])","v":0},{"$f":"SUMIFS(家計簿[金額],家計簿[年],月比較[[#This Row],[年]],家計簿[月],月比較[[#This Row],[月]],家計簿[勘定科目],月比較[[#Headers],[外食費]])","v":0},{"$f":"SUMIFS(家計簿[金額],家計簿[年],月比較[[#This Row],[年]],家計簿[月],月比較[[#This Row],[月]],家計簿[勘定科目],月比較[[#Headers],[移動費]])","v":0},{"$f":"SUMIFS(家計簿[金額],家計簿[年],月比較[[#This Row],[年]],家計簿[月],月比較[[#This Row],[月]],家計簿[勘定科目],月比較[[#Headers],[旅費]])","v":0},{"$f":"SUMIFS(家計簿[金額],家計簿[年],月比較[[#This Row],[年]],家計簿[月],月比較[[#This Row],[月]],家計簿[勘定科目],月比較[[#Headers],[娯楽費]])","v":0},{"$f":"SUMIFS(家計簿[金額],家計簿[年],月比較[[#This Row],[年]],家計簿[月],月比較[[#This Row],[月]],家計簿[勘定科目],月比較[[#Headers],[医療費]])","v":0},{"$f":"SUMIFS(家計簿[金額],家計簿[年],月比較[[#This Row],[年]],家計簿[月],月比較[[#This Row],[月]],家計簿[勘定科目],月比較[[#Headers],[特別出費]])","v":0}]
[null,null,{"$f":"IF(月比較[[#This Row],[月]]=1,C60+1,C60)","v":2027},8,{"$f":"DATE(月比較[[#This Row],[年]],月比較[[#This Row],[月]],1)","v":"2027-08-01"},{"$f":"SUMIFS(家計簿[金額],家計簿[年],月比較[[#This Row],[年]],家計簿[月],月比較[[#This Row],[月]],家計簿[収入/支出],月比較[[#Headers],[収入]])","v":0},{"$f":"SUMIFS(家計簿[金額],家計簿[年],月比較[[#This Row],[年]],家計簿[月],月比較[[#This Row],[月]],家計簿[収入/支出],月比較[[#Headers],[支出]])","v":0},{"$f":"SUMIFS(家計簿[金額],家計簿[年],月比較[[#This Row],[年]],家計簿[月],月比較[[#This Row],[月]],家計簿[固定費/変動費],月比較[[#Headers],[固定費]])","v":0},{"$f":"SUMIFS(家計簿[金額],家計簿[年],月比較[[#This Row],[年]],家計簿[月],月比較[[#This Row],[月]],家計簿[固定費/変動費],月比較[[#Headers],[変動費]])","v":0},{"$f":"SUMIFS(家計簿[金額],家計簿[年],月比較[[#This Row],[年]],家計簿[月],月比較[[#This Row],[月]],家計簿[勘定科目],月比較[[#Headers],[給料]])","v":0},{"$f":"SUMIFS(家計簿[金額],家計簿[年],月比較[[#This Row],[年]],家計簿[月],月比較[[#This Row],[月]],家計簿[勘定科目],月比較[[#Headers],[ボーナス]])","v":0},{"$f":"SUMIFS(家計簿[金額],家計簿[年],月比較[[#This Row],[年]],家計簿[月],月比較[[#This Row],[月]],家計簿[勘定科目],月比較[[#Headers],[家賃補助]])","v":0},{"$f":"SUMIFS(家計簿[金額],家計簿[年],月比較[[#This Row],[年]],家計簿[月],月比較[[#This Row],[月]],家計簿[勘定科目],月比較[[#Headers],[児童手当]])","v":0},{"$f":"SUMIFS(家計簿[金額],家計簿[年],月比較[[#This Row],[年]],家計簿[月],月比較[[#This Row],[月]],家計簿[勘定科目],月比較[[#Headers],[配当金]])","v":0},{"$f":"SUMIFS(家計簿[金額],家計簿[年],月比較[[#This Row],[年]],家計簿[月],月比較[[#This Row],[月]],家計簿[勘定科目],月比較[[#Headers],[特別収入]])","v":0},{"$f":"SUMIFS(家計簿[金額],家計簿[年],月比較[[#This Row],[年]],家計簿[月],月比較[[#This Row],[月]],家計簿[勘定科目],月比較[[#Headers],[家賃]])","v":0},{"$f":"SUMIFS(家計簿[金額],家計簿[年],月比較[[#This Row],[年]],家計簿[月],月比較[[#This Row],[月]],家計簿[勘定科目],月比較[[#Headers],[電気代]])","v":0},{"$f":"SUMIFS(家計簿[金額],家計簿[年],月比較[[#This Row],[年]],家計簿[月],月比較[[#This Row],[月]],家計簿[勘定科目],月比較[[#Headers],[ガス代]])","v":0},{"$f":"SUMIFS(家計簿[金額],家計簿[年],月比較[[#This Row],[年]],家計簿[月],月比較[[#This Row],[月]],家計簿[勘定科目],月比較[[#Headers],[水道代]])","v":0},{"$f":"SUMIFS(家計簿[金額],家計簿[年],月比較[[#This Row],[年]],家計簿[月],月比較[[#This Row],[月]],家計簿[勘定科目],月比較[[#Headers],[通信費]])","v":0},{"$f":"SUMIFS(家計簿[金額],家計簿[年],月比較[[#This Row],[年]],家計簿[月],月比較[[#This Row],[月]],家計簿[勘定科目],月比較[[#Headers],[保険代]])","v":0},{"$f":"SUMIFS(家計簿[金額],家計簿[年],月比較[[#This Row],[年]],家計簿[月],月比較[[#This Row],[月]],家計簿[勘定科目],月比較[[#Headers],[サブスク]])","v":0},{"$f":"SUMIFS(家計簿[金額],家計簿[年],月比較[[#This Row],[年]],家計簿[月],月比較[[#This Row],[月]],家計簿[勘定科目],月比較[[#Headers],[税金（固定資産、自動車）]])","v":0},{"$f":"SUMIFS(家計簿[金額],家計簿[年],月比較[[#This Row],[年]],家計簿[月],月比較[[#This Row],[月]],家計簿[勘定科目],月比較[[#Headers],[食費]])","v":0},{"$f":"SUMIFS(家計簿[金額],家計簿[年],月比較[[#This Row],[年]],家計簿[月],月比較[[#This Row],[月]],家計簿[勘定科目],月比較[[#Headers],[日用品]])","v":0},{"$f":"SUMIFS(家計簿[金額],家計簿[年],月比較[[#This Row],[年]],家計簿[月],月比較[[#This Row],[月]],家計簿[勘定科目],月比較[[#Headers],[衣服]])","v":0},{"$f":"SUMIFS(家計簿[金額],家計簿[年],月比較[[#This Row],[年]],家計簿[月],月比較[[#This Row],[月]],家計簿[勘定科目],月比較[[#Headers],[教育費]])","v":0},{"$f":"SUMIFS(家計簿[金額],家計簿[年],月比較[[#This Row],[年]],家計簿[月],月比較[[#This Row],[月]],家計簿[勘定科目],月比較[[#Headers],[外食費]])","v":0},{"$f":"SUMIFS(家計簿[金額],家計簿[年],月比較[[#This Row],[年]],家計簿[月],月比較[[#This Row],[月]],家計簿[勘定科目],月比較[[#Headers],[移動費]])","v":0},{"$f":"SUMIFS(家計簿[金額],家計簿[年],月比較[[#This Row],[年]],家計簿[月],月比較[[#This Row],[月]],家計簿[勘定科目],月比較[[#Headers],[旅費]])","v":0},{"$f":"SUMIFS(家計簿[金額],家計簿[年],月比較[[#This Row],[年]],家計簿[月],月比較[[#This Row],[月]],家計簿[勘定科目],月比較[[#Headers],[娯楽費]])","v":0},{"$f":"SUMIFS(家計簿[金額],家計簿[年],月比較[[#This Row],[年]],家計簿[月],月比較[[#This Row],[月]],家計簿[勘定科目],月比較[[#Headers],[医療費]])","v":0},{"$f":"SUMIFS(家計簿[金額],家計簿[年],月比較[[#This Row],[年]],家計簿[月],月比較[[#This Row],[月]],家計簿[勘定科目],月比較[[#Headers],[特別出費]])","v":0}]
[null,null,{"$f":"IF(月比較[[#This Row],[月]]=1,C61+1,C61)","v":2027},9,{"$f":"DATE(月比較[[#This Row],[年]],月比較[[#This Row],[月]],1)","v":"2027-09-01"},{"$f":"SUMIFS(家計簿[金額],家計簿[年],月比較[[#This Row],[年]],家計簿[月],月比較[[#This Row],[月]],家計簿[収入/支出],月比較[[#Headers],[収入]])","v":0},{"$f":"SUMIFS(家計簿[金額],家計簿[年],月比較[[#This Row],[年]],家計簿[月],月比較[[#This Row],[月]],家計簿[収入/支出],月比較[[#Headers],[支出]])","v":0},{"$f":"SUMIFS(家計簿[金額],家計簿[年],月比較[[#This Row],[年]],家計簿[月],月比較[[#This Row],[月]],家計簿[固定費/変動費],月比較[[#Headers],[固定費]])","v":0},{"$f":"SUMIFS(家計簿[金額],家計簿[年],月比較[[#This Row],[年]],家計簿[月],月比較[[#This Row],[月]],家計簿[固定費/変動費],月比較[[#Headers],[変動費]])","v":0},{"$f":"SUMIFS(家計簿[金額],家計簿[年],月比較[[#This Row],[年]],家計簿[月],月比較[[#This Row],[月]],家計簿[勘定科目],月比較[[#Headers],[給料]])","v":0},{"$f":"SUMIFS(家計簿[金額],家計簿[年],月比較[[#This Row],[年]],家計簿[月],月比較[[#This Row],[月]],家計簿[勘定科目],月比較[[#Headers],[ボーナス]])","v":0},{"$f":"SUMIFS(家計簿[金額],家計簿[年],月比較[[#This Row],[年]],家計簿[月],月比較[[#This Row],[月]],家計簿[勘定科目],月比較[[#Headers],[家賃補助]])","v":0},{"$f":"SUMIFS(家計簿[金額],家計簿[年],月比較[[#This Row],[年]],家計簿[月],月比較[[#This Row],[月]],家計簿[勘定科目],月比較[[#Headers],[児童手当]])","v":0},{"$f":"SUMIFS(家計簿[金額],家計簿[年],月比較[[#This Row],[年]],家計簿[月],月比較[[#This Row],[月]],家計簿[勘定科目],月比較[[#Headers],[配当金]])","v":0},{"$f":"SUMIFS(家計簿[金額],家計簿[年],月比較[[#This Row],[年]],家計簿[月],月比較[[#This Row],[月]],家計簿[勘定科目],月比較[[#Headers],[特別収入]])","v":0},{"$f":"SUMIFS(家計簿[金額],家計簿[年],月比較[[#This Row],[年]],家計簿[月],月比較[[#This Row],[月]],家計簿[勘定科目],月比較[[#Headers],[家賃]])","v":0},{"$f":"SUMIFS(家計簿[金額],家計簿[年],月比較[[#This Row],[年]],家計簿[月],月比較[[#This Row],[月]],家計簿[勘定科目],月比較[[#Headers],[電気代]])","v":0},{"$f":"SUMIFS(家計簿[金額],家計簿[年],月比較[[#This Row],[年]],家計簿[月],月比較[[#This Row],[月]],家計簿[勘定科目],月比較[[#Headers],[ガス代]])","v":0},{"$f":"SUMIFS(家計簿[金額],家計簿[年],月比較[[#This Row],[年]],家計簿[月],月比較[[#This Row],[月]],家計簿[勘定科目],月比較[[#Headers],[水道代]])","v":0},{"$f":"SUMIFS(家計簿[金額],家計簿[年],月比較[[#This Row],[年]],家計簿[月],月比較[[#This Row],[月]],家計簿[勘定科目],月比較[[#Headers],[通信費]])","v":0},{"$f":"SUMIFS(家計簿[金額],家計簿[年],月比較[[#This Row],[年]],家計簿[月],月比較[[#This Row],[月]],家計簿[勘定科目],月比較[[#Headers],[保険代]])","v":0},{"$f":"SUMIFS(家計簿[金額],家計簿[年],月比較[[#This Row],[年]],家計簿[月],月比較[[#This Row],[月]],家計簿[勘定科目],月比較[[#Headers],[サブスク]])","v":0},{"$f":"SUMIFS(家計簿[金額],家計簿[年],月比較[[#This Row],[年]],家計簿[月],月比較[[#This Row],[月]],家計簿[勘定科目],月比較[[#Headers],[税金（固定資産、自動車）]])","v":0},{"$f":"SUMIFS(家計簿[金額],家計簿[年],月比較[[#This Row],[年]],家計簿[月],月比較[[#This Row],[月]],家計簿[勘定科目],月比較[[#Headers],[食費]])","v":0},{"$f":"SUMIFS(家計簿[金額],家計簿[年],月比較[[#This Row],[年]],家計簿[月],月比較[[#This Row],[月]],家計簿[勘定科目],月比較[[#Headers],[日用品]])","v":0},{"$f":"SUMIFS(家計簿[金額],家計簿[年],月比較[[#This Row],[年]],家計簿[月],月比較[[#This Row],[月]],家計簿[勘定科目],月比較[[#Headers],[衣服]])","v":0},{"$f":"SUMIFS(家計簿[金額],家計簿[年],月比較[[#This Row],[年]],家計簿[月],月比較[[#This Row],[月]],家計簿[勘定科目],月比較[[#Headers],[教育費]])","v":0},{"$f":"SUMIFS(家計簿[金額],家計簿[年],月比較[[#This Row],[年]],家計簿[月],月比較[[#This Row],[月]],家計簿[勘定科目],月比較[[#Headers],[外食費]])","v":0},{"$f":"SUMIFS(家計簿[金額],家計簿[年],月比較[[#This Row],[年]],家計簿[月],月比較[[#This Row],[月]],家計簿[勘定科目],月比較[[#Headers],[移動費]])","v":0},{"$f":"SUMIFS(家計簿[金額],家計簿[年],月比較[[#This Row],[年]],家計簿[月],月比較[[#This Row],[月]],家計簿[勘定科目],月比較[[#Headers],[旅費]])","v":0},{"$f":"SUMIFS(家計簿[金額],家計簿[年],月比較[[#This Row],[年]],家計簿[月],月比較[[#This Row],[月]],家計簿[勘定科目],月比較[[#Headers],[娯楽費]])","v":0},{"$f":"SUMIFS(家計簿[金額],家計簿[年],月比較[[#This Row],[年]],家計簿[月],月比較[[#This Row],[月]],家計簿[勘定科目],月比較[[#Headers],[医療費]])","v":0},{"$f":"SUMIFS(家計簿[金額],家計簿[年],月比較[[#This Row],[年]],家計簿[月],月比較[[#This Row],[月]],家計簿[勘定科目],月比較[[#Headers],[特別出費]])","v":0}]
[null,null,{"$f":"IF(月比較[[#This Row],[月]]=1,C62+1,C62)","v":2027},10,{"$f":"DATE(月比較[[#This Row],[年]],月比較[[#This Row],[月]],1)","v":"2027-10-01"},{"$f":"SUMIFS(家計簿[金額],家計簿[年],月比較[[#This Row],[年]],家計簿[月],月比較[[#This Row],[月]],家計簿[収入/支出],月比較[[#Headers],[収入]])","v":0},{"$f":"SUMIFS(家計簿[金額],家計簿[年],月比較[[#This Row],[年]],家計簿[月],月比較[[#This Row],[月]],家計簿[収入/支出],月比較[[#Headers],[支出]])","v":0},{"$f":"SUMIFS(家計簿[金額],家計簿[年],月比較[[#This Row],[年]],家計簿[月],月比較[[#This Row],[月]],家計簿[固定費/変動費],月比較[[#Headers],[固定費]])","v":0},{"$f":"SUMIFS(家計簿[金額],家計簿[年],月比較[[#This Row],[年]],家計簿[月],月比較[[#This Row],[月]],家計簿[固定費/変動費],月比較[[#Headers],[変動費]])","v":0},{"$f":"SUMIFS(家計簿[金額],家計簿[年],月比較[[#This Row],[年]],家計簿[月],月比較[[#This Row],[月]],家計簿[勘定科目],月比較[[#Headers],[給料]])","v":0},{"$f":"SUMIFS(家計簿[金額],家計簿[年],月比較[[#This Row],[年]],家計簿[月],月比較[[#This Row],[月]],家計簿[勘定科目],月比較[[#Headers],[ボーナス]])","v":0},{"$f":"SUMIFS(家計簿[金額],家計簿[年],月比較[[#This Row],[年]],家計簿[月],月比較[[#This Row],[月]],家計簿[勘定科目],月比較[[#Headers],[家賃補助]])","v":0},{"$f":"SUMIFS(家計簿[金額],家計簿[年],月比較[[#This Row],[年]],家計簿[月],月比較[[#This Row],[月]],家計簿[勘定科目],月比較[[#Headers],[児童手当]])","v":0},{"$f":"SUMIFS(家計簿[金額],家計簿[年],月比較[[#This Row],[年]],家計簿[月],月比較[[#This Row],[月]],家計簿[勘定科目],月比較[[#Headers],[配当金]])","v":0},{"$f":"SUMIFS(家計簿[金額],家計簿[年],月比較[[#This Row],[年]],家計簿[月],月比較[[#This Row],[月]],家計簿[勘定科目],月比較[[#Headers],[特別収入]])","v":0},{"$f":"SUMIFS(家計簿[金額],家計簿[年],月比較[[#This Row],[年]],家計簿[月],月比較[[#This Row],[月]],家計簿[勘定科目],月比較[[#Headers],[家賃]])","v":0},{"$f":"SUMIFS(家計簿[金額],家計簿[年],月比較[[#This Row],[年]],家計簿[月],月比較[[#This Row],[月]],家計簿[勘定科目],月比較[[#Headers],[電気代]])","v":0},{"$f":"SUMIFS(家計簿[金額],家計簿[年],月比較[[#This Row],[年]],家計簿[月],月比較[[#This Row],[月]],家計簿[勘定科目],月比較[[#Headers],[ガス代]])","v":0},{"$f":"SUMIFS(家計簿[金額],家計簿[年],月比較[[#This Row],[年]],家計簿[月],月比較[[#This Row],[月]],家計簿[勘定科目],月比較[[#Headers],[水道代]])","v":0},{"$f":"SUMIFS(家計簿[金額],家計簿[年],月比較[[#This Row],[年]],家計簿[月],月比較[[#This Row],[月]],家計簿[勘定科目],月比較[[#Headers],[通信費]])","v":0},{"$f":"SUMIFS(家計簿[金額],家計簿[年],月比較[[#This Row],[年]],家計簿[月],月比較[[#This Row],[月]],家計簿[勘定科目],月比較[[#Headers],[保険代]])","v":0},{"$f":"SUMIFS(家計簿[金額],家計簿[年],月比較[[#This Row],[年]],家計簿[月],月比較[[#This Row],[月]],家計簿[勘定科目],月比較[[#Headers],[サブスク]])","v":0},{"$f":"SUMIFS(家計簿[金額],家計簿[年],月比較[[#This Row],[年]],家計簿[月],月比較[[#This Row],[月]],家計簿[勘定科目],月比較[[#Headers],[税金（固定資産、自動車）]])","v":0},{"$f":"SUMIFS(家計簿[金額],家計簿[年],月比較[[#This Row],[年]],家計簿[月],月比較[[#This Row],[月]],家計簿[勘定科目],月比較[[#Headers],[食費]])","v":0},{"$f":"SUMIFS(家計簿[金額],家計簿[年],月比較[[#This Row],[年]],家計簿[月],月比較[[#This Row],[月]],家計簿[勘定科目],月比較[[#Headers],[日用品]])","v":0},{"$f":"SUMIFS(家計簿[金額],家計簿[年],月比較[[#This Row],[年]],家計簿[月],月比較[[#This Row],[月]],家計簿[勘定科目],月比較[[#Headers],[衣服]])","v":0},{"$f":"SUMIFS(家計簿[金額],家計簿[年],月比較[[#This Row],[年]],家計簿[月],月比較[[#This Row],[月]],家計簿[勘定科目],月比較[[#Headers],[教育費]])","v":0},{"$f":"SUMIFS(家計簿[金額],家計簿[年],月比較[[#This Row],[年]],家計簿[月],月比較[[#This Row],[月]],家計簿[勘定科目],月比較[[#Headers],[外食費]])","v":0},{"$f":"SUMIFS(家計簿[金額],家計簿[年],月比較[[#This Row],[年]],家計簿[月],月比較[[#This Row],[月]],家計簿[勘定科目],月比較[[#Headers],[移動費]])","v":0},{"$f":"SUMIFS(家計簿[金額],家計簿[年],月比較[[#This Row],[年]],家計簿[月],月比較[[#This Row],[月]],家計簿[勘定科目],月比較[[#Headers],[旅費]])","v":0},{"$f":"SUMIFS(家計簿[金額],家計簿[年],月比較[[#This Row],[年]],家計簿[月],月比較[[#This Row],[月]],家計簿[勘定科目],月比較[[#Headers],[娯楽費]])","v":0},{"$f":"SUMIFS(家計簿[金額],家計簿[年],月比較[[#This Row],[年]],家計簿[月],月比較[[#This Row],[月]],家計簿[勘定科目],月比較[[#Headers],[医療費]])","v":0},{"$f":"SUMIFS(家計簿[金額],家計簿[年],月比較[[#This Row],[年]],家計簿[月],月比較[[#This Row],[月]],家計簿[勘定科目],月比較[[#Headers],[特別出費]])","v":0}]
[null,null,{"$f":"IF(月比較[[#This Row],[月]]=1,C63+1,C63)","v":2027},11,{"$f":"DATE(月比較[[#This Row],[年]],月比較[[#This Row],[月]],1)","v":"2027-11-01"},{"$f":"SUMIFS(家計簿[金額],家計簿[年],月比較[[#This Row],[年]],家計簿[月],月比較[[#This Row],[月]],家計簿[収入/支出],月比較[[#Headers],[収入]])","v":0},{"$f":"SUMIFS(家計簿[金額],家計簿[年],月比較[[#This Row],[年]],家計簿[月],月比較[[#This Row],[月]],家計簿[収入/支出],月比較[[#Headers],[支出]])","v":0},{"$f":"SUMIFS(家計簿[金額],家計簿[年],月比較[[#This Row],[年]],家計簿[月],月比較[[#This Row],[月]],家計簿[固定費/変動費],月比較[[#Headers],[固定費]])","v":0},{"$f":"SUMIFS(家計簿[金額],家計簿[年],月比較[[#This Row],[年]],家計簿[月],月比較[[#This Row],[月]],家計簿[固定費/変動費],月比較[[#Headers],[変動費]])","v":0},{"$f":"SUMIFS(家計簿[金額],家計簿[年],月比較[[#This Row],[年]],家計簿[月],月比較[[#This Row],[月]],家計簿[勘定科目],月比較[[#Headers],[給料]])","v":0},{"$f":"SUMIFS(家計簿[金額],家計簿[年],月比較[[#This Row],[年]],家計簿[月],月比較[[#This Row],[月]],家計簿[勘定科目],月比較[[#Headers],[ボーナス]])","v":0},{"$f":"SUMIFS(家計簿[金額],家計簿[年],月比較[[#This Row],[年]],家計簿[月],月比較[[#This Row],[月]],家計簿[勘定科目],月比較[[#Headers],[家賃補助]])","v":0},{"$f":"SUMIFS(家計簿[金額],家計簿[年],月比較[[#This Row],[年]],家計簿[月],月比較[[#This Row],[月]],家計簿[勘定科目],月比較[[#Headers],[児童手当]])","v":0},{"$f":"SUMIFS(家計簿[金額],家計簿[年],月比較[[#This Row],[年]],家計簿[月],月比較[[#This Row],[月]],家計簿[勘定科目],月比較[[#Headers],[配当金]])","v":0},{"$f":"SUMIFS(家計簿[金額],家計簿[年],月比較[[#This Row],[年]],家計簿[月],月比較[[#This Row],[月]],家計簿[勘定科目],月比較[[#Headers],[特別収入]])","v":0},{"$f":"SUMIFS(家計簿[金額],家計簿[年],月比較[[#This Row],[年]],家計簿[月],月比較[[#This Row],[月]],家計簿[勘定科目],月比較[[#Headers],[家賃]])","v":0},{"$f":"SUMIFS(家計簿[金額],家計簿[年],月比較[[#This Row],[年]],家計簿[月],月比較[[#This Row],[月]],家計簿[勘定科目],月比較[[#Headers],[電気代]])","v":0},{"$f":"SUMIFS(家計簿[金額],家計簿[年],月比較[[#This Row],[年]],家計簿[月],月比較[[#This Row],[月]],家計簿[勘定科目],月比較[[#Headers],[ガス代]])","v":0},{"$f":"SUMIFS(家計簿[金額],家計簿[年],月比較[[#This Row],[年]],家計簿[月],月比較[[#This Row],[月]],家計簿[勘定科目],月比較[[#Headers],[水道代]])","v":0},{"$f":"SUMIFS(家計簿[金額],家計簿[年],月比較[[#This Row],[年]],家計簿[月],月比較[[#This Row],[月]],家計簿[勘定科目],月比較[[#Headers],[通信費]])","v":0},{"$f":"SUMIFS(家計簿[金額],家計簿[年],月比較[[#This Row],[年]],家計簿[月],月比較[[#This Row],[月]],家計簿[勘定科目],月比較[[#Headers],[保険代]])","v":0},{"$f":"SUMIFS(家計簿[金額],家計簿[年],月比較[[#This Row],[年]],家計簿[月],月比較[[#This Row],[月]],家計簿[勘定科目],月比較[[#Headers],[サブスク]])","v":0},{"$f":"SUMIFS(家計簿[金額],家計簿[年],月比較[[#This Row],[年]],家計簿[月],月比較[[#This Row],[月]],家計簿[勘定科目],月比較[[#Headers],[税金（固定資産、自動車）]])","v":0},{"$f":"SUMIFS(家計簿[金額],家計簿[年],月比較[[#This Row],[年]],家計簿[月],月比較[[#This Row],[月]],家計簿[勘定科目],月比較[[#Headers],[食費]])","v":0},{"$f":"SUMIFS(家計簿[金額],家計簿[年],月比較[[#This Row],[年]],家計簿[月],月比較[[#This Row],[月]],家計簿[勘定科目],月比較[[#Headers],[日用品]])","v":0},{"$f":"SUMIFS(家計簿[金額],家計簿[年],月比較[[#This Row],[年]],家計簿[月],月比較[[#This Row],[月]],家計簿[勘定科目],月比較[[#Headers],[衣服]])","v":0},{"$f":"SUMIFS(家計簿[金額],家計簿[年],月比較[[#This Row],[年]],家計簿[月],月比較[[#This Row],[月]],家計簿[勘定科目],月比較[[#Headers],[教育費]])","v":0},{"$f":"SUMIFS(家計簿[金額],家計簿[年],月比較[[#This Row],[年]],家計簿[月],月比較[[#This Row],[月]],家計簿[勘定科目],月比較[[#Headers],[外食費]])","v":0},{"$f":"SUMIFS(家計簿[金額],家計簿[年],月比較[[#This Row],[年]],家計簿[月],月比較[[#This Row],[月]],家計簿[勘定科目],月比較[[#Headers],[移動費]])","v":0},{"$f":"SUMIFS(家計簿[金額],家計簿[年],月比較[[#This Row],[年]],家計簿[月],月比較[[#This Row],[月]],家計簿[勘定科目],月比較[[#Headers],[旅費]])","v":0},{"$f":"SUMIFS(家計簿[金額],家計簿[年],月比較[[#This Row],[年]],家計簿[月],月比較[[#This Row],[月]],家計簿[勘定科目],月比較[[#Headers],[娯楽費]])","v":0},{"$f":"SUMIFS(家計簿[金額],家計簿[年],月比較[[#This Row],[年]],家計簿[月],月比較[[#This Row],[月]],家計簿[勘定科目],月比較[[#Headers],[医療費]])","v":0},{"$f":"SUMIFS(家計簿[金額],家計簿[年],月比較[[#This Row],[年]],家計簿[月],月比較[[#This Row],[月]],家計簿[勘定科目],月比較[[#Headers],[特別出費]])","v":0}]
[null,null,{"$f":"IF(月比較[[#This Row],[月]]=1,C64+1,C64)","v":2027},12,{"$f":"DATE(月比較[[#This Row],[年]],月比較[[#This Row],[月]],1)","v":"2027-12-01"},{"$f":"SUMIFS(家計簿[金額],家計簿[年],月比較[[#This Row],[年]],家計簿[月],月比較[[#This Row],[月]],家計簿[収入/支出],月比較[[#Headers],[収入]])","v":0},{"$f":"SUMIFS(家計簿[金額],家計簿[年],月比較[[#This Row],[年]],家計簿[月],月比較[[#This Row],[月]],家計簿[収入/支出],月比較[[#Headers],[支出]])","v":0},{"$f":"SUMIFS(家計簿[金額],家計簿[年],月比較[[#This Row],[年]],家計簿[月],月比較[[#This Row],[月]],家計簿[固定費/変動費],月比較[[#Headers],[固定費]])","v":0},{"$f":"SUMIFS(家計簿[金額],家計簿[年],月比較[[#This Row],[年]],家計簿[月],月比較[[#This Row],[月]],家計簿[固定費/変動費],月比較[[#Headers],[変動費]])","v":0},{"$f":"SUMIFS(家計簿[金額],家計簿[年],月比較[[#This Row],[年]],家計簿[月],月比較[[#This Row],[月]],家計簿[勘定科目],月比較[[#Headers],[給料]])","v":0},{"$f":"SUMIFS(家計簿[金額],家計簿[年],月比較[[#This Row],[年]],家計簿[月],月比較[[#This Row],[月]],家計簿[勘定科目],月比較[[#Headers],[ボーナス]])","v":0},{"$f":"SUMIFS(家計簿[金額],家計簿[年],月比較[[#This Row],[年]],家計簿[月],月比較[[#This Row],[月]],家計簿[勘定科目],月比較[[#Headers],[家賃補助]])","v":0},{"$f":"SUMIFS(家計簿[金額],家計簿[年],月比較[[#This Row],[年]],家計簿[月],月比較[[#This Row],[月]],家計簿[勘定科目],月比較[[#Headers],[児童手当]])","v":0},{"$f":"SUMIFS(家計簿[金額],家計簿[年],月比較[[#This Row],[年]],家計簿[月],月比較[[#This Row],[月]],家計簿[勘定科目],月比較[[#Headers],[配当金]])","v":0},{"$f":"SUMIFS(家計簿[金額],家計簿[年],月比較[[#This Row],[年]],家計簿[月],月比較[[#This Row],[月]],家計簿[勘定科目],月比較[[#Headers],[特別収入]])","v":0},{"$f":"SUMIFS(家計簿[金額],家計簿[年],月比較[[#This Row],[年]],家計簿[月],月比較[[#This Row],[月]],家計簿[勘定科目],月比較[[#Headers],[家賃]])","v":0},{"$f":"SUMIFS(家計簿[金額],家計簿[年],月比較[[#This Row],[年]],家計簿[月],月比較[[#This Row],[月]],家計簿[勘定科目],月比較[[#Headers],[電気代]])","v":0},{"$f":"SUMIFS(家計簿[金額],家計簿[年],月比較[[#This Row],[年]],家計簿[月],月比較[[#This Row],[月]],家計簿[勘定科目],月比較[[#Headers],[ガス代]])","v":0},{"$f":"SUMIFS(家計簿[金額],家計簿[年],月比較[[#This Row],[年]],家計簿[月],月比較[[#This Row],[月]],家計簿[勘定科目],月比較[[#Headers],[水道代]])","v":0},{"$f":"SUMIFS(家計簿[金額],家計簿[年],月比較[[#This Row],[年]],家計簿[月],月比較[[#This Row],[月]],家計簿[勘定科目],月比較[[#Headers],[通信費]])","v":0},{"$f":"SUMIFS(家計簿[金額],家計簿[年],月比較[[#This Row],[年]],家計簿[月],月比較[[#This Row],[月]],家計簿[勘定科目],月比較[[#Headers],[保険代]])","v":0},{"$f":"SUMIFS(家計簿[金額],家計簿[年],月比較[[#This Row],[年]],家計簿[月],月比較[[#This Row],[月]],家計簿[勘定科目],月比較[[#Headers],[サブスク]])","v":0},{"$f":"SUMIFS(家計簿[金額],家計簿[年],月比較[[#This Row],[年]],家計簿[月],月比較[[#This Row],[月]],家計簿[勘定科目],月比較[[#Headers],[税金（固定資産、自動車）]])","v":0},{"$f":"SUMIFS(家計簿[金額],家計簿[年],月比較[[#This Row],[年]],家計簿[月],月比較[[#This Row],[月]],家計簿[勘定科目],月比較[[#Headers],[食費]])","v":0},{"$f":"SUMIFS(家計簿[金額],家計簿[年],月比較[[#This Row],[年]],家計簿[月],月比較[[#This Row],[月]],家計簿[勘定科目],月比較[[#Headers],[日用品]])","v":0},{"$f":"SUMIFS(家計簿[金額],家計簿[年],月比較[[#This Row],[年]],家計簿[月],月比較[[#This Row],[月]],家計簿[勘定科目],月比較[[#Headers],[衣服]])","v":0},{"$f":"SUMIFS(家計簿[金額],家計簿[年],月比較[[#This Row],[年]],家計簿[月],月比較[[#This Row],[月]],家計簿[勘定科目],月比較[[#Headers],[教育費]])","v":0},{"$f":"SUMIFS(家計簿[金額],家計簿[年],月比較[[#This Row],[年]],家計簿[月],月比較[[#This Row],[月]],家計簿[勘定科目],月比較[[#Headers],[外食費]])","v":0},{"$f":"SUMIFS(家計簿[金額],家計簿[年],月比較[[#This Row],[年]],家計簿[月],月比較[[#This Row],[月]],家計簿[勘定科目],月比較[[#Headers],[移動費]])","v":0},{"$f":"SUMIFS(家計簿[金額],家計簿[年],月比較[[#This Row],[年]],家計簿[月],月比較[[#This Row],[月]],家計簿[勘定科目],月比較[[#Headers],[旅費]])","v":0},{"$f":"SUMIFS(家計簿[金額],家計簿[年],月比較[[#This Row],[年]],家計簿[月],月比較[[#This Row],[月]],家計簿[勘定科目],月比較[[#Headers],[娯楽費]])","v":0},{"$f":"SUMIFS(家計簿[金額],家計簿[年],月比較[[#This Row],[年]],家計簿[月],月比較[[#This Row],[月]],家計簿[勘定科目],月比較[[#Headers],[医療費]])","v":0},{"$f":"SUMIFS(家計簿[金額],家計簿[年],月比較[[#This Row],[年]],家計簿[月],月比較[[#This Row],[月]],家計簿[勘定科目],月比較[[#Headers],[特別出費]])","v":0}]
[null,null,{"$f":"IF(月比較[[#This Row],[月]]=1,C65+1,C65)","v":2028},1,{"$f":"DATE(月比較[[#This Row],[年]],月比較[[#This Row],[月]],1)","v":"2028-01-01"},{"$f":"SUMIFS(家計簿[金額],家計簿[年],月比較[[#This Row],[年]],家計簿[月],月比較[[#This Row],[月]],家計簿[収入/支出],月比較[[#Headers],[収入]])","v":0},{"$f":"SUMIFS(家計簿[金額],家計簿[年],月比較[[#This Row],[年]],家計簿[月],月比較[[#This Row],[月]],家計簿[収入/支出],月比較[[#Headers],[支出]])","v":0},{"$f":"SUMIFS(家計簿[金額],家計簿[年],月比較[[#This Row],[年]],家計簿[月],月比較[[#This Row],[月]],家計簿[固定費/変動費],月比較[[#Headers],[固定費]])","v":0},{"$f":"SUMIFS(家計簿[金額],家計簿[年],月比較[[#This Row],[年]],家計簿[月],月比較[[#This Row],[月]],家計簿[固定費/変動費],月比較[[#Headers],[変動費]])","v":0},{"$f":"SUMIFS(家計簿[金額],家計簿[年],月比較[[#This Row],[年]],家計簿[月],月比較[[#This Row],[月]],家計簿[勘定科目],月比較[[#Headers],[給料]])","v":0},{"$f":"SUMIFS(家計簿[金額],家計簿[年],月比較[[#This Row],[年]],家計簿[月],月比較[[#This Row],[月]],家計簿[勘定科目],月比較[[#Headers],[ボーナス]])","v":0},{"$f":"SUMIFS(家計簿[金額],家計簿[年],月比較[[#This Row],[年]],家計簿[月],月比較[[#This Row],[月]],家計簿[勘定科目],月比較[[#Headers],[家賃補助]])","v":0},{"$f":"SUMIFS(家計簿[金額],家計簿[年],月比較[[#This Row],[年]],家計簿[月],月比較[[#This Row],[月]],家計簿[勘定科目],月比較[[#Headers],[児童手当]])","v":0},{"$f":"SUMIFS(家計簿[金額],家計簿[年],月比較[[#This Row],[年]],家計簿[月],月比較[[#This Row],[月]],家計簿[勘定科目],月比較[[#Headers],[配当金]])","v":0},{"$f":"SUMIFS(家計簿[金額],家計簿[年],月比較[[#This Row],[年]],家計簿[月],月比較[[#This Row],[月]],家計簿[勘定科目],月比較[[#Headers],[特別収入]])","v":0},{"$f":"SUMIFS(家計簿[金額],家計簿[年],月比較[[#This Row],[年]],家計簿[月],月比較[[#This Row],[月]],家計簿[勘定科目],月比較[[#Headers],[家賃]])","v":0},{"$f":"SUMIFS(家計簿[金額],家計簿[年],月比較[[#This Row],[年]],家計簿[月],月比較[[#This Row],[月]],家計簿[勘定科目],月比較[[#Headers],[電気代]])","v":0},{"$f":"SUMIFS(家計簿[金額],家計簿[年],月比較[[#This Row],[年]],家計簿[月],月比較[[#This Row],[月]],家計簿[勘定科目],月比較[[#Headers],[ガス代]])","v":0},{"$f":"SUMIFS(家計簿[金額],家計簿[年],月比較[[#This Row],[年]],家計簿[月],月比較[[#This Row],[月]],家計簿[勘定科目],月比較[[#Headers],[水道代]])","v":0},{"$f":"SUMIFS(家計簿[金額],家計簿[年],月比較[[#This Row],[年]],家計簿[月],月比較[[#This Row],[月]],家計簿[勘定科目],月比較[[#Headers],[通信費]])","v":0},{"$f":"SUMIFS(家計簿[金額],家計簿[年],月比較[[#This Row],[年]],家計簿[月],月比較[[#This Row],[月]],家計簿[勘定科目],月比較[[#Headers],[保険代]])","v":0},{"$f":"SUMIFS(家計簿[金額],家計簿[年],月比較[[#This Row],[年]],家計簿[月],月比較[[#This Row],[月]],家計簿[勘定科目],月比較[[#Headers],[サブスク]])","v":0},{"$f":"SUMIFS(家計簿[金額],家計簿[年],月比較[[#This Row],[年]],家計簿[月],月比較[[#This Row],[月]],家計簿[勘定科目],月比較[[#Headers],[税金（固定資産、自動車）]])","v":0},{"$f":"SUMIFS(家計簿[金額],家計簿[年],月比較[[#This Row],[年]],家計簿[月],月比較[[#This Row],[月]],家計簿[勘定科目],月比較[[#Headers],[食費]])","v":0},{"$f":"SUMIFS(家計簿[金額],家計簿[年],月比較[[#This Row],[年]],家計簿[月],月比較[[#This Row],[月]],家計簿[勘定科目],月比較[[#Headers],[日用品]])","v":0},{"$f":"SUMIFS(家計簿[金額],家計簿[年],月比較[[#This Row],[年]],家計簿[月],月比較[[#This Row],[月]],家計簿[勘定科目],月比較[[#Headers],[衣服]])","v":0},{"$f":"SUMIFS(家計簿[金額],家計簿[年],月比較[[#This Row],[年]],家計簿[月],月比較[[#This Row],[月]],家計簿[勘定科目],月比較[[#Headers],[教育費]])","v":0},{"$f":"SUMIFS(家計簿[金額],家計簿[年],月比較[[#This Row],[年]],家計簿[月],月比較[[#This Row],[月]],家計簿[勘定科目],月比較[[#Headers],[外食費]])","v":0},{"$f":"SUMIFS(家計簿[金額],家計簿[年],月比較[[#This Row],[年]],家計簿[月],月比較[[#This Row],[月]],家計簿[勘定科目],月比較[[#Headers],[移動費]])","v":0},{"$f":"SUMIFS(家計簿[金額],家計簿[年],月比較[[#This Row],[年]],家計簿[月],月比較[[#This Row],[月]],家計簿[勘定科目],月比較[[#Headers],[旅費]])","v":0},{"$f":"SUMIFS(家計簿[金額],家計簿[年],月比較[[#This Row],[年]],家計簿[月],月比較[[#This Row],[月]],家計簿[勘定科目],月比較[[#Headers],[娯楽費]])","v":0},{"$f":"SUMIFS(家計簿[金額],家計簿[年],月比較[[#This Row],[年]],家計簿[月],月比較[[#This Row],[月]],家計簿[勘定科目],月比較[[#Headers],[医療費]])","v":0},{"$f":"SUMIFS(家計簿[金額],家計簿[年],月比較[[#This Row],[年]],家計簿[月],月比較[[#This Row],[月]],家計簿[勘定科目],月比較[[#Headers],[特別出費]])","v":0}]
[null,null,{"$f":"IF(月比較[[#This Row],[月]]=1,C66+1,C66)","v":2028},2,{"$f":"DATE(月比較[[#This Row],[年]],月比較[[#This Row],[月]],1)","v":"2028-02-01"},{"$f":"SUMIFS(家計簿[金額],家計簿[年],月比較[[#This Row],[年]],家計簿[月],月比較[[#This Row],[月]],家計簿[収入/支出],月比較[[#Headers],[収入]])","v":0},{"$f":"SUMIFS(家計簿[金額],家計簿[年],月比較[[#This Row],[年]],家計簿[月],月比較[[#This Row],[月]],家計簿[収入/支出],月比較[[#Headers],[支出]])","v":0},{"$f":"SUMIFS(家計簿[金額],家計簿[年],月比較[[#This Row],[年]],家計簿[月],月比較[[#This Row],[月]],家計簿[固定費/変動費],月比較[[#Headers],[固定費]])","v":0},{"$f":"SUMIFS(家計簿[金額],家計簿[年],月比較[[#This Row],[年]],家計簿[月],月比較[[#This Row],[月]],家計簿[固定費/変動費],月比較[[#Headers],[変動費]])","v":0},{"$f":"SUMIFS(家計簿[金額],家計簿[年],月比較[[#This Row],[年]],家計簿[月],月比較[[#This Row],[月]],家計簿[勘定科目],月比較[[#Headers],[給料]])","v":0},{"$f":"SUMIFS(家計簿[金額],家計簿[年],月比較[[#This Row],[年]],家計簿[月],月比較[[#This Row],[月]],家計簿[勘定科目],月比較[[#Headers],[ボーナス]])","v":0},{"$f":"SUMIFS(家計簿[金額],家計簿[年],月比較[[#This Row],[年]],家計簿[月],月比較[[#This Row],[月]],家計簿[勘定科目],月比較[[#Headers],[家賃補助]])","v":0},{"$f":"SUMIFS(家計簿[金額],家計簿[年],月比較[[#This Row],[年]],家計簿[月],月比較[[#This Row],[月]],家計簿[勘定科目],月比較[[#Headers],[児童手当]])","v":0},{"$f":"SUMIFS(家計簿[金額],家計簿[年],月比較[[#This Row],[年]],家計簿[月],月比較[[#This Row],[月]],家計簿[勘定科目],月比較[[#Headers],[配当金]])","v":0},{"$f":"SUMIFS(家計簿[金額],家計簿[年],月比較[[#This Row],[年]],家計簿[月],月比較[[#This Row],[月]],家計簿[勘定科目],月比較[[#Headers],[特別収入]])","v":0},{"$f":"SUMIFS(家計簿[金額],家計簿[年],月比較[[#This Row],[年]],家計簿[月],月比較[[#This Row],[月]],家計簿[勘定科目],月比較[[#Headers],[家賃]])","v":0},{"$f":"SUMIFS(家計簿[金額],家計簿[年],月比較[[#This Row],[年]],家計簿[月],月比較[[#This Row],[月]],家計簿[勘定科目],月比較[[#Headers],[電気代]])","v":0},{"$f":"SUMIFS(家計簿[金額],家計簿[年],月比較[[#This Row],[年]],家計簿[月],月比較[[#This Row],[月]],家計簿[勘定科目],月比較[[#Headers],[ガス代]])","v":0},{"$f":"SUMIFS(家計簿[金額],家計簿[年],月比較[[#This Row],[年]],家計簿[月],月比較[[#This Row],[月]],家計簿[勘定科目],月比較[[#Headers],[水道代]])","v":0},{"$f":"SUMIFS(家計簿[金額],家計簿[年],月比較[[#This Row],[年]],家計簿[月],月比較[[#This Row],[月]],家計簿[勘定科目],月比較[[#Headers],[通信費]])","v":0},{"$f":"SUMIFS(家計簿[金額],家計簿[年],月比較[[#This Row],[年]],家計簿[月],月比較[[#This Row],[月]],家計簿[勘定科目],月比較[[#Headers],[保険代]])","v":0},{"$f":"SUMIFS(家計簿[金額],家計簿[年],月比較[[#This Row],[年]],家計簿[月],月比較[[#This Row],[月]],家計簿[勘定科目],月比較[[#Headers],[サブスク]])","v":0},{"$f":"SUMIFS(家計簿[金額],家計簿[年],月比較[[#This Row],[年]],家計簿[月],月比較[[#This Row],[月]],家計簿[勘定科目],月比較[[#Headers],[税金（固定資産、自動車）]])","v":0},{"$f":"SUMIFS(家計簿[金額],家計簿[年],月比較[[#This Row],[年]],家計簿[月],月比較[[#This Row],[月]],家計簿[勘定科目],月比較[[#Headers],[食費]])","v":0},{"$f":"SUMIFS(家計簿[金額],家計簿[年],月比較[[#This Row],[年]],家計簿[月],月比較[[#This Row],[月]],家計簿[勘定科目],月比較[[#Headers],[日用品]])","v":0},{"$f":"SUMIFS(家計簿[金額],家計簿[年],月比較[[#This Row],[年]],家計簿[月],月比較[[#This Row],[月]],家計簿[勘定科目],月比較[[#Headers],[衣服]])","v":0},{"$f":"SUMIFS(家計簿[金額],家計簿[年],月比較[[#This Row],[年]],家計簿[月],月比較[[#This Row],[月]],家計簿[勘定科目],月比較[[#Headers],[教育費]])","v":0},{"$f":"SUMIFS(家計簿[金額],家計簿[年],月比較[[#This Row],[年]],家計簿[月],月比較[[#This Row],[月]],家計簿[勘定科目],月比較[[#Headers],[外食費]])","v":0},{"$f":"SUMIFS(家計簿[金額],家計簿[年],月比較[[#This Row],[年]],家計簿[月],月比較[[#This Row],[月]],家計簿[勘定科目],月比較[[#Headers],[移動費]])","v":0},{"$f":"SUMIFS(家計簿[金額],家計簿[年],月比較[[#This Row],[年]],家計簿[月],月比較[[#This Row],[月]],家計簿[勘定科目],月比較[[#Headers],[旅費]])","v":0},{"$f":"SUMIFS(家計簿[金額],家計簿[年],月比較[[#This Row],[年]],家計簿[月],月比較[[#This Row],[月]],家計簿[勘定科目],月比較[[#Headers],[娯楽費]])","v":0},{"$f":"SUMIFS(家計簿[金額],家計簿[年],月比較[[#This Row],[年]],家計簿[月],月比較[[#This Row],[月]],家計簿[勘定科目],月比較[[#Headers],[医療費]])","v":0},{"$f":"SUMIFS(家計簿[金額],家計簿[年],月比較[[#This Row],[年]],家計簿[月],月比較[[#This Row],[月]],家計簿[勘定科目],月比較[[#Headers],[特別出費]])","v":0}]
[null,null,{"$f":"IF(月比較[[#This Row],[月]]=1,C67+1,C67)","v":2028},3,{"$f":"DATE(月比較[[#This Row],[年]],月比較[[#This Row],[月]],1)","v":"2028-03-01"},{"$f":"SUMIFS(家計簿[金額],家計簿[年],月比較[[#This Row],[年]],家計簿[月],月比較[[#This Row],[月]],家計簿[収入/支出],月比較[[#Headers],[収入]])","v":0},{"$f":"SUMIFS(家計簿[金額],家計簿[年],月比較[[#This Row],[年]],家計簿[月],月比較[[#This Row],[月]],家計簿[収入/支出],月比較[[#Headers],[支出]])","v":0},{"$f":"SUMIFS(家計簿[金額],家計簿[年],月比較[[#This Row],[年]],家計簿[月],月比較[[#This Row],[月]],家計簿[固定費/変動費],月比較[[#Headers],[固定費]])","v":0},{"$f":"SUMIFS(家計簿[金額],家計簿[年],月比較[[#This Row],[年]],家計簿[月],月比較[[#This Row],[月]],家計簿[固定費/変動費],月比較[[#Headers],[変動費]])","v":0},{"$f":"SUMIFS(家計簿[金額],家計簿[年],月比較[[#This Row],[年]],家計簿[月],月比較[[#This Row],[月]],家計簿[勘定科目],月比較[[#Headers],[給料]])","v":0},{"$f":"SUMIFS(家計簿[金額],家計簿[年],月比較[[#This Row],[年]],家計簿[月],月比較[[#This Row],[月]],家計簿[勘定科目],月比較[[#Headers],[ボーナス]])","v":0},{"$f":"SUMIFS(家計簿[金額],家計簿[年],月比較[[#This Row],[年]],家計簿[月],月比較[[#This Row],[月]],家計簿[勘定科目],月比較[[#Headers],[家賃補助]])","v":0},{"$f":"SUMIFS(家計簿[金額],家計簿[年],月比較[[#This Row],[年]],家計簿[月],月比較[[#This Row],[月]],家計簿[勘定科目],月比較[[#Headers],[児童手当]])","v":0},{"$f":"SUMIFS(家計簿[金額],家計簿[年],月比較[[#This Row],[年]],家計簿[月],月比較[[#This Row],[月]],家計簿[勘定科目],月比較[[#Headers],[配当金]])","v":0},{"$f":"SUMIFS(家計簿[金額],家計簿[年],月比較[[#This Row],[年]],家計簿[月],月比較[[#This Row],[月]],家計簿[勘定科目],月比較[[#Headers],[特別収入]])","v":0},{"$f":"SUMIFS(家計簿[金額],家計簿[年],月比較[[#This Row],[年]],家計簿[月],月比較[[#This Row],[月]],家計簿[勘定科目],月比較[[#Headers],[家賃]])","v":0},{"$f":"SUMIFS(家計簿[金額],家計簿[年],月比較[[#This Row],[年]],家計簿[月],月比較[[#This Row],[月]],家計簿[勘定科目],月比較[[#Headers],[電気代]])","v":0},{"$f":"SUMIFS(家計簿[金額],家計簿[年],月比較[[#This Row],[年]],家計簿[月],月比較[[#This Row],[月]],家計簿[勘定科目],月比較[[#Headers],[ガス代]])","v":0},{"$f":"SUMIFS(家計簿[金額],家計簿[年],月比較[[#This Row],[年]],家計簿[月],月比較[[#This Row],[月]],家計簿[勘定科目],月比較[[#Headers],[水道代]])","v":0},{"$f":"SUMIFS(家計簿[金額],家計簿[年],月比較[[#This Row],[年]],家計簿[月],月比較[[#This Row],[月]],家計簿[勘定科目],月比較[[#Headers],[通信費]])","v":0},{"$f":"SUMIFS(家計簿[金額],家計簿[年],月比較[[#This Row],[年]],家計簿[月],月比較[[#This Row],[月]],家計簿[勘定科目],月比較[[#Headers],[保険代]])","v":0},{"$f":"SUMIFS(家計簿[金額],家計簿[年],月比較[[#This Row],[年]],家計簿[月],月比較[[#This Row],[月]],家計簿[勘定科目],月比較[[#Headers],[サブスク]])","v":0},{"$f":"SUMIFS(家計簿[金額],家計簿[年],月比較[[#This Row],[年]],家計簿[月],月比較[[#This Row],[月]],家計簿[勘定科目],月比較[[#Headers],[税金（固定資産、自動車）]])","v":0},{"$f":"SUMIFS(家計簿[金額],家計簿[年],月比較[[#This Row],[年]],家計簿[月],月比較[[#This Row],[月]],家計簿[勘定科目],月比較[[#Headers],[食費]])","v":0},{"$f":"SUMIFS(家計簿[金額],家計簿[年],月比較[[#This Row],[年]],家計簿[月],月比較[[#This Row],[月]],家計簿[勘定科目],月比較[[#Headers],[日用品]])","v":0},{"$f":"SUMIFS(家計簿[金額],家計簿[年],月比較[[#This Row],[年]],家計簿[月],月比較[[#This Row],[月]],家計簿[勘定科目],月比較[[#Headers],[衣服]])","v":0},{"$f":"SUMIFS(家計簿[金額],家計簿[年],月比較[[#This Row],[年]],家計簿[月],月比較[[#This Row],[月]],家計簿[勘定科目],月比較[[#Headers],[教育費]])","v":0},{"$f":"SUMIFS(家計簿[金額],家計簿[年],月比較[[#This Row],[年]],家計簿[月],月比較[[#This Row],[月]],家計簿[勘定科目],月比較[[#Headers],[外食費]])","v":0},{"$f":"SUMIFS(家計簿[金額],家計簿[年],月比較[[#This Row],[年]],家計簿[月],月比較[[#This Row],[月]],家計簿[勘定科目],月比較[[#Headers],[移動費]])","v":0},{"$f":"SUMIFS(家計簿[金額],家計簿[年],月比較[[#This Row],[年]],家計簿[月],月比較[[#This Row],[月]],家計簿[勘定科目],月比較[[#Headers],[旅費]])","v":0},{"$f":"SUMIFS(家計簿[金額],家計簿[年],月比較[[#This Row],[年]],家計簿[月],月比較[[#This Row],[月]],家計簿[勘定科目],月比較[[#Headers],[娯楽費]])","v":0},{"$f":"SUMIFS(家計簿[金額],家計簿[年],月比較[[#This Row],[年]],家計簿[月],月比較[[#This Row],[月]],家計簿[勘定科目],月比較[[#Headers],[医療費]])","v":0},{"$f":"SUMIFS(家計簿[金額],家計簿[年],月比較[[#This Row],[年]],家計簿[月],月比較[[#This Row],[月]],家計簿[勘定科目],月比較[[#Headers],[特別出費]])","v":0}]
[null,null,{"$f":"IF(月比較[[#This Row],[月]]=1,C68+1,C68)","v":2028},4,{"$f":"DATE(月比較[[#This Row],[年]],月比較[[#This Row],[月]],1)","v":"2028-04-01"},{"$f":"SUMIFS(家計簿[金額],家計簿[年],月比較[[#This Row],[年]],家計簿[月],月比較[[#This Row],[月]],家計簿[収入/支出],月比較[[#Headers],[収入]])","v":0},{"$f":"SUMIFS(家計簿[金額],家計簿[年],月比較[[#This Row],[年]],家計簿[月],月比較[[#This Row],[月]],家計簿[収入/支出],月比較[[#Headers],[支出]])","v":0},{"$f":"SUMIFS(家計簿[金額],家計簿[年],月比較[[#This Row],[年]],家計簿[月],月比較[[#This Row],[月]],家計簿[固定費/変動費],月比較[[#Headers],[固定費]])","v":0},{"$f":"SUMIFS(家計簿[金額],家計簿[年],月比較[[#This Row],[年]],家計簿[月],月比較[[#This Row],[月]],家計簿[固定費/変動費],月比較[[#Headers],[変動費]])","v":0},{"$f":"SUMIFS(家計簿[金額],家計簿[年],月比較[[#This Row],[年]],家計簿[月],月比較[[#This Row],[月]],家計簿[勘定科目],月比較[[#Headers],[給料]])","v":0},{"$f":"SUMIFS(家計簿[金額],家計簿[年],月比較[[#This Row],[年]],家計簿[月],月比較[[#This Row],[月]],家計簿[勘定科目],月比較[[#Headers],[ボーナス]])","v":0},{"$f":"SUMIFS(家計簿[金額],家計簿[年],月比較[[#This Row],[年]],家計簿[月],月比較[[#This Row],[月]],家計簿[勘定科目],月比較[[#Headers],[家賃補助]])","v":0},{"$f":"SUMIFS(家計簿[金額],家計簿[年],月比較[[#This Row],[年]],家計簿[月],月比較[[#This Row],[月]],家計簿[勘定科目],月比較[[#Headers],[児童手当]])","v":0},{"$f":"SUMIFS(家計簿[金額],家計簿[年],月比較[[#This Row],[年]],家計簿[月],月比較[[#This Row],[月]],家計簿[勘定科目],月比較[[#Headers],[配当金]])","v":0},{"$f":"SUMIFS(家計簿[金額],家計簿[年],月比較[[#This Row],[年]],家計簿[月],月比較[[#This Row],[月]],家計簿[勘定科目],月比較[[#Headers],[特別収入]])","v":0},{"$f":"SUMIFS(家計簿[金額],家計簿[年],月比較[[#This Row],[年]],家計簿[月],月比較[[#This Row],[月]],家計簿[勘定科目],月比較[[#Headers],[家賃]])","v":0},{"$f":"SUMIFS(家計簿[金額],家計簿[年],月比較[[#This Row],[年]],家計簿[月],月比較[[#This Row],[月]],家計簿[勘定科目],月比較[[#Headers],[電気代]])","v":0},{"$f":"SUMIFS(家計簿[金額],家計簿[年],月比較[[#This Row],[年]],家計簿[月],月比較[[#This Row],[月]],家計簿[勘定科目],月比較[[#Headers],[ガス代]])","v":0},{"$f":"SUMIFS(家計簿[金額],家計簿[年],月比較[[#This Row],[年]],家計簿[月],月比較[[#This Row],[月]],家計簿[勘定科目],月比較[[#Headers],[水道代]])","v":0},{"$f":"SUMIFS(家計簿[金額],家計簿[年],月比較[[#This Row],[年]],家計簿[月],月比較[[#This Row],[月]],家計簿[勘定科目],月比較[[#Headers],[通信費]])","v":0},{"$f":"SUMIFS(家計簿[金額],家計簿[年],月比較[[#This Row],[年]],家計簿[月],月比較[[#This Row],[月]],家計簿[勘定科目],月比較[[#Headers],[保険代]])","v":0},{"$f":"SUMIFS(家計簿[金額],家計簿[年],月比較[[#This Row],[年]],家計簿[月],月比較[[#This Row],[月]],家計簿[勘定科目],月比較[[#Headers],[サブスク]])","v":0},{"$f":"SUMIFS(家計簿[金額],家計簿[年],月比較[[#This Row],[年]],家計簿[月],月比較[[#This Row],[月]],家計簿[勘定科目],月比較[[#Headers],[税金（固定資産、自動車）]])","v":0},{"$f":"SUMIFS(家計簿[金額],家計簿[年],月比較[[#This Row],[年]],家計簿[月],月比較[[#This Row],[月]],家計簿[勘定科目],月比較[[#Headers],[食費]])","v":0},{"$f":"SUMIFS(家計簿[金額],家計簿[年],月比較[[#This Row],[年]],家計簿[月],月比較[[#This Row],[月]],家計簿[勘定科目],月比較[[#Headers],[日用品]])","v":0},{"$f":"SUMIFS(家計簿[金額],家計簿[年],月比較[[#This Row],[年]],家計簿[月],月比較[[#This Row],[月]],家計簿[勘定科目],月比較[[#Headers],[衣服]])","v":0},{"$f":"SUMIFS(家計簿[金額],家計簿[年],月比較[[#This Row],[年]],家計簿[月],月比較[[#This Row],[月]],家計簿[勘定科目],月比較[[#Headers],[教育費]])","v":0},{"$f":"SUMIFS(家計簿[金額],家計簿[年],月比較[[#This Row],[年]],家計簿[月],月比較[[#This Row],[月]],家計簿[勘定科目],月比較[[#Headers],[外食費]])","v":0},{"$f":"SUMIFS(家計簿[金額],家計簿[年],月比較[[#This Row],[年]],家計簿[月],月比較[[#This Row],[月]],家計簿[勘定科目],月比較[[#Headers],[移動費]])","v":0},{"$f":"SUMIFS(家計簿[金額],家計簿[年],月比較[[#This Row],[年]],家計簿[月],月比較[[#This Row],[月]],家計簿[勘定科目],月比較[[#Headers],[旅費]])","v":0},{"$f":"SUMIFS(家計簿[金額],家計簿[年],月比較[[#This Row],[年]],家計簿[月],月比較[[#This Row],[月]],家計簿[勘定科目],月比較[[#Headers],[娯楽費]])","v":0},{"$f":"SUMIFS(家計簿[金額],家計簿[年],月比較[[#This Row],[年]],家計簿[月],月比較[[#This Row],[月]],家計簿[勘定科目],月比較[[#Headers],[医療費]])","v":0},{"$f":"SUMIFS(家計簿[金額],家計簿[年],月比較[[#This Row],[年]],家計簿[月],月比較[[#This Row],[月]],家計簿[勘定科目],月比較[[#Headers],[特別出費]])","v":0}]
[null,null,{"$f":"IF(月比較[[#This Row],[月]]=1,C69+1,C69)","v":2028},5,{"$f":"DATE(月比較[[#This Row],[年]],月比較[[#This Row],[月]],1)","v":"2028-05-01"},{"$f":"SUMIFS(家計簿[金額],家計簿[年],月比較[[#This Row],[年]],家計簿[月],月比較[[#This Row],[月]],家計簿[収入/支出],月比較[[#Headers],[収入]])","v":0},{"$f":"SUMIFS(家計簿[金額],家計簿[年],月比較[[#This Row],[年]],家計簿[月],月比較[[#This Row],[月]],家計簿[収入/支出],月比較[[#Headers],[支出]])","v":0},{"$f":"SUMIFS(家計簿[金額],家計簿[年],月比較[[#This Row],[年]],家計簿[月],月比較[[#This Row],[月]],家計簿[固定費/変動費],月比較[[#Headers],[固定費]])","v":0},{"$f":"SUMIFS(家計簿[金額],家計簿[年],月比較[[#This Row],[年]],家計簿[月],月比較[[#This Row],[月]],家計簿[固定費/変動費],月比較[[#Headers],[変動費]])","v":0},{"$f":"SUMIFS(家計簿[金額],家計簿[年],月比較[[#This Row],[年]],家計簿[月],月比較[[#This Row],[月]],家計簿[勘定科目],月比較[[#Headers],[給料]])","v":0},{"$f":"SUMIFS(家計簿[金額],家計簿[年],月比較[[#This Row],[年]],家計簿[月],月比較[[#This Row],[月]],家計簿[勘定科目],月比較[[#Headers],[ボーナス]])","v":0},{"$f":"SUMIFS(家計簿[金額],家計簿[年],月比較[[#This Row],[年]],家計簿[月],月比較[[#This Row],[月]],家計簿[勘定科目],月比較[[#Headers],[家賃補助]])","v":0},{"$f":"SUMIFS(家計簿[金額],家計簿[年],月比較[[#This Row],[年]],家計簿[月],月比較[[#This Row],[月]],家計簿[勘定科目],月比較[[#Headers],[児童手当]])","v":0},{"$f":"SUMIFS(家計簿[金額],家計簿[年],月比較[[#This Row],[年]],家計簿[月],月比較[[#This Row],[月]],家計簿[勘定科目],月比較[[#Headers],[配当金]])","v":0},{"$f":"SUMIFS(家計簿[金額],家計簿[年],月比較[[#This Row],[年]],家計簿[月],月比較[[#This Row],[月]],家計簿[勘定科目],月比較[[#Headers],[特別収入]])","v":0},{"$f":"SUMIFS(家計簿[金額],家計簿[年],月比較[[#This Row],[年]],家計簿[月],月比較[[#This Row],[月]],家計簿[勘定科目],月比較[[#Headers],[家賃]])","v":0},{"$f":"SUMIFS(家計簿[金額],家計簿[年],月比較[[#This Row],[年]],家計簿[月],月比較[[#This Row],[月]],家計簿[勘定科目],月比較[[#Headers],[電気代]])","v":0},{"$f":"SUMIFS(家計簿[金額],家計簿[年],月比較[[#This Row],[年]],家計簿[月],月比較[[#This Row],[月]],家計簿[勘定科目],月比較[[#Headers],[ガス代]])","v":0},{"$f":"SUMIFS(家計簿[金額],家計簿[年],月比較[[#This Row],[年]],家計簿[月],月比較[[#This Row],[月]],家計簿[勘定科目],月比較[[#Headers],[水道代]])","v":0},{"$f":"SUMIFS(家計簿[金額],家計簿[年],月比較[[#This Row],[年]],家計簿[月],月比較[[#This Row],[月]],家計簿[勘定科目],月比較[[#Headers],[通信費]])","v":0},{"$f":"SUMIFS(家計簿[金額],家計簿[年],月比較[[#This Row],[年]],家計簿[月],月比較[[#This Row],[月]],家計簿[勘定科目],月比較[[#Headers],[保険代]])","v":0},{"$f":"SUMIFS(家計簿[金額],家計簿[年],月比較[[#This Row],[年]],家計簿[月],月比較[[#This Row],[月]],家計簿[勘定科目],月比較[[#Headers],[サブスク]])","v":0},{"$f":"SUMIFS(家計簿[金額],家計簿[年],月比較[[#This Row],[年]],家計簿[月],月比較[[#This Row],[月]],家計簿[勘定科目],月比較[[#Headers],[税金（固定資産、自動車）]])","v":0},{"$f":"SUMIFS(家計簿[金額],家計簿[年],月比較[[#This Row],[年]],家計簿[月],月比較[[#This Row],[月]],家計簿[勘定科目],月比較[[#Headers],[食費]])","v":0},{"$f":"SUMIFS(家計簿[金額],家計簿[年],月比較[[#This Row],[年]],家計簿[月],月比較[[#This Row],[月]],家計簿[勘定科目],月比較[[#Headers],[日用品]])","v":0},{"$f":"SUMIFS(家計簿[金額],家計簿[年],月比較[[#This Row],[年]],家計簿[月],月比較[[#This Row],[月]],家計簿[勘定科目],月比較[[#Headers],[衣服]])","v":0},{"$f":"SUMIFS(家計簿[金額],家計簿[年],月比較[[#This Row],[年]],家計簿[月],月比較[[#This Row],[月]],家計簿[勘定科目],月比較[[#Headers],[教育費]])","v":0},{"$f":"SUMIFS(家計簿[金額],家計簿[年],月比較[[#This Row],[年]],家計簿[月],月比較[[#This Row],[月]],家計簿[勘定科目],月比較[[#Headers],[外食費]])","v":0},{"$f":"SUMIFS(家計簿[金額],家計簿[年],月比較[[#This Row],[年]],家計簿[月],月比較[[#This Row],[月]],家計簿[勘定科目],月比較[[#Headers],[移動費]])","v":0},{"$f":"SUMIFS(家計簿[金額],家計簿[年],月比較[[#This Row],[年]],家計簿[月],月比較[[#This Row],[月]],家計簿[勘定科目],月比較[[#Headers],[旅費]])","v":0},{"$f":"SUMIFS(家計簿[金額],家計簿[年],月比較[[#This Row],[年]],家計簿[月],月比較[[#This Row],[月]],家計簿[勘定科目],月比較[[#Headers],[娯楽費]])","v":0},{"$f":"SUMIFS(家計簿[金額],家計簿[年],月比較[[#This Row],[年]],家計簿[月],月比較[[#This Row],[月]],家計簿[勘定科目],月比較[[#Headers],[医療費]])","v":0},{"$f":"SUMIFS(家計簿[金額],家計簿[年],月比較[[#This Row],[年]],家計簿[月],月比較[[#This Row],[月]],家計簿[勘定科目],月比較[[#Headers],[特別出費]])","v":0}]
[null,null,{"$f":"IF(月比較[[#This Row],[月]]=1,C70+1,C70)","v":2028},{"$f":"MOD((ROW()-6),12)+1","v":6},{"$f":"DATE(月比較[[#This Row],[年]],月比較[[#This Row],[月]],1)","v":"2028-06-01"},{"$f":"SUMIFS(家計簿[金額],家計簿[年],月比較[[#This Row],[年]],家計簿[月],月比較[[#This Row],[月]],家計簿[収入/支出],月比較[[#Headers],[収入]])","v":0},{"$f":"SUMIFS(家計簿[金額],家計簿[年],月比較[[#This Row],[年]],家計簿[月],月比較[[#This Row],[月]],家計簿[収入/支出],月比較[[#Headers],[支出]])","v":0},{"$f":"SUMIFS(家計簿[金額],家計簿[年],月比較[[#This Row],[年]],家計簿[月],月比較[[#This Row],[月]],家計簿[固定費/変動費],月比較[[#Headers],[固定費]])","v":0},{"$f":"SUMIFS(家計簿[金額],家計簿[年],月比較[[#This Row],[年]],家計簿[月],月比較[[#This Row],[月]],家計簿[固定費/変動費],月比較[[#Headers],[変動費]])","v":0},{"$f":"SUMIFS(家計簿[金額],家計簿[年],月比較[[#This Row],[年]],家計簿[月],月比較[[#This Row],[月]],家計簿[勘定科目],月比較[[#Headers],[給料]])","v":0},{"$f":"SUMIFS(家計簿[金額],家計簿[年],月比較[[#This Row],[年]],家計簿[月],月比較[[#This Row],[月]],家計簿[勘定科目],月比較[[#Headers],[ボーナス]])","v":0},{"$f":"SUMIFS(家計簿[金額],家計簿[年],月比較[[#This Row],[年]],家計簿[月],月比較[[#This Row],[月]],家計簿[勘定科目],月比較[[#Headers],[家賃補助]])","v":0},{"$f":"SUMIFS(家計簿[金額],家計簿[年],月比較[[#This Row],[年]],家計簿[月],月比較[[#This Row],[月]],家計簿[勘定科目],月比較[[#Headers],[児童手当]])","v":0},{"$f":"SUMIFS(家計簿[金額],家計簿[年],月比較[[#This Row],[年]],家計簿[月],月比較[[#This Row],[月]],家計簿[勘定科目],月比較[[#Headers],[配当金]])","v":0},{"$f":"SUMIFS(家計簿[金額],家計簿[年],月比較[[#This Row],[年]],家計簿[月],月比較[[#This Row],[月]],家計簿[勘定科目],月比較[[#Headers],[特別収入]])","v":0},{"$f":"SUMIFS(家計簿[金額],家計簿[年],月比較[[#This Row],[年]],家計簿[月],月比較[[#This Row],[月]],家計簿[勘定科目],月比較[[#Headers],[家賃]])","v":0},{"$f":"SUMIFS(家計簿[金額],家計簿[年],月比較[[#This Row],[年]],家計簿[月],月比較[[#This Row],[月]],家計簿[勘定科目],月比較[[#Headers],[電気代]])","v":0},{"$f":"SUMIFS(家計簿[金額],家計簿[年],月比較[[#This Row],[年]],家計簿[月],月比較[[#This Row],[月]],家計簿[勘定科目],月比較[[#Headers],[ガス代]])","v":0},{"$f":"SUMIFS(家計簿[金額],家計簿[年],月比較[[#This Row],[年]],家計簿[月],月比較[[#This Row],[月]],家計簿[勘定科目],月比較[[#Headers],[水道代]])","v":0},{"$f":"SUMIFS(家計簿[金額],家計簿[年],月比較[[#This Row],[年]],家計簿[月],月比較[[#This Row],[月]],家計簿[勘定科目],月比較[[#Headers],[通信費]])","v":0},{"$f":"SUMIFS(家計簿[金額],家計簿[年],月比較[[#This Row],[年]],家計簿[月],月比較[[#This Row],[月]],家計簿[勘定科目],月比較[[#Headers],[保険代]])","v":0},{"$f":"SUMIFS(家計簿[金額],家計簿[年],月比較[[#This Row],[年]],家計簿[月],月比較[[#This Row],[月]],家計簿[勘定科目],月比較[[#Headers],[サブスク]])","v":0},{"$f":"SUMIFS(家計簿[金額],家計簿[年],月比較[[#This Row],[年]],家計簿[月],月比較[[#This Row],[月]],家計簿[勘定科目],月比較[[#Headers],[税金（固定資産、自動車）]])","v":0},{"$f":"SUMIFS(家計簿[金額],家計簿[年],月比較[[#This Row],[年]],家計簿[月],月比較[[#This Row],[月]],家計簿[勘定科目],月比較[[#Headers],[食費]])","v":0},{"$f":"SUMIFS(家計簿[金額],家計簿[年],月比較[[#This Row],[年]],家計簿[月],月比較[[#This Row],[月]],家計簿[勘定科目],月比較[[#Headers],[日用品]])","v":0},{"$f":"SUMIFS(家計簿[金額],家計簿[年],月比較[[#This Row],[年]],家計簿[月],月比較[[#This Row],[月]],家計簿[勘定科目],月比較[[#Headers],[衣服]])","v":0},{"$f":"SUMIFS(家計簿[金額],家計簿[年],月比較[[#This Row],[年]],家計簿[月],月比較[[#This Row],[月]],家計簿[勘定科目],月比較[[#Headers],[教育費]])","v":0},{"$f":"SUMIFS(家計簿[金額],家計簿[年],月比較[[#This Row],[年]],家計簿[月],月比較[[#This Row],[月]],家計簿[勘定科目],月比較[[#Headers],[外食費]])","v":0},{"$f":"SUMIFS(家計簿[金額],家計簿[年],月比較[[#This Row],[年]],家計簿[月],月比較[[#This Row],[月]],家計簿[勘定科目],月比較[[#Headers],[移動費]])","v":0},{"$f":"SUMIFS(家計簿[金額],家計簿[年],月比較[[#This Row],[年]],家計簿[月],月比較[[#This Row],[月]],家計簿[勘定科目],月比較[[#Headers],[旅費]])","v":0},{"$f":"SUMIFS(家計簿[金額],家計簿[年],月比較[[#This Row],[年]],家計簿[月],月比較[[#This Row],[月]],家計簿[勘定科目],月比較[[#Headers],[娯楽費]])","v":0},{"$f":"SUMIFS(家計簿[金額],家計簿[年],月比較[[#This Row],[年]],家計簿[月],月比較[[#This Row],[月]],家計簿[勘定科目],月比較[[#Headers],[医療費]])","v":0},{"$f":"SUMIFS(家計簿[金額],家計簿[年],月比較[[#This Row],[年]],家計簿[月],月比較[[#This Row],[月]],家計簿[勘定科目],月比較[[#Headers],[特別出費]])","v":0}]
[null,null,{"$f":"IF(月比較[[#This Row],[月]]=1,C71+1,C71)","v":2028},7,{"$f":"DATE(月比較[[#This Row],[年]],月比較[[#This Row],[月]],1)","v":"2028-07-01"},{"$f":"SUMIFS(家計簿[金額],家計簿[年],月比較[[#This Row],[年]],家計簿[月],月比較[[#This Row],[月]],家計簿[収入/支出],月比較[[#Headers],[収入]])","v":0},{"$f":"SUMIFS(家計簿[金額],家計簿[年],月比較[[#This Row],[年]],家計簿[月],月比較[[#This Row],[月]],家計簿[収入/支出],月比較[[#Headers],[支出]])","v":0},{"$f":"SUMIFS(家計簿[金額],家計簿[年],月比較[[#This Row],[年]],家計簿[月],月比較[[#This Row],[月]],家計簿[固定費/変動費],月比較[[#Headers],[固定費]])","v":0},{"$f":"SUMIFS(家計簿[金額],家計簿[年],月比較[[#This Row],[年]],家計簿[月],月比較[[#This Row],[月]],家計簿[固定費/変動費],月比較[[#Headers],[変動費]])","v":0},{"$f":"SUMIFS(家計簿[金額],家計簿[年],月比較[[#This Row],[年]],家計簿[月],月比較[[#This Row],[月]],家計簿[勘定科目],月比較[[#Headers],[給料]])","v":0},{"$f":"SUMIFS(家計簿[金額],家計簿[年],月比較[[#This Row],[年]],家計簿[月],月比較[[#This Row],[月]],家計簿[勘定科目],月比較[[#Headers],[ボーナス]])","v":0},{"$f":"SUMIFS(家計簿[金額],家計簿[年],月比較[[#This Row],[年]],家計簿[月],月比較[[#This Row],[月]],家計簿[勘定科目],月比較[[#Headers],[家賃補助]])","v":0},{"$f":"SUMIFS(家計簿[金額],家計簿[年],月比較[[#This Row],[年]],家計簿[月],月比較[[#This Row],[月]],家計簿[勘定科目],月比較[[#Headers],[児童手当]])","v":0},{"$f":"SUMIFS(家計簿[金額],家計簿[年],月比較[[#This Row],[年]],家計簿[月],月比較[[#This Row],[月]],家計簿[勘定科目],月比較[[#Headers],[配当金]])","v":0},{"$f":"SUMIFS(家計簿[金額],家計簿[年],月比較[[#This Row],[年]],家計簿[月],月比較[[#This Row],[月]],家計簿[勘定科目],月比較[[#Headers],[特別収入]])","v":0},{"$f":"SUMIFS(家計簿[金額],家計簿[年],月比較[[#This Row],[年]],家計簿[月],月比較[[#This Row],[月]],家計簿[勘定科目],月比較[[#Headers],[家賃]])","v":0},{"$f":"SUMIFS(家計簿[金額],家計簿[年],月比較[[#This Row],[年]],家計簿[月],月比較[[#This Row],[月]],家計簿[勘定科目],月比較[[#Headers],[電気代]])","v":0},{"$f":"SUMIFS(家計簿[金額],家計簿[年],月比較[[#This Row],[年]],家計簿[月],月比較[[#This Row],[月]],家計簿[勘定科目],月比較[[#Headers],[ガス代]])","v":0},{"$f":"SUMIFS(家計簿[金額],家計簿[年],月比較[[#This Row],[年]],家計簿[月],月比較[[#This Row],[月]],家計簿[勘定科目],月比較[[#Headers],[水道代]])","v":0},{"$f":"SUMIFS(家計簿[金額],家計簿[年],月比較[[#This Row],[年]],家計簿[月],月比較[[#This Row],[月]],家計簿[勘定科目],月比較[[#Headers],[通信費]])","v":0},{"$f":"SUMIFS(家計簿[金額],家計簿[年],月比較[[#This Row],[年]],家計簿[月],月比較[[#This Row],[月]],家計簿[勘定科目],月比較[[#Headers],[保険代]])","v":0},{"$f":"SUMIFS(家計簿[金額],家計簿[年],月比較[[#This Row],[年]],家計簿[月],月比較[[#This Row],[月]],家計簿[勘定科目],月比較[[#Headers],[サブスク]])","v":0},{"$f":"SUMIFS(家計簿[金額],家計簿[年],月比較[[#This Row],[年]],家計簿[月],月比較[[#This Row],[月]],家計簿[勘定科目],月比較[[#Headers],[税金（固定資産、自動車）]])","v":0},{"$f":"SUMIFS(家計簿[金額],家計簿[年],月比較[[#This Row],[年]],家計簿[月],月比較[[#This Row],[月]],家計簿[勘定科目],月比較[[#Headers],[食費]])","v":0},{"$f":"SUMIFS(家計簿[金額],家計簿[年],月比較[[#This Row],[年]],家計簿[月],月比較[[#This Row],[月]],家計簿[勘定科目],月比較[[#Headers],[日用品]])","v":0},{"$f":"SUMIFS(家計簿[金額],家計簿[年],月比較[[#This Row],[年]],家計簿[月],月比較[[#This Row],[月]],家計簿[勘定科目],月比較[[#Headers],[衣服]])","v":0},{"$f":"SUMIFS(家計簿[金額],家計簿[年],月比較[[#This Row],[年]],家計簿[月],月比較[[#This Row],[月]],家計簿[勘定科目],月比較[[#Headers],[教育費]])","v":0},{"$f":"SUMIFS(家計簿[金額],家計簿[年],月比較[[#This Row],[年]],家計簿[月],月比較[[#This Row],[月]],家計簿[勘定科目],月比較[[#Headers],[外食費]])","v":0},{"$f":"SUMIFS(家計簿[金額],家計簿[年],月比較[[#This Row],[年]],家計簿[月],月比較[[#This Row],[月]],家計簿[勘定科目],月比較[[#Headers],[移動費]])","v":0},{"$f":"SUMIFS(家計簿[金額],家計簿[年],月比較[[#This Row],[年]],家計簿[月],月比較[[#This Row],[月]],家計簿[勘定科目],月比較[[#Headers],[旅費]])","v":0},{"$f":"SUMIFS(家計簿[金額],家計簿[年],月比較[[#This Row],[年]],家計簿[月],月比較[[#This Row],[月]],家計簿[勘定科目],月比較[[#Headers],[娯楽費]])","v":0},{"$f":"SUMIFS(家計簿[金額],家計簿[年],月比較[[#This Row],[年]],家計簿[月],月比較[[#This Row],[月]],家計簿[勘定科目],月比較[[#Headers],[医療費]])","v":0},{"$f":"SUMIFS(家計簿[金額],家計簿[年],月比較[[#This Row],[年]],家計簿[月],月比較[[#This Row],[月]],家計簿[勘定科目],月比較[[#Headers],[特別出費]])","v":0}]
[null,null,{"$f":"IF(月比較[[#This Row],[月]]=1,C72+1,C72)","v":2028},8,{"$f":"DATE(月比較[[#This Row],[年]],月比較[[#This Row],[月]],1)","v":"2028-08-01"},{"$f":"SUMIFS(家計簿[金額],家計簿[年],月比較[[#This Row],[年]],家計簿[月],月比較[[#This Row],[月]],家計簿[収入/支出],月比較[[#Headers],[収入]])","v":0},{"$f":"SUMIFS(家計簿[金額],家計簿[年],月比較[[#This Row],[年]],家計簿[月],月比較[[#This Row],[月]],家計簿[収入/支出],月比較[[#Headers],[支出]])","v":0},{"$f":"SUMIFS(家計簿[金額],家計簿[年],月比較[[#This Row],[年]],家計簿[月],月比較[[#This Row],[月]],家計簿[固定費/変動費],月比較[[#Headers],[固定費]])","v":0},{"$f":"SUMIFS(家計簿[金額],家計簿[年],月比較[[#This Row],[年]],家計簿[月],月比較[[#This Row],[月]],家計簿[固定費/変動費],月比較[[#Headers],[変動費]])","v":0},{"$f":"SUMIFS(家計簿[金額],家計簿[年],月比較[[#This Row],[年]],家計簿[月],月比較[[#This Row],[月]],家計簿[勘定科目],月比較[[#Headers],[給料]])","v":0},{"$f":"SUMIFS(家計簿[金額],家計簿[年],月比較[[#This Row],[年]],家計簿[月],月比較[[#This Row],[月]],家計簿[勘定科目],月比較[[#Headers],[ボーナス]])","v":0},{"$f":"SUMIFS(家計簿[金額],家計簿[年],月比較[[#This Row],[年]],家計簿[月],月比較[[#This Row],[月]],家計簿[勘定科目],月比較[[#Headers],[家賃補助]])","v":0},{"$f":"SUMIFS(家計簿[金額],家計簿[年],月比較[[#This Row],[年]],家計簿[月],月比較[[#This Row],[月]],家計簿[勘定科目],月比較[[#Headers],[児童手当]])","v":0},{"$f":"SUMIFS(家計簿[金額],家計簿[年],月比較[[#This Row],[年]],家計簿[月],月比較[[#This Row],[月]],家計簿[勘定科目],月比較[[#Headers],[配当金]])","v":0},{"$f":"SUMIFS(家計簿[金額],家計簿[年],月比較[[#This Row],[年]],家計簿[月],月比較[[#This Row],[月]],家計簿[勘定科目],月比較[[#Headers],[特別収入]])","v":0},{"$f":"SUMIFS(家計簿[金額],家計簿[年],月比較[[#This Row],[年]],家計簿[月],月比較[[#This Row],[月]],家計簿[勘定科目],月比較[[#Headers],[家賃]])","v":0},{"$f":"SUMIFS(家計簿[金額],家計簿[年],月比較[[#This Row],[年]],家計簿[月],月比較[[#This Row],[月]],家計簿[勘定科目],月比較[[#Headers],[電気代]])","v":0},{"$f":"SUMIFS(家計簿[金額],家計簿[年],月比較[[#This Row],[年]],家計簿[月],月比較[[#This Row],[月]],家計簿[勘定科目],月比較[[#Headers],[ガス代]])","v":0},{"$f":"SUMIFS(家計簿[金額],家計簿[年],月比較[[#This Row],[年]],家計簿[月],月比較[[#This Row],[月]],家計簿[勘定科目],月比較[[#Headers],[水道代]])","v":0},{"$f":"SUMIFS(家計簿[金額],家計簿[年],月比較[[#This Row],[年]],家計簿[月],月比較[[#This Row],[月]],家計簿[勘定科目],月比較[[#Headers],[通信費]])","v":0},{"$f":"SUMIFS(家計簿[金額],家計簿[年],月比較[[#This Row],[年]],家計簿[月],月比較[[#This Row],[月]],家計簿[勘定科目],月比較[[#Headers],[保険代]])","v":0},{"$f":"SUMIFS(家計簿[金額],家計簿[年],月比較[[#This Row],[年]],家計簿[月],月比較[[#This Row],[月]],家計簿[勘定科目],月比較[[#Headers],[サブスク]])","v":0},{"$f":"SUMIFS(家計簿[金額],家計簿[年],月比較[[#This Row],[年]],家計簿[月],月比較[[#This Row],[月]],家計簿[勘定科目],月比較[[#Headers],[税金（固定資産、自動車）]])","v":0},{"$f":"SUMIFS(家計簿[金額],家計簿[年],月比較[[#This Row],[年]],家計簿[月],月比較[[#This Row],[月]],家計簿[勘定科目],月比較[[#Headers],[食費]])","v":0},{"$f":"SUMIFS(家計簿[金額],家計簿[年],月比較[[#This Row],[年]],家計簿[月],月比較[[#This Row],[月]],家計簿[勘定科目],月比較[[#Headers],[日用品]])","v":0},{"$f":"SUMIFS(家計簿[金額],家計簿[年],月比較[[#This Row],[年]],家計簿[月],月比較[[#This Row],[月]],家計簿[勘定科目],月比較[[#Headers],[衣服]])","v":0},{"$f":"SUMIFS(家計簿[金額],家計簿[年],月比較[[#This Row],[年]],家計簿[月],月比較[[#This Row],[月]],家計簿[勘定科目],月比較[[#Headers],[教育費]])","v":0},{"$f":"SUMIFS(家計簿[金額],家計簿[年],月比較[[#This Row],[年]],家計簿[月],月比較[[#This Row],[月]],家計簿[勘定科目],月比較[[#Headers],[外食費]])","v":0},{"$f":"SUMIFS(家計簿[金額],家計簿[年],月比較[[#This Row],[年]],家計簿[月],月比較[[#This Row],[月]],家計簿[勘定科目],月比較[[#Headers],[移動費]])","v":0},{"$f":"SUMIFS(家計簿[金額],家計簿[年],月比較[[#This Row],[年]],家計簿[月],月比較[[#This Row],[月]],家計簿[勘定科目],月比較[[#Headers],[旅費]])","v":0},{"$f":"SUMIFS(家計簿[金額],家計簿[年],月比較[[#This Row],[年]],家計簿[月],月比較[[#This Row],[月]],家計簿[勘定科目],月比較[[#Headers],[娯楽費]])","v":0},{"$f":"SUMIFS(家計簿[金額],家計簿[年],月比較[[#This Row],[年]],家計簿[月],月比較[[#This Row],[月]],家計簿[勘定科目],月比較[[#Headers],[医療費]])","v":0},{"$f":"SUMIFS(家計簿[金額],家計簿[年],月比較[[#This Row],[年]],家計簿[月],月比較[[#This Row],[月]],家計簿[勘定科目],月比較[[#Headers],[特別出費]])","v":0}]
[null,null,{"$f":"IF(月比較[[#This Row],[月]]=1,C73+1,C73)","v":2028},9,{"$f":"DATE(月比較[[#This Row],[年]],月比較[[#This Row],[月]],1)","v":"2028-09-01"},{"$f":"SUMIFS(家計簿[金額],家計簿[年],月比較[[#This Row],[年]],家計簿[月],月比較[[#This Row],[月]],家計簿[収入/支出],月比較[[#Headers],[収入]])","v":0},{"$f":"SUMIFS(家計簿[金額],家計簿[年],月比較[[#This Row],[年]],家計簿[月],月比較[[#This Row],[月]],家計簿[収入/支出],月比較[[#Headers],[支出]])","v":0},{"$f":"SUMIFS(家計簿[金額],家計簿[年],月比較[[#This Row],[年]],家計簿[月],月比較[[#This Row],[月]],家計簿[固定費/変動費],月比較[[#Headers],[固定費]])","v":0},{"$f":"SUMIFS(家計簿[金額],家計簿[年],月比較[[#This Row],[年]],家計簿[月],月比較[[#This Row],[月]],家計簿[固定費/変動費],月比較[[#Headers],[変動費]])","v":0},{"$f":"SUMIFS(家計簿[金額],家計簿[年],月比較[[#This Row],[年]],家計簿[月],月比較[[#This Row],[月]],家計簿[勘定科目],月比較[[#Headers],[給料]])","v":0},{"$f":"SUMIFS(家計簿[金額],家計簿[年],月比較[[#This Row],[年]],家計簿[月],月比較[[#This Row],[月]],家計簿[勘定科目],月比較[[#Headers],[ボーナス]])","v":0},{"$f":"SUMIFS(家計簿[金額],家計簿[年],月比較[[#This Row],[年]],家計簿[月],月比較[[#This Row],[月]],家計簿[勘定科目],月比較[[#Headers],[家賃補助]])","v":0},{"$f":"SUMIFS(家計簿[金額],家計簿[年],月比較[[#This Row],[年]],家計簿[月],月比較[[#This Row],[月]],家計簿[勘定科目],月比較[[#Headers],[児童手当]])","v":0},{"$f":"SUMIFS(家計簿[金額],家計簿[年],月比較[[#This Row],[年]],家計簿[月],月比較[[#This Row],[月]],家計簿[勘定科目],月比較[[#Headers],[配当金]])","v":0},{"$f":"SUMIFS(家計簿[金額],家計簿[年],月比較[[#This Row],[年]],家計簿[月],月比較[[#This Row],[月]],家計簿[勘定科目],月比較[[#Headers],[特別収入]])","v":0},{"$f":"SUMIFS(家計簿[金額],家計簿[年],月比較[[#This Row],[年]],家計簿[月],月比較[[#This Row],[月]],家計簿[勘定科目],月比較[[#Headers],[家賃]])","v":0},{"$f":"SUMIFS(家計簿[金額],家計簿[年],月比較[[#This Row],[年]],家計簿[月],月比較[[#This Row],[月]],家計簿[勘定科目],月比較[[#Headers],[電気代]])","v":0},{"$f":"SUMIFS(家計簿[金額],家計簿[年],月比較[[#This Row],[年]],家計簿[月],月比較[[#This Row],[月]],家計簿[勘定科目],月比較[[#Headers],[ガス代]])","v":0},{"$f":"SUMIFS(家計簿[金額],家計簿[年],月比較[[#This Row],[年]],家計簿[月],月比較[[#This Row],[月]],家計簿[勘定科目],月比較[[#Headers],[水道代]])","v":0},{"$f":"SUMIFS(家計簿[金額],家計簿[年],月比較[[#This Row],[年]],家計簿[月],月比較[[#This Row],[月]],家計簿[勘定科目],月比較[[#Headers],[通信費]])","v":0},{"$f":"SUMIFS(家計簿[金額],家計簿[年],月比較[[#This Row],[年]],家計簿[月],月比較[[#This Row],[月]],家計簿[勘定科目],月比較[[#Headers],[保険代]])","v":0},{"$f":"SUMIFS(家計簿[金額],家計簿[年],月比較[[#This Row],[年]],家計簿[月],月比較[[#This Row],[月]],家計簿[勘定科目],月比較[[#Headers],[サブスク]])","v":0},{"$f":"SUMIFS(家計簿[金額],家計簿[年],月比較[[#This Row],[年]],家計簿[月],月比較[[#This Row],[月]],家計簿[勘定科目],月比較[[#Headers],[税金（固定資産、自動車）]])","v":0},{"$f":"SUMIFS(家計簿[金額],家計簿[年],月比較[[#This Row],[年]],家計簿[月],月比較[[#This Row],[月]],家計簿[勘定科目],月比較[[#Headers],[食費]])","v":0},{"$f":"SUMIFS(家計簿[金額],家計簿[年],月比較[[#This Row],[年]],家計簿[月],月比較[[#This Row],[月]],家計簿[勘定科目],月比較[[#Headers],[日用品]])","v":0},{"$f":"SUMIFS(家計簿[金額],家計簿[年],月比較[[#This Row],[年]],家計簿[月],月比較[[#This Row],[月]],家計簿[勘定科目],月比較[[#Headers],[衣服]])","v":0},{"$f":"SUMIFS(家計簿[金額],家計簿[年],月比較[[#This Row],[年]],家計簿[月],月比較[[#This Row],[月]],家計簿[勘定科目],月比較[[#Headers],[教育費]])","v":0},{"$f":"SUMIFS(家計簿[金額],家計簿[年],月比較[[#This Row],[年]],家計簿[月],月比較[[#This Row],[月]],家計簿[勘定科目],月比較[[#Headers],[外食費]])","v":0},{"$f":"SUMIFS(家計簿[金額],家計簿[年],月比較[[#This Row],[年]],家計簿[月],月比較[[#This Row],[月]],家計簿[勘定科目],月比較[[#Headers],[移動費]])","v":0},{"$f":"SUMIFS(家計簿[金額],家計簿[年],月比較[[#This Row],[年]],家計簿[月],月比較[[#This Row],[月]],家計簿[勘定科目],月比較[[#Headers],[旅費]])","v":0},{"$f":"SUMIFS(家計簿[金額],家計簿[年],月比較[[#This Row],[年]],家計簿[月],月比較[[#This Row],[月]],家計簿[勘定科目],月比較[[#Headers],[娯楽費]])","v":0},{"$f":"SUMIFS(家計簿[金額],家計簿[年],月比較[[#This Row],[年]],家計簿[月],月比較[[#This Row],[月]],家計簿[勘定科目],月比較[[#Headers],[医療費]])","v":0},{"$f":"SUMIFS(家計簿[金額],家計簿[年],月比較[[#This Row],[年]],家計簿[月],月比較[[#This Row],[月]],家計簿[勘定科目],月比較[[#Headers],[特別出費]])","v":0}]
[null,null,{"$f":"IF(月比較[[#This Row],[月]]=1,C74+1,C74)","v":2028},10,{"$f":"DATE(月比較[[#This Row],[年]],月比較[[#This Row],[月]],1)","v":"2028-10-01"},{"$f":"SUMIFS(家計簿[金額],家計簿[年],月比較[[#This Row],[年]],家計簿[月],月比較[[#This Row],[月]],家計簿[収入/支出],月比較[[#Headers],[収入]])","v":0},{"$f":"SUMIFS(家計簿[金額],家計簿[年],月比較[[#This Row],[年]],家計簿[月],月比較[[#This Row],[月]],家計簿[収入/支出],月比較[[#Headers],[支出]])","v":0},{"$f":"SUMIFS(家計簿[金額],家計簿[年],月比較[[#This Row],[年]],家計簿[月],月比較[[#This Row],[月]],家計簿[固定費/変動費],月比較[[#Headers],[固定費]])","v":0},{"$f":"SUMIFS(家計簿[金額],家計簿[年],月比較[[#This Row],[年]],家計簿[月],月比較[[#This Row],[月]],家計簿[固定費/変動費],月比較[[#Headers],[変動費]])","v":0},{"$f":"SUMIFS(家計簿[金額],家計簿[年],月比較[[#This Row],[年]],家計簿[月],月比較[[#This Row],[月]],家計簿[勘定科目],月比較[[#Headers],[給料]])","v":0},{"$f":"SUMIFS(家計簿[金額],家計簿[年],月比較[[#This Row],[年]],家計簿[月],月比較[[#This Row],[月]],家計簿[勘定科目],月比較[[#Headers],[ボーナス]])","v":0},{"$f":"SUMIFS(家計簿[金額],家計簿[年],月比較[[#This Row],[年]],家計簿[月],月比較[[#This Row],[月]],家計簿[勘定科目],月比較[[#Headers],[家賃補助]])","v":0},{"$f":"SUMIFS(家計簿[金額],家計簿[年],月比較[[#This Row],[年]],家計簿[月],月比較[[#This Row],[月]],家計簿[勘定科目],月比較[[#Headers],[児童手当]])","v":0},{"$f":"SUMIFS(家計簿[金額],家計簿[年],月比較[[#This Row],[年]],家計簿[月],月比較[[#This Row],[月]],家計簿[勘定科目],月比較[[#Headers],[配当金]])","v":0},{"$f":"SUMIFS(家計簿[金額],家計簿[年],月比較[[#This Row],[年]],家計簿[月],月比較[[#This Row],[月]],家計簿[勘定科目],月比較[[#Headers],[特別収入]])","v":0},{"$f":"SUMIFS(家計簿[金額],家計簿[年],月比較[[#This Row],[年]],家計簿[月],月比較[[#This Row],[月]],家計簿[勘定科目],月比較[[#Headers],[家賃]])","v":0},{"$f":"SUMIFS(家計簿[金額],家計簿[年],月比較[[#This Row],[年]],家計簿[月],月比較[[#This Row],[月]],家計簿[勘定科目],月比較[[#Headers],[電気代]])","v":0},{"$f":"SUMIFS(家計簿[金額],家計簿[年],月比較[[#This Row],[年]],家計簿[月],月比較[[#This Row],[月]],家計簿[勘定科目],月比較[[#Headers],[ガス代]])","v":0},{"$f":"SUMIFS(家計簿[金額],家計簿[年],月比較[[#This Row],[年]],家計簿[月],月比較[[#This Row],[月]],家計簿[勘定科目],月比較[[#Headers],[水道代]])","v":0},{"$f":"SUMIFS(家計簿[金額],家計簿[年],月比較[[#This Row],[年]],家計簿[月],月比較[[#This Row],[月]],家計簿[勘定科目],月比較[[#Headers],[通信費]])","v":0},{"$f":"SUMIFS(家計簿[金額],家計簿[年],月比較[[#This Row],[年]],家計簿[月],月比較[[#This Row],[月]],家計簿[勘定科目],月比較[[#Headers],[保険代]])","v":0},{"$f":"SUMIFS(家計簿[金額],家計簿[年],月比較[[#This Row],[年]],家計簿[月],月比較[[#This Row],[月]],家計簿[勘定科目],月比較[[#Headers],[サブスク]])","v":0},{"$f":"SUMIFS(家計簿[金額],家計簿[年],月比較[[#This Row],[年]],家計簿[月],月比較[[#This Row],[月]],家計簿[勘定科目],月比較[[#Headers],[税金（固定資産、自動車）]])","v":0},{"$f":"SUMIFS(家計簿[金額],家計簿[年],月比較[[#This Row],[年]],家計簿[月],月比較[[#This Row],[月]],家計簿[勘定科目],月比較[[#Headers],[食費]])","v":0},{"$f":"SUMIFS(家計簿[金額],家計簿[年],月比較[[#This Row],[年]],家計簿[月],月比較[[#This Row],[月]],家計簿[勘定科目],月比較[[#Headers],[日用品]])","v":0},{"$f":"SUMIFS(家計簿[金額],家計簿[年],月比較[[#This Row],[年]],家計簿[月],月比較[[#This Row],[月]],家計簿[勘定科目],月比較[[#Headers],[衣服]])","v":0},{"$f":"SUMIFS(家計簿[金額],家計簿[年],月比較[[#This Row],[年]],家計簿[月],月比較[[#This Row],[月]],家計簿[勘定科目],月比較[[#Headers],[教育費]])","v":0},{"$f":"SUMIFS(家計簿[金額],家計簿[年],月比較[[#This Row],[年]],家計簿[月],月比較[[#This Row],[月]],家計簿[勘定科目],月比較[[#Headers],[外食費]])","v":0},{"$f":"SUMIFS(家計簿[金額],家計簿[年],月比較[[#This Row],[年]],家計簿[月],月比較[[#This Row],[月]],家計簿[勘定科目],月比較[[#Headers],[移動費]])","v":0},{"$f":"SUMIFS(家計簿[金額],家計簿[年],月比較[[#This Row],[年]],家計簿[月],月比較[[#This Row],[月]],家計簿[勘定科目],月比較[[#Headers],[旅費]])","v":0},{"$f":"SUMIFS(家計簿[金額],家計簿[年],月比較[[#This Row],[年]],家計簿[月],月比較[[#This Row],[月]],家計簿[勘定科目],月比較[[#Headers],[娯楽費]])","v":0},{"$f":"SUMIFS(家計簿[金額],家計簿[年],月比較[[#This Row],[年]],家計簿[月],月比較[[#This Row],[月]],家計簿[勘定科目],月比較[[#Headers],[医療費]])","v":0},{"$f":"SUMIFS(家計簿[金額],家計簿[年],月比較[[#This Row],[年]],家計簿[月],月比較[[#This Row],[月]],家計簿[勘定科目],月比較[[#Headers],[特別出費]])","v":0}]
[null,null,{"$f":"IF(月比較[[#This Row],[月]]=1,C75+1,C75)","v":2028},11,{"$f":"DATE(月比較[[#This Row],[年]],月比較[[#This Row],[月]],1)","v":"2028-11-01"},{"$f":"SUMIFS(家計簿[金額],家計簿[年],月比較[[#This Row],[年]],家計簿[月],月比較[[#This Row],[月]],家計簿[収入/支出],月比較[[#Headers],[収入]])","v":0},{"$f":"SUMIFS(家計簿[金額],家計簿[年],月比較[[#This Row],[年]],家計簿[月],月比較[[#This Row],[月]],家計簿[収入/支出],月比較[[#Headers],[支出]])","v":0},{"$f":"SUMIFS(家計簿[金額],家計簿[年],月比較[[#This Row],[年]],家計簿[月],月比較[[#This Row],[月]],家計簿[固定費/変動費],月比較[[#Headers],[固定費]])","v":0},{"$f":"SUMIFS(家計簿[金額],家計簿[年],月比較[[#This Row],[年]],家計簿[月],月比較[[#This Row],[月]],家計簿[固定費/変動費],月比較[[#Headers],[変動費]])","v":0},{"$f":"SUMIFS(家計簿[金額],家計簿[年],月比較[[#This Row],[年]],家計簿[月],月比較[[#This Row],[月]],家計簿[勘定科目],月比較[[#Headers],[給料]])","v":0},{"$f":"SUMIFS(家計簿[金額],家計簿[年],月比較[[#This Row],[年]],家計簿[月],月比較[[#This Row],[月]],家計簿[勘定科目],月比較[[#Headers],[ボーナス]])","v":0},{"$f":"SUMIFS(家計簿[金額],家計簿[年],月比較[[#This Row],[年]],家計簿[月],月比較[[#This Row],[月]],家計簿[勘定科目],月比較[[#Headers],[家賃補助]])","v":0},{"$f":"SUMIFS(家計簿[金額],家計簿[年],月比較[[#This Row],[年]],家計簿[月],月比較[[#This Row],[月]],家計簿[勘定科目],月比較[[#Headers],[児童手当]])","v":0},{"$f":"SUMIFS(家計簿[金額],家計簿[年],月比較[[#This Row],[年]],家計簿[月],月比較[[#This Row],[月]],家計簿[勘定科目],月比較[[#Headers],[配当金]])","v":0},{"$f":"SUMIFS(家計簿[金額],家計簿[年],月比較[[#This Row],[年]],家計簿[月],月比較[[#This Row],[月]],家計簿[勘定科目],月比較[[#Headers],[特別収入]])","v":0},{"$f":"SUMIFS(家計簿[金額],家計簿[年],月比較[[#This Row],[年]],家計簿[月],月比較[[#This Row],[月]],家計簿[勘定科目],月比較[[#Headers],[家賃]])","v":0},{"$f":"SUMIFS(家計簿[金額],家計簿[年],月比較[[#This Row],[年]],家計簿[月],月比較[[#This Row],[月]],家計簿[勘定科目],月比較[[#Headers],[電気代]])","v":0},{"$f":"SUMIFS(家計簿[金額],家計簿[年],月比較[[#This Row],[年]],家計簿[月],月比較[[#This Row],[月]],家計簿[勘定科目],月比較[[#Headers],[ガス代]])","v":0},{"$f":"SUMIFS(家計簿[金額],家計簿[年],月比較[[#This Row],[年]],家計簿[月],月比較[[#This Row],[月]],家計簿[勘定科目],月比較[[#Headers],[水道代]])","v":0},{"$f":"SUMIFS(家計簿[金額],家計簿[年],月比較[[#This Row],[年]],家計簿[月],月比較[[#This Row],[月]],家計簿[勘定科目],月比較[[#Headers],[通信費]])","v":0},{"$f":"SUMIFS(家計簿[金額],家計簿[年],月比較[[#This Row],[年]],家計簿[月],月比較[[#This Row],[月]],家計簿[勘定科目],月比較[[#Headers],[保険代]])","v":0},{"$f":"SUMIFS(家計簿[金額],家計簿[年],月比較[[#This Row],[年]],家計簿[月],月比較[[#This Row],[月]],家計簿[勘定科目],月比較[[#Headers],[サブスク]])","v":0},{"$f":"SUMIFS(家計簿[金額],家計簿[年],月比較[[#This Row],[年]],家計簿[月],月比較[[#This Row],[月]],家計簿[勘定科目],月比較[[#Headers],[税金（固定資産、自動車）]])","v":0},{"$f":"SUMIFS(家計簿[金額],家計簿[年],月比較[[#This Row],[年]],家計簿[月],月比較[[#This Row],[月]],家計簿[勘定科目],月比較[[#Headers],[食費]])","v":0},{"$f":"SUMIFS(家計簿[金額],家計簿[年],月比較[[#This Row],[年]],家計簿[月],月比較[[#This Row],[月]],家計簿[勘定科目],月比較[[#Headers],[日用品]])","v":0},{"$f":"SUMIFS(家計簿[金額],家計簿[年],月比較[[#This Row],[年]],家計簿[月],月比較[[#This Row],[月]],家計簿[勘定科目],月比較[[#Headers],[衣服]])","v":0},{"$f":"SUMIFS(家計簿[金額],家計簿[年],月比較[[#This Row],[年]],家計簿[月],月比較[[#This Row],[月]],家計簿[勘定科目],月比較[[#Headers],[教育費]])","v":0},{"$f":"SUMIFS(家計簿[金額],家計簿[年],月比較[[#This Row],[年]],家計簿[月],月比較[[#This Row],[月]],家計簿[勘定科目],月比較[[#Headers],[外食費]])","v":0},{"$f":"SUMIFS(家計簿[金額],家計簿[年],月比較[[#This Row],[年]],家計簿[月],月比較[[#This Row],[月]],家計簿[勘定科目],月比較[[#Headers],[移動費]])","v":0},{"$f":"SUMIFS(家計簿[金額],家計簿[年],月比較[[#This Row],[年]],家計簿[月],月比較[[#This Row],[月]],家計簿[勘定科目],月比較[[#Headers],[旅費]])","v":0},{"$f":"SUMIFS(家計簿[金額],家計簿[年],月比較[[#This Row],[年]],家計簿[月],月比較[[#This Row],[月]],家計簿[勘定科目],月比較[[#Headers],[娯楽費]])","v":0},{"$f":"SUMIFS(家計簿[金額],家計簿[年],月比較[[#This Row],[年]],家計簿[月],月比較[[#This Row],[月]],家計簿[勘定科目],月比較[[#Headers],[医療費]])","v":0},{"$f":"SUMIFS(家計簿[金額],家計簿[年],月比較[[#This Row],[年]],家計簿[月],月比較[[#This Row],[月]],家計簿[勘定科目],月比較[[#Headers],[特別出費]])","v":0}]
[null,null,{"$f":"IF(月比較[[#This Row],[月]]=1,C76+1,C76)","v":2028},12,{"$f":"DATE(月比較[[#This Row],[年]],月比較[[#This Row],[月]],1)","v":"2028-12-01"},{"$f":"SUMIFS(家計簿[金額],家計簿[年],月比較[[#This Row],[年]],家計簿[月],月比較[[#This Row],[月]],家計簿[収入/支出],月比較[[#Headers],[収入]])","v":0},{"$f":"SUMIFS(家計簿[金額],家計簿[年],月比較[[#This Row],[年]],家計簿[月],月比較[[#This Row],[月]],家計簿[収入/支出],月比較[[#Headers],[支出]])","v":0},{"$f":"SUMIFS(家計簿[金額],家計簿[年],月比較[[#This Row],[年]],家計簿[月],月比較[[#This Row],[月]],家計簿[固定費/変動費],月比較[[#Headers],[固定費]])","v":0},{"$f":"SUMIFS(家計簿[金額],家計簿[年],月比較[[#This Row],[年]],家計簿[月],月比較[[#This Row],[月]],家計簿[固定費/変動費],月比較[[#Headers],[変動費]])","v":0},{"$f":"SUMIFS(家計簿[金額],家計簿[年],月比較[[#This Row],[年]],家計簿[月],月比較[[#This Row],[月]],家計簿[勘定科目],月比較[[#Headers],[給料]])","v":0},{"$f":"SUMIFS(家計簿[金額],家計簿[年],月比較[[#This Row],[年]],家計簿[月],月比較[[#This Row],[月]],家計簿[勘定科目],月比較[[#Headers],[ボーナス]])","v":0},{"$f":"SUMIFS(家計簿[金額],家計簿[年],月比較[[#This Row],[年]],家計簿[月],月比較[[#This Row],[月]],家計簿[勘定科目],月比較[[#Headers],[家賃補助]])","v":0},{"$f":"SUMIFS(家計簿[金額],家計簿[年],月比較[[#This Row],[年]],家計簿[月],月比較[[#This Row],[月]],家計簿[勘定科目],月比較[[#Headers],[児童手当]])","v":0},{"$f":"SUMIFS(家計簿[金額],家計簿[年],月比較[[#This Row],[年]],家計簿[月],月比較[[#This Row],[月]],家計簿[勘定科目],月比較[[#Headers],[配当金]])","v":0},{"$f":"SUMIFS(家計簿[金額],家計簿[年],月比較[[#This Row],[年]],家計簿[月],月比較[[#This Row],[月]],家計簿[勘定科目],月比較[[#Headers],[特別収入]])","v":0},{"$f":"SUMIFS(家計簿[金額],家計簿[年],月比較[[#This Row],[年]],家計簿[月],月比較[[#This Row],[月]],家計簿[勘定科目],月比較[[#Headers],[家賃]])","v":0},{"$f":"SUMIFS(家計簿[金額],家計簿[年],月比較[[#This Row],[年]],家計簿[月],月比較[[#This Row],[月]],家計簿[勘定科目],月比較[[#Headers],[電気代]])","v":0},{"$f":"SUMIFS(家計簿[金額],家計簿[年],月比較[[#This Row],[年]],家計簿[月],月比較[[#This Row],[月]],家計簿[勘定科目],月比較[[#Headers],[ガス代]])","v":0},{"$f":"SUMIFS(家計簿[金額],家計簿[年],月比較[[#This Row],[年]],家計簿[月],月比較[[#This Row],[月]],家計簿[勘定科目],月比較[[#Headers],[水道代]])","v":0},{"$f":"SUMIFS(家計簿[金額],家計簿[年],月比較[[#This Row],[年]],家計簿[月],月比較[[#This Row],[月]],家計簿[勘定科目],月比較[[#Headers],[通信費]])","v":0},{"$f":"SUMIFS(家計簿[金額],家計簿[年],月比較[[#This Row],[年]],家計簿[月],月比較[[#This Row],[月]],家計簿[勘定科目],月比較[[#Headers],[保険代]])","v":0},{"$f":"SUMIFS(家計簿[金額],家計簿[年],月比較[[#This Row],[年]],家計簿[月],月比較[[#This Row],[月]],家計簿[勘定科目],月比較[[#Headers],[サブスク]])","v":0},{"$f":"SUMIFS(家計簿[金額],家計簿[年],月比較[[#This Row],[年]],家計簿[月],月比較[[#This Row],[月]],家計簿[勘定科目],月比較[[#Headers],[税金（固定資産、自動車）]])","v":0},{"$f":"SUMIFS(家計簿[金額],家計簿[年],月比較[[#This Row],[年]],家計簿[月],月比較[[#This Row],[月]],家計簿[勘定科目],月比較[[#Headers],[食費]])","v":0},{"$f":"SUMIFS(家計簿[金額],家計簿[年],月比較[[#This Row],[年]],家計簿[月],月比較[[#This Row],[月]],家計簿[勘定科目],月比較[[#Headers],[日用品]])","v":0},{"$f":"SUMIFS(家計簿[金額],家計簿[年],月比較[[#This Row],[年]],家計簿[月],月比較[[#This Row],[月]],家計簿[勘定科目],月比較[[#Headers],[衣服]])","v":0},{"$f":"SUMIFS(家計簿[金額],家計簿[年],月比較[[#This Row],[年]],家計簿[月],月比較[[#This Row],[月]],家計簿[勘定科目],月比較[[#Headers],[教育費]])","v":0},{"$f":"SUMIFS(家計簿[金額],家計簿[年],月比較[[#This Row],[年]],家計簿[月],月比較[[#This Row],[月]],家計簿[勘定科目],月比較[[#Headers],[外食費]])","v":0},{"$f":"SUMIFS(家計簿[金額],家計簿[年],月比較[[#This Row],[年]],家計簿[月],月比較[[#This Row],[月]],家計簿[勘定科目],月比較[[#Headers],[移動費]])","v":0},{"$f":"SUMIFS(家計簿[金額],家計簿[年],月比較[[#This Row],[年]],家計簿[月],月比較[[#This Row],[月]],家計簿[勘定科目],月比較[[#Headers],[旅費]])","v":0},{"$f":"SUMIFS(家計簿[金額],家計簿[年],月比較[[#This Row],[年]],家計簿[月],月比較[[#This Row],[月]],家計簿[勘定科目],月比較[[#Headers],[娯楽費]])","v":0},{"$f":"SUMIFS(家計簿[金額],家計簿[年],月比較[[#This Row],[年]],家計簿[月],月比較[[#This Row],[月]],家計簿[勘定科目],月比較[[#Headers],[医療費]])","v":0},{"$f":"SUMIFS(家計簿[金額],家計簿[年],月比較[[#This Row],[年]],家計簿[月],月比較[[#This Row],[月]],家計簿[勘定科目],月比較[[#Headers],[特別出費]])","v":0}]

{"sheet":"年別グラフ","index":4,"n_rows":23,"n_cols":31,"rows_kept":23,"cut":false,"hidden":false,"merged":[]}
[]
[null,null,null,null,null,null,null,"勘定科目"]
[null,null,null,null,null,null,null,"収入","収入","収入","収入","収入","収入","支出","支出","支出","支出","支出","支出","支出","支出","収入","収入","収入","収入","収入","収入","収入","収入","収入","収入"]
[null,null,null,null,null,"支出",null,null,null,null,null,null,null,"固定費","固定費","固定費","固定費","固定費","固定費","固定費","固定費","変動費","変動費","変動費","変動費","変動費","変動費","変動費","変動費","変動費","変動費"]
[null,null,"年","収入","支出","固定費","変動費","給料","ボーナス","家賃補助","児童手当","配当金","特別収入","家賃","電気代","ガス代","水道代","通信費","保険代","サブスク","税金（固定資産、自動車）","食費","日用品","衣服","教育費","外食費","移動費","旅費","娯楽費","医療費","特別出費"]
[null,null,2023,{"$f":"SUMIFS(家計簿[金額],家計簿[年],年別詳細[[#This Row],[年]],家計簿[収入/支出],年別詳細[[#Headers],[収入]])","v":16300},{"$f":"SUMIFS(家計簿[金額],家計簿[年],年別詳細[[#This Row],[年]],家計簿[収入/支出],年別詳細[[#Headers],[支出]])","v":149100},{"$f":"SUMIFS(家計簿[金額],家計簿[年],年別詳細[[#This Row],[年]],家計簿[固定費/変動費],年別詳細[[#Headers],[固定費]])","v":101400},{"$f":"SUMIFS(家計簿[金額],家計簿[年],年別詳細[[#This Row],[年]],家計簿[固定費/変動費],年別詳細[[#Headers],[変動費]])","v":47700},{"$f":"SUMIFS(家計簿[金額],家計簿[年],年別詳細[[#This Row],[年]],家計簿[勘定科目],年別詳細[[#Headers],[給料]])","v":0},{"$f":"SUMIFS(家計簿[金額],家計簿[年],年別詳細[[#This Row],[年]],家計簿[勘定科目],年別詳細[[#Headers],[ボーナス]])","v":0},{"$f":"SUMIFS(家計簿[金額],家計簿[年],年別詳細[[#This Row],[年]],家計簿[勘定科目],年別詳細[[#Headers],[家賃補助]])","v":0},{"$f":"SUMIFS(家計簿[金額],家計簿[年],年別詳細[[#This Row],[年]],家計簿[勘定科目],年別詳細[[#Headers],[児童手当]])","v":15000},{"$f":"SUMIFS(家計簿[金額],家計簿[年],年別詳細[[#This Row],[年]],家計簿[勘定科目],年別詳細[[#Headers],[配当金]])","v":1300},{"$f":"SUMIFS(家計簿[金額],家計簿[年],年別詳細[[#This Row],[年]],家計簿[勘定科目],年別詳細[[#Headers],[特別収入]])","v":0},{"$f":"SUMIFS(家計簿[金額],家計簿[年],年別詳細[[#This Row],[年]],家計簿[勘定科目],年別詳細[[#Headers],[家賃]])","v":70000},{"$f":"SUMIFS(家計簿[金額],家計簿[年],年別詳細[[#This Row],[年]],家計簿[勘定科目],年別詳細[[#Headers],[電気代]])","v":0},{"$f":"SUMIFS(家計簿[金額],家計簿[年],年別詳細[[#This Row],[年]],家計簿[勘定科目],年別詳細[[#Headers],[ガス代]])","v":4000},{"$f":"SUMIFS(家計簿[金額],家計簿[年],年別詳細[[#This Row],[年]],家計簿[勘定科目],年別詳細[[#Headers],[水道代]])","v":5000},{"$f":"SUMIFS(家計簿[金額],家計簿[年],年別詳細[[#This Row],[年]],家計簿[勘定科目],年別詳細[[#Headers],[通信費]])","v":8000},{"$f":"SUMIFS(家計簿[金額],家計簿[年],年別詳細[[#This Row],[年]],家計簿[勘定科目],)","v":0},{"$f":"SUMIFS(家計簿[金額],家計簿[年],年別詳細[[#This Row],[年]],家計簿[勘定科目],)","v":0},{"$f":"SUMIFS(家計簿[金額],家計簿[年],年別詳細[[#This Row],[年]],家計簿[勘定科目],)","v":0},{"$f":"SUMIFS(家計簿[金額],家計簿[年],年別詳細[[#This Row],[年]],家計簿[勘定科目],年別詳細[[#Headers],[食費]])","v":6200},{"$f":"SUMIFS(家計簿[金額],家計簿[年],年別詳細[[#This Row],[年]],家計簿[勘定科目],年別詳細[[#Headers],[日用品]])","v":3500},{"$f":"SUMIFS(家計簿[金額],家計簿[年],年別詳細[[#This Row],[年]],家計簿[勘定科目],年別詳細[[#Headers],[衣服]])","v":0},{"$f":"SUMIFS(家計簿[金額],家計簿[年],年別詳細[[#This Row],[年]],家計簿[勘定科目],年別詳細[[#Headers],[教育費]])","v":0},{"$f":"SUMIFS(家計簿[金額],家計簿[年],年別詳細[[#This Row],[年]],家計簿[勘定科目],年別詳細[[#Headers],[外食費]])","v":0},{"$f":"SUMIFS(家計簿[金額],家計簿[年],年別詳細[[#This Row],[年]],家計簿[勘定科目],年別詳細[[#Headers],[移動費]])","v":0},{"$f":"SUMIFS(家計簿[金額],家計簿[年],年別詳細[[#This Row],[年]],家計簿[勘定科目],年別詳細[[#Headers],[旅費]])","v":0},{"$f":"SUMIFS(家計簿[金額],家計簿[年],年別詳細[[#This Row],[年]],家計簿[勘定科目],年別詳細[[#Headers],[娯楽費]])","v":0},{"$f":"SUMIFS(家計簿[金額],家計簿[年],年別詳細[[#This Row],[年]],家計簿[勘定科目],年別詳細[[#Headers],[医療費]])","v":0},{"$f":"SUMIFS(家計簿[金額],家計簿[年],年別詳細[[#This Row],[年]],家計簿[勘定科目],年別詳細[[#Headers],[特別出費]])","v":38000}]
[null,null,{"$f":"C6+1","v":2024},{"$f":"SUMIFS(家計簿[金額],家計簿[年],年別詳細[[#This Row],[年]],家計簿[収入/支出],年別詳細[[#Headers],[収入]])","v":5000},{"$f":"SUMIFS(家計簿[金額],家計簿[年],年別詳細[[#This Row],[年]],家計簿[収入/支出],年別詳細[[#Headers],[支出]])","v":15000},{"$f":"SUMIFS(家計簿[金額],家計簿[年],年別詳細[[#This Row],[年]],家計簿[固定費/変動費],年別詳細[[#Headers],[固定費]])","v":5000},{"$f":"SUMIFS(家計簿[金額],家計簿[年],年別詳細[[#This Row],[年]],家計簿[固定費/変動費],年別詳細[[#Headers],[変動費]])","v":10000},{"$f":"SUMIFS(家計簿[金額],家計簿[年],年別詳細[[#This Row],[年]],家計簿[勘定科目],年別詳細[[#Headers],[給料]])","v":0},{"$f":"SUMIFS(家計簿[金額],家計簿[年],年別詳細[[#This Row],[年]],家計簿[勘定科目],年別詳細[[#Headers],[ボーナス]])","v":0},{"$f":"SUMIFS(家計簿[金額],家計簿[年],年別詳細[[#This Row],[年]],家計簿[勘定科目],年別詳細[[#Headers],[家賃補助]])","v":0},{"$f":"SUMIFS(家計簿[金額],家計簿[年],年別詳細[[#This Row],[年]],家計簿[勘定科目],年別詳細[[#Headers],[児童手当]])","v":5000},{"$f":"SUMIFS(家計簿[金額],家計簿[年],年別詳細[[#This Row],[年]],家計簿[勘定科目],年別詳細[[#Headers],[配当金]])","v":0},{"$f":"SUMIFS(家計簿[金額],家計簿[年],年別詳細[[#This Row],[年]],家計簿[勘定科目],年別詳細[[#Headers],[特別収入]])","v":0},{"$f":"SUMIFS(家計簿[金額],家計簿[年],年別詳細[[#This Row],[年]],家計簿[勘定科目],年別詳細[[#Headers],[家賃]])","v":0},{"$f":"SUMIFS(家計簿[金額],家計簿[年],年別詳細[[#This Row],[年]],家計簿[勘定科目],年別詳細[[#Headers],[電気代]])","v":0},{"$f":"SUMIFS(家計簿[金額],家計簿[年],年別詳細[[#This Row],[年]],家計簿[勘定科目],年別詳細[[#Headers],[ガス代]])","v":0},{"$f":"SUMIFS(家計簿[金額],家計簿[年],年別詳細[[#This Row],[年]],家計簿[勘定科目],年別詳細[[#Headers],[水道代]])","v":0},{"$f":"SUMIFS(家計簿[金額],家計簿[年],年別詳細[[#This Row],[年]],家計簿[勘定科目],年別詳細[[#Headers],[通信費]])","v":5000},{"$f":"SUMIFS(家計簿[金額],家計簿[年],年別詳細[[#This Row],[年]],家計簿[勘定科目],)","v":0},{"$f":"SUMIFS(家計簿[金額],家計簿[年],年別詳細[[#This Row],[年]],家計簿[勘定科目],)","v":0},{"$f":"SUMIFS(家計簿[金額],家計簿[年],年別詳細[[#This Row],[年]],家計簿[勘定科目],)","v":0},{"$f":"SUMIFS(家計簿[金額],家計簿[年],年別詳細[[#This Row],[年]],家計簿[勘定科目],年別詳細[[#Headers],[食費]])","v":0},{"$f":"SUMIFS(家計簿[金額],家計簿[年],年別詳細[[#This Row],[年]],家計簿[勘定科目],年別詳細[[#Headers],[日用品]])","v":0},{"$f":"SUMIFS(家計簿[金額],家計簿[年],年別詳細[[#This Row],[年]],家計簿[勘定科目],年別詳細[[#Headers],[衣服]])","v":0},{"$f":"SUMIFS(家計簿[金額],家計簿[年],年別詳細[[#This Row],[年]],家計簿[勘定科目],年別詳細[[#Headers],[教育費]])","v":0},{"$f":"SUMIFS(家計簿[金額],家計簿[年],年別詳細[[#This Row],[年]],家計簿[勘定科目],年別詳細[[#Headers],[外食費]])","v":0},{"$f":"SUMIFS(家計簿[金額],家計簿[年],年別詳細[[#This Row],[年]],家計簿[勘定科目],年別詳細[[#Headers],[移動費]])","v":10000},{"$f":"SUMIFS(家計簿[金額],家計簿[年],年別詳細[[#This Row],[年]],家計簿[勘定科目],年別詳細[[#Headers],[旅費]])","v":0},{"$f":"SUMIFS(家計簿[金額],家計簿[年],年別詳細[[#This Row],[年]],家計簿[勘定科目],年別詳細[[#Headers],[娯楽費]])","v":0},{"$f":"SUMIFS(家計簿[金額],家計簿[年],年別詳細[[#This Row],[年]],家計簿[勘定科目],年別詳細[[#Headers],[医療費]])","v":0},{"$f":"SUMIFS(家計簿[金額],家計簿[年],年別詳細[[#This Row],[年]],家計簿[勘定科目],年別詳細[[#Headers],[特別出費]])","v":0}]
[null,null,{"$f":"C7+1","v":2025},{"$f":"SUMIFS(家計簿[金額],家計簿[年],年別詳細[[#This Row],[年]],家計簿[収入/支出],年別詳細[[#Headers],[収入]])","v":0},{"$f":"SUMIFS(家計簿[金額],家計簿[年],年別詳細[[#This Row],[年]],家計簿[収入/支出],年別詳細[[#Headers],[支出]])","v":0},{"$f":"SUMIFS(家計簿[金額],家計簿[年],年別詳細[[#This Row],[年]],家計簿[固定費/変動費],年別詳細[[#Headers],[固定費]])","v":0},{"$f":"SUMIFS(家計簿[金額],家計簿[年],年別詳細[[#This Row],[年]],家計簿[固定費/変動費],年別詳細[[#Headers],[変動費]])","v":0},{"$f":"SUMIFS(家計簿[金額],家計簿[年],年別詳細[[#This Row],[年]],家計簿[勘定科目],年別詳細[[#Headers],[給料]])","v":0},{"$f":"SUMIFS(家計簿[金額],家計簿[年],年別詳細[[#This Row],[年]],家計簿[勘定科目],年別詳細[[#Headers],[ボーナス]])","v":0},{"$f":"SUMIFS(家計簿[金額],家計簿[年],年別詳細[[#This Row],[年]],家計簿[勘定科目],年別詳細[[#Headers],[家賃補助]])","v":0},{"$f":"SUMIFS(家計簿[金額],家計簿[年],年別詳細[[#This Row],[年]],家計簿[勘定科目],年別詳細[[#Headers],[児童手当]])","v":0},{"$f":"SUMIFS(家計簿[金額],家計簿[年],年別詳細[[#This Row],[年]],家計簿[勘定科目],年別詳細[[#Headers],[配当金]])","v":0},{"$f":"SUMIFS(家計簿[金額],家計簿[年],年別詳細[[#This Row],[年]],家計簿[勘定科目],年別詳細[[#Headers],[特別収入]])","v":0},{"$f":"SUMIFS(家計簿[金額],家計簿[年],年別詳細[[#This Row],[年]],家計簿[勘定科目],年別詳細[[#Headers],[家賃]])","v":0},{"$f":"SUMIFS(家計簿[金額],家計簿[年],年別詳細[[#This Row],[年]],家計簿[勘定科目],年別詳細[[#Headers],[電気代]])","v":0},{"$f":"SUMIFS(家計簿[金額],家計簿[年],年別詳細[[#This Row],[年]],家計簿[勘定科目],年別詳細[[#Headers],[ガス代]])","v":0},{"$f":"SUMIFS(家計簿[金額],家計簿[年],年別詳細[[#This Row],[年]],家計簿[勘定科目],年別詳細[[#Headers],[水道代]])","v":0},{"$f":"SUMIFS(家計簿[金額],家計簿[年],年別詳細[[#This Row],[年]],家計簿[勘定科目],年別詳細[[#Headers],[通信費]])","v":0},{"$f":"SUMIFS(家計簿[金額],家計簿[年],年別詳細[[#This Row],[年]],家計簿[勘定科目],)","v":0},{"$f":"SUMIFS(家計簿[金額],家計簿[年],年別詳細[[#This Row],[年]],家計簿[勘定科目],)","v":0},{"$f":"SUMIFS(家計簿[金額],家計簿[年],年別詳細[[#This Row],[年]],家計簿[勘定科目],)","v":0},{"$f":"SUMIFS(家計簿[金額],家計簿[年],年別詳細[[#This Row],[年]],家計簿[勘定科目],年別詳細[[#Headers],[食費]])","v":0},{"$f":"SUMIFS(家計簿[金額],家計簿[年],年別詳細[[#This Row],[年]],家計簿[勘定科目],年別詳細[[#Headers],[日用品]])","v":0},{"$f":"SUMIFS(家計簿[金額],家計簿[年],年別詳細[[#This Row],[年]],家計簿[勘定科目],年別詳細[[#Headers],[衣服]])","v":0},{"$f":"SUMIFS(家計簿[金額],家計簿[年],年別詳細[[#This Row],[年]],家計簿[勘定科目],年別詳細[[#Headers],[教育費]])","v":0},{"$f":"SUMIFS(家計簿[金額],家計簿[年],年別詳細[[#This Row],[年]],家計簿[勘定科目],年別詳細[[#Headers],[外食費]])","v":0},{"$f":"SUMIFS(家計簿[金額],家計簿[年],年別詳細[[#This Row],[年]],家計簿[勘定科目],年別詳細[[#Headers],[移動費]])","v":0},{"$f":"SUMIFS(家計簿[金額],家計簿[年],年別詳細[[#This Row],[年]],家計簿[勘定科目],年別詳細[[#Headers],[旅費]])","v":0},{"$f":"SUMIFS(家計簿[金額],家計簿[年],年別詳細[[#This Row],[年]],家計簿[勘定科目],年別詳細[[#Headers],[娯楽費]])","v":0},{"$f":"SUMIFS(家計簿[金額],家計簿[年],年別詳細[[#This Row],[年]],家計簿[勘定科目],年別詳細[[#Headers],[医療費]])","v":0},{"$f":"SUMIFS(家計簿[金額],家計簿[年],年別詳細[[#This Row],[年]],家計簿[勘定科目],年別詳細[[#Headers],[特別出費]])","v":0}]
[null,null,2026,{"$f":"SUMIFS(家計簿[金額],家計簿[年],年別詳細[[#This Row],[年]],家計簿[収入/支出],年別詳細[[#Headers],[収入]])","v":0},{"$f":"SUMIFS(家計簿[金額],家計簿[年],年別詳細[[#This Row],[年]],家計簿[収入/支出],年別詳細[[#Headers],[支出]])","v":0},{"$f":"SUMIFS(家計簿[金額],家計簿[年],年別詳細[[#This Row],[年]],家計簿[固定費/変動費],年別詳細[[#Headers],[固定費]])","v":0},{"$f":"SUMIFS(家計簿[金額],家計簿[年],年別詳細[[#This Row],[年]],家計簿[固定費/変動費],年別詳細[[#Headers],[変動費]])","v":0},{"$f":"SUMIFS(家計簿[金額],家計簿[年],年別詳細[[#This Row],[年]],家計簿[勘定科目],年別詳細[[#Headers],[給料]])","v":0},{"$f":"SUMIFS(家計簿[金額],家計簿[年],年別詳細[[#This Row],[年]],家計簿[勘定科目],年別詳細[[#Headers],[ボーナス]])","v":0},{"$f":"SUMIFS(家計簿[金額],家計簿[年],年別詳細[[#This Row],[年]],家計簿[勘定科目],年別詳細[[#Headers],[家賃補助]])","v":0},{"$f":"SUMIFS(家計簿[金額],家計簿[年],年別詳細[[#This Row],[年]],家計簿[勘定科目],年別詳細[[#Headers],[児童手当]])","v":0},{"$f":"SUMIFS(家計簿[金額],家計簿[年],年別詳細[[#This Row],[年]],家計簿[勘定科目],年別詳細[[#Headers],[配当金]])","v":0},{"$f":"SUMIFS(家計簿[金額],家計簿[年],年別詳細[[#This Row],[年]],家計簿[勘定科目],年別詳細[[#Headers],[特別収入]])","v":0},{"$f":"SUMIFS(家計簿[金額],家計簿[年],年別詳細[[#This Row],[年]],家計簿[勘定科目],年別詳細[[#Headers],[家賃]])","v":0},{"$f":"SUMIFS(家計簿[金額],家計簿[年],年別詳細[[#This Row],[年]],家計簿[勘定科目],年別詳細[[#Headers],[電気代]])","v":0},{"$f":"SUMIFS(家計簿[金額],家計簿[年],年別詳細[[#This Row],[年]],家計簿[勘定科目],年別詳細[[#Headers],[ガス代]])","v":0},{"$f":"SUMIFS(家計簿[金額],家計簿[年],年別詳細[[#This Row],[年]],家計簿[勘定科目],年別詳細[[#Headers],[水道代]])","v":0},{"$f":"SUMIFS(家計簿[金額],家計簿[年],年別詳細[[#This Row],[年]],家計簿[勘定科目],年別詳細[[#Headers],[通信費]])","v":0},{"$f":"SUMIFS(家計簿[金額],家計簿[年],年別詳細[[#This Row],[年]],家計簿[勘定科目],)","v":0},{"$f":"SUMIFS(家計簿[金額],家計簿[年],年別詳細[[#This Row],[年]],家計簿[勘定科目],)","v":0},{"$f":"SUMIFS(家計簿[金額],家計簿[年],年別詳細[[#This Row],[年]],家計簿[勘定科目],)","v":0},{"$f":"SUMIFS(家計簿[金額],家計簿[年],年別詳細[[#This Row],[年]],家計簿[勘定科目],年別詳細[[#Headers],[食費]])","v":0},{"$f":"SUMIFS(家計簿[金額],家計簿[年],年別詳細[[#This Row],[年]],家計簿[勘定科目],年別詳細[[#Headers],[日用品]])","v":0},{"$f":"SUMIFS(家計簿[金額],家計簿[年],年別詳細[[#This Row],[年]],家計簿[勘定科目],年別詳細[[#Headers],[衣服]])","v":0},{"$f":"SUMIFS(家計簿[金額],家計簿[年],年別詳細[[#This Row],[年]],家計簿[勘定科目],年別詳細[[#Headers],[教育費]])","v":0},{"$f":"SUMIFS(家計簿[金額],家計簿[年],年別詳細[[#This Row],[年]],家計簿[勘定科目],年別詳細[[#Headers],[外食費]])","v":0},{"$f":"SUMIFS(家計簿[金額],家計簿[年],年別詳細[[#This Row],[年]],家計簿[勘定科目],年別詳細[[#Headers],[移動費]])","v":0},{"$f":"SUMIFS(家計簿[金額],家計簿[年],年別詳細[[#This Row],[年]],家計簿[勘定科目],年別詳細[[#Headers],[旅費]])","v":0},{"$f":"SUMIFS(家計簿[金額],家計簿[年],年別詳細[[#This Row],[年]],家計簿[勘定科目],年別詳細[[#Headers],[娯楽費]])","v":0},{"$f":"SUMIFS(家計簿[金額],家計簿[年],年別詳細[[#This Row],[年]],家計簿[勘定科目],年別詳細[[#Headers],[医療費]])","v":0},{"$f":"SUMIFS(家計簿[金額],家計簿[年],年別詳細[[#This Row],[年]],家計簿[勘定科目],年別詳細[[#Headers],[特別出費]])","v":0}]
[null,null,2027,{"$f":"SUMIFS(家計簿[金額],家計簿[年],年別詳細[[#This Row],[年]],家計簿[収入/支出],年別詳細[[#Headers],[収入]])","v":0},{"$f":"SUMIFS(家計簿[金額],家計簿[年],年別詳細[[#This Row],[年]],家計簿[収入/支出],年別詳細[[#Headers],[支出]])","v":0},{"$f":"SUMIFS(家計簿[金額],家計簿[年],年別詳細[[#This Row],[年]],家計簿[固定費/変動費],年別詳細[[#Headers],[固定費]])","v":0},{"$f":"SUMIFS(家計簿[金額],家計簿[年],年別詳細[[#This Row],[年]],家計簿[固定費/変動費],年別詳細[[#Headers],[変動費]])","v":0},{"$f":"SUMIFS(家計簿[金額],家計簿[年],年別詳細[[#This Row],[年]],家計簿[勘定科目],年別詳細[[#Headers],[給料]])","v":0},{"$f":"SUMIFS(家計簿[金額],家計簿[年],年別詳細[[#This Row],[年]],家計簿[勘定科目],年別詳細[[#Headers],[ボーナス]])","v":0},{"$f":"SUMIFS(家計簿[金額],家計簿[年],年別詳細[[#This Row],[年]],家計簿[勘定科目],年別詳細[[#Headers],[家賃補助]])","v":0},{"$f":"SUMIFS(家計簿[金額],家計簿[年],年別詳細[[#This Row],[年]],家計簿[勘定科目],年別詳細[[#Headers],[児童手当]])","v":0},{"$f":"SUMIFS(家計簿[金額],家計簿[年],年別詳細[[#This Row],[年]],家計簿[勘定科目],年別詳細[[#Headers],[配当金]])","v":0},{"$f":"SUMIFS(家計簿[金額],家計簿[年],年別詳細[[#This Row],[年]],家計簿[勘定科目],年別詳細[[#Headers],[特別収入]])","v":0},{"$f":"SUMIFS(家計簿[金額],家計簿[年],年別詳細[[#This Row],[年]],家計簿[勘定科目],年別詳細[[#Headers],[家賃]])","v":0},{"$f":"SUMIFS(家計簿[金額],家計簿[年],年別詳細[[#This Row],[年]],家計簿[勘定科目],年別詳細[[#Headers],[電気代]])","v":0},{"$f":"SUMIFS(家計簿[金額],家計簿[年],年別詳細[[#This Row],[年]],家計簿[勘定科目],年別詳細[[#Headers],[ガス代]])","v":0},{"$f":"SUMIFS(家計簿[金額],家計簿[年],年別詳細[[#This Row],[年]],家計簿[勘定科目],年別詳細[[#Headers],[水道代]])","v":0},{"$f":"SUMIFS(家計簿[金額],家計簿[年],年別詳細[[#This Row],[年]],家計簿[勘定科目],年別詳細[[#Headers],[通信費]])","v":0},{"$f":"SUMIFS(家計簿[金額],家計簿[年],年別詳細[[#This Row],[年]],家計簿[勘定科目],)","v":0},{"$f":"SUMIFS(家計簿[金額],家計簿[年],年別詳細[[#This Row],[年]],家計簿[勘定科目],)","v":0},{"$f":"SUMIFS(家計簿[金額],家計簿[年],年別詳細[[#This Row],[年]],家計簿[勘定科目],)","v":0},{"$f":"SUMIFS(家計簿[金額],家計簿[年],年別詳細[[#This Row],[年]],家計簿[勘定科目],年別詳細[[#Headers],[食費]])","v":0},{"$f":"SUMIFS(家計簿[金額],家計簿[年],年別詳細[[#This Row],[年]],家計簿[勘定科目],年別詳細[[#Headers],[日用品]])","v":0},{"$f":"SUMIFS(家計簿[金額],家計簿[年],年別詳細[[#This Row],[年]],家計簿[勘定科目],年別詳細[[#Headers],[衣服]])","v":0},{"$f":"SUMIFS(家計簿[金額],家計簿[年],年別詳細[[#This Row],[年]],家計簿[勘定科目],年別詳細[[#Headers],[教育費]])","v":0},{"$f":"SUMIFS(家計簿[金額],家計簿[年],年別詳細[[#This Row],[年]],家計簿[勘定科目],年別詳細[[#Headers],[外食費]])","v":0},{"$f":"SUMIFS(家計簿[金額],家計簿[年],年別詳細[[#This Row],[年]],家計簿[勘定科目],年別詳細[[#Headers],[移動費]])","v":0},{"$f":"SUMIFS(家計簿[金額],家計簿[年],年別詳細[[#This Row],[年]],家計簿[勘定科目],年別詳細[[#Headers],[旅費]])","v":0},{"$f":"SUMIFS(家計簿[金額],家計簿[年],年別詳細[[#This Row],[年]],家計簿[勘定科目],年別詳細[[#Headers],[娯楽費]])","v":0},{"$f":"SUMIFS(家計簿[金額],家計簿[年],年別詳細[[#This Row],[年]],家計簿[勘定科目],年別詳細[[#Headers],[医療費]])","v":0},{"$f":"SUMIFS(家計簿[金額],家計簿[年],年別詳細[[#This Row],[年]],家計簿[勘定科目],年別詳細[[#Headers],[特別出費]])","v":0}]
[null,null,2028,{"$f":"SUMIFS(家計簿[金額],家計簿[年],年別詳細[[#This Row],[年]],家計簿[収入/支出],年別詳細[[#Headers],[収入]])","v":0},{"$f":"SUMIFS(家計簿[金額],家計簿[年],年別詳細[[#This Row],[年]],家計簿[収入/支出],年別詳細[[#Headers],[支出]])","v":0},{"$f":"SUMIFS(家計簿[金額],家計簿[年],年別詳細[[#This Row],[年]],家計簿[固定費/変動費],年別詳細[[#Headers],[固定費]])","v":0},{"$f":"SUMIFS(家計簿[金額],家計簿[年],年別詳細[[#This Row],[年]],家計簿[固定費/変動費],年別詳細[[#Headers],[変動費]])","v":0},{"$f":"SUMIFS(家計簿[金額],家計簿[年],年別詳細[[#This Row],[年]],家計簿[勘定科目],年別詳細[[#Headers],[給料]])","v":0},{"$f":"SUMIFS(家計簿[金額],家計簿[年],年別詳細[[#This Row],[年]],家計簿[勘定科目],年別詳細[[#Headers],[ボーナス]])","v":0},{"$f":"SUMIFS(家計簿[金額],家計簿[年],年別詳細[[#This Row],[年]],家計簿[勘定科目],年別詳細[[#Headers],[家賃補助]])","v":0},{"$f":"SUMIFS(家計簿[金額],家計簿[年],年別詳細[[#This Row],[年]],家計簿[勘定科目],年別詳細[[#Headers],[児童手当]])","v":0},{"$f":"SUMIFS(家計簿[金額],家計簿[年],年別詳細[[#This Row],[年]],家計簿[勘定科目],年別詳細[[#Headers],[配当金]])","v":0},{"$f":"SUMIFS(家計簿[金額],家計簿[年],年別詳細[[#This Row],[年]],家計簿[勘定科目],年別詳細[[#Headers],[特別収入]])","v":0},{"$f":"SUMIFS(家計簿[金額],家計簿[年],年別詳細[[#This Row],[年]],家計簿[勘定科目],年別詳細[[#Headers],[家賃]])","v":0},{"$f":"SUMIFS(家計簿[金額],家計簿[年],年別詳細[[#This Row],[年]],家計簿[勘定科目],年別詳細[[#Headers],[電気代]])","v":0},{"$f":"SUMIFS(家計簿[金額],家計簿[年],年別詳細[[#This Row],[年]],家計簿[勘定科目],年別詳細[[#Headers],[ガス代]])","v":0},{"$f":"SUMIFS(家計簿[金額],家計簿[年],年別詳細[[#This Row],[年]],家計簿[勘定科目],年別詳細[[#Headers],[水道代]])","v":0},{"$f":"SUMIFS(家計簿[金額],家計簿[年],年別詳細[[#This Row],[年]],家計簿[勘定科目],年別詳細[[#Headers],[通信費]])","v":0},{"$f":"SUMIFS(家計簿[金額],家計簿[年],年別詳細[[#This Row],[年]],家計簿[勘定科目],)","v":0},{"$f":"SUMIFS(家計簿[金額],家計簿[年],年別詳細[[#This Row],[年]],家計簿[勘定科目],)","v":0},{"$f":"SUMIFS(家計簿[金額],家計簿[年],年別詳細[[#This Row],[年]],家計簿[勘定科目],)","v":0},{"$f":"SUMIFS(家計簿[金額],家計簿[年],年別詳細[[#This Row],[年]],家計簿[勘定科目],年別詳細[[#Headers],[食費]])","v":0},{"$f":"SUMIFS(家計簿[金額],家計簿[年],年別詳細[[#This Row],[年]],家計簿[勘定科目],年別詳細[[#Headers],[日用品]])","v":0},{"$f":"SUMIFS(家計簿[金額],家計簿[年],年別詳細[[#This Row],[年]],家計簿[勘定科目],年別詳細[[#Headers],[衣服]])","v":0},{"$f":"SUMIFS(家計簿[金額],家計簿[年],年別詳細[[#This Row],[年]],家計簿[勘定科目],年別詳細[[#Headers],[教育費]])","v":0},{"$f":"SUMIFS(家計簿[金額],家計簿[年],年別詳細[[#This Row],[年]],家計簿[勘定科目],年別詳細[[#Headers],[外食費]])","v":0},{"$f":"SUMIFS(家計簿[金額],家計簿[年],年別詳細[[#This Row],[年]],家計簿[勘定科目],年別詳細[[#Headers],[移動費]])","v":0},{"$f":"SUMIFS(家計簿[金額],家計簿[年],年別詳細[[#This Row],[年]],家計簿[勘定科目],年別詳細[[#Headers],[旅費]])","v":0},{"$f":"SUMIFS(家計簿[金額],家計簿[年],年別詳細[[#This Row],[年]],家計簿[勘定科目],年別詳細[[#Headers],[娯楽費]])","v":0},{"$f":"SUMIFS(家計簿[金額],家計簿[年],年別詳細[[#This Row],[年]],家計簿[勘定科目],年別詳細[[#Headers],[医療費]])","v":0},{"$f":"SUMIFS(家計簿[金額],家計簿[年],年別詳細[[#This Row],[年]],家計簿[勘定科目],年別詳細[[#Headers],[特別出費]])","v":0}]
[null,null,2029,{"$f":"SUMIFS(家計簿[金額],家計簿[年],年別詳細[[#This Row],[年]],家計簿[収入/支出],年別詳細[[#Headers],[収入]])","v":0},{"$f":"SUMIFS(家計簿[金額],家計簿[年],年別詳細[[#This Row],[年]],家計簿[収入/支出],年別詳細[[#Headers],[支出]])","v":0},{"$f":"SUMIFS(家計簿[金額],家計簿[年],年別詳細[[#This Row],[年]],家計簿[固定費/変動費],年別詳細[[#Headers],[固定費]])","v":0},{"$f":"SUMIFS(家計簿[金額],家計簿[年],年別詳細[[#This Row],[年]],家計簿[固定費/変動費],年別詳細[[#Headers],[変動費]])","v":0},{"$f":"SUMIFS(家計簿[金額],家計簿[年],年別詳細[[#This Row],[年]],家計簿[勘定科目],年別詳細[[#Headers],[給料]])","v":0},{"$f":"SUMIFS(家計簿[金額],家計簿[年],年別詳細[[#This Row],[年]],家計簿[勘定科目],年別詳細[[#Headers],[ボーナス]])","v":0},{"$f":"SUMIFS(家計簿[金額],家計簿[年],年別詳細[[#This Row],[年]],家計簿[勘定科目],年別詳細[[#Headers],[家賃補助]])","v":0},{"$f":"SUMIFS(家計簿[金額],家計簿[年],年別詳細[[#This Row],[年]],家計簿[勘定科目],年別詳細[[#Headers],[児童手当]])","v":0},{"$f":"SUMIFS(家計簿[金額],家計簿[年],年別詳細[[#This Row],[年]],家計簿[勘定科目],年別詳細[[#Headers],[配当金]])","v":0},{"$f":"SUMIFS(家計簿[金額],家計簿[年],年別詳細[[#This Row],[年]],家計簿[勘定科目],年別詳細[[#Headers],[特別収入]])","v":0},{"$f":"SUMIFS(家計簿[金額],家計簿[年],年別詳細[[#This Row],[年]],家計簿[勘定科目],年別詳細[[#Headers],[家賃]])","v":0},{"$f":"SUMIFS(家計簿[金額],家計簿[年],年別詳細[[#This Row],[年]],家計簿[勘定科目],年別詳細[[#Headers],[電気代]])","v":0},{"$f":"SUMIFS(家計簿[金額],家計簿[年],年別詳細[[#This Row],[年]],家計簿[勘定科目],年別詳細[[#Headers],[ガス代]])","v":0},{"$f":"SUMIFS(家計簿[金額],家計簿[年],年別詳細[[#This Row],[年]],家計簿[勘定科目],年別詳細[[#Headers],[水道代]])","v":0},{"$f":"SUMIFS(家計簿[金額],家計簿[年],年別詳細[[#This Row],[年]],家計簿[勘定科目],年別詳細[[#Headers],[通信費]])","v":0},{"$f":"SUMIFS(家計簿[金額],家計簿[年],年別詳細[[#This Row],[年]],家計簿[勘定科目],)","v":0},{"$f":"SUMIFS(家計簿[金額],家計簿[年],年別詳細[[#This Row],[年]],家計簿[勘定科目],)","v":0},{"$f":"SUMIFS(家計簿[金額],家計簿[年],年別詳細[[#This Row],[年]],家計簿[勘定科目],)","v":0},{"$f":"SUMIFS(家計簿[金額],家計簿[年],年別詳細[[#This Row],[年]],家計簿[勘定科目],年別詳細[[#Headers],[食費]])","v":0},{"$f":"SUMIFS(家計簿[金額],家計簿[年],年別詳細[[#This Row],[年]],家計簿[勘定科目],年別詳細[[#Headers],[日用品]])","v":0},{"$f":"SUMIFS(家計簿[金額],家計簿[年],年別詳細[[#This Row],[年]],家計簿[勘定科目],年別詳細[[#Headers],[衣服]])","v":0},{"$f":"SUMIFS(家計簿[金額],家計簿[年],年別詳細[[#This Row],[年]],家計簿[勘定科目],年別詳細[[#Headers],[教育費]])","v":0},{"$f":"SUMIFS(家計簿[金額],家計簿[年],年別詳細[[#This Row],[年]],家計簿[勘定科目],年別詳細[[#Headers],[外食費]])","v":0},{"$f":"SUMIFS(家計簿[金額],家計簿[年],年別詳細[[#This Row],[年]],家計簿[勘定科目],年別詳細[[#Headers],[移動費]])","v":0},{"$f":"SUMIFS(家計簿[金額],家計簿[年],年別詳細[[#This Row],[年]],家計簿[勘定科目],年別詳細[[#Headers],[旅費]])","v":0},{"$f":"SUMIFS(家計簿[金額],家計簿[年],年別詳細[[#This Row],[年]],家計簿[勘定科目],年別詳細[[#Headers],[娯楽費]])","v":0},{"$f":"SUMIFS(家計簿[金額],家計簿[年],年別詳細[[#This Row],[年]],家計簿[勘定科目],年別詳細[[#Headers],[医療費]])","v":0},{"$f":"SUMIFS(家計簿[金額],家計簿[年],年別詳細[[#This Row],[年]],家計簿[勘定科目],年別詳細[[#Headers],[特別出費]])","v":0}]
[null,null,2030,{"$f":"SUMIFS(家計簿[金額],家計簿[年],年別詳細[[#This Row],[年]],家計簿[収入/支出],年別詳細[[#Headers],[収入]])","v":0},{"$f":"SUMIFS(家計簿[金額],家計簿[年],年別詳細[[#This Row],[年]],家計簿[収入/支出],年別詳細[[#Headers],[支出]])","v":0},{"$f":"SUMIFS(家計簿[金額],家計簿[年],年別詳細[[#This Row],[年]],家計簿[固定費/変動費],年別詳細[[#Headers],[固定費]])","v":0},{"$f":"SUMIFS(家計簿[金額],家計簿[年],年別詳細[[#This Row],[年]],家計簿[固定費/変動費],年別詳細[[#Headers],[変動費]])","v":0},{"$f":"SUMIFS(家計簿[金額],家計簿[年],年別詳細[[#This Row],[年]],家計簿[勘定科目],年別詳細[[#Headers],[給料]])","v":0},{"$f":"SUMIFS(家計簿[金額],家計簿[年],年別詳細[[#This Row],[年]],家計簿[勘定科目],年別詳細[[#Headers],[ボーナス]])","v":0},{"$f":"SUMIFS(家計簿[金額],家計簿[年],年別詳細[[#This Row],[年]],家計簿[勘定科目],年別詳細[[#Headers],[家賃補助]])","v":0},{"$f":"SUMIFS(家計簿[金額],家計簿[年],年別詳細[[#This Row],[年]],家計簿[勘定科目],年別詳細[[#Headers],[児童手当]])","v":0},{"$f":"SUMIFS(家計簿[金額],家計簿[年],年別詳細[[#This Row],[年]],家計簿[勘定科目],年別詳細[[#Headers],[配当金]])","v":0},{"$f":"SUMIFS(家計簿[金額],家計簿[年],年別詳細[[#This Row],[年]],家計簿[勘定科目],年別詳細[[#Headers],[特別収入]])","v":0},{"$f":"SUMIFS(家計簿[金額],家計簿[年],年別詳細[[#This Row],[年]],家計簿[勘定科目],年別詳細[[#Headers],[家賃]])","v":0},{"$f":"SUMIFS(家計簿[金額],家計簿[年],年別詳細[[#This Row],[年]],家計簿[勘定科目],年別詳細[[#Headers],[電気代]])","v":0},{"$f":"SUMIFS(家計簿[金額],家計簿[年],年別詳細[[#This Row],[年]],家計簿[勘定科目],年別詳細[[#Headers],[ガス代]])","v":0},{"$f":"SUMIFS(家計簿[金額],家計簿[年],年別詳細[[#This Row],[年]],家計簿[勘定科目],年別詳細[[#Headers],[水道代]])","v":0},{"$f":"SUMIFS(家計簿[金額],家計簿[年],年別詳細[[#This Row],[年]],家計簿[勘定科目],年別詳細[[#Headers],[通信費]])","v":0},{"$f":"SUMIFS(家計簿[金額],家計簿[年],年別詳細[[#This Row],[年]],家計簿[勘定科目],)","v":0},{"$f":"SUMIFS(家計簿[金額],家計簿[年],年別詳細[[#This Row],[年]],家計簿[勘定科目],)","v":0},{"$f":"SUMIFS(家計簿[金額],家計簿[年],年別詳細[[#This Row],[年]],家計簿[勘定科目],)","v":0},{"$f":"SUMIFS(家計簿[金額],家計簿[年],年別詳細[[#This Row],[年]],家計簿[勘定科目],年別詳細[[#Headers],[食費]])","v":0},{"$f":"SUMIFS(家計簿[金額],家計簿[年],年別詳細[[#This Row],[年]],家計簿[勘定科目],年別詳細[[#Headers],[日用品]])","v":0},{"$f":"SUMIFS(家計簿[金額],家計簿[年],年別詳細[[#This Row],[年]],家計簿[勘定科目],年別詳細[[#Headers],[衣服]])","v":0},{"$f":"SUMIFS(家計簿[金額],家計簿[年],年別詳細[[#This Row],[年]],家計簿[勘定科目],年別詳細[[#Headers],[教育費]])","v":0},{"$f":"SUMIFS(家計簿[金額],家計簿[年],年別詳細[[#This Row],[年]],家計簿[勘定科目],年別詳細[[#Headers],[外食費]])","v":0},{"$f":"SUMIFS(家計簿[金額],家計簿[年],年別詳細[[#This Row],[年]],家計簿[勘定科目],年別詳細[[#Headers],[移動費]])","v":0},{"$f":"SUMIFS(家計簿[金額],家計簿[年],年別詳細[[#This Row],[年]],家計簿[勘定科目],年別詳細[[#Headers],[旅費]])","v":0},{"$f":"SUMIFS(家計簿[金額],家計簿[年],年別詳細[[#This Row],[年]],家計簿[勘定科目],年別詳細[[#Headers],[娯楽費]])","v":0},{"$f":"SUMIFS(家計簿[金額],家計簿[年],年別詳細[[#This Row],[年]],家計簿[勘定科目],年別詳細[[#Headers],[医療費]])","v":0},{"$f":"SUMIFS(家計簿[金額],家計簿[年],年別詳細[[#This Row],[年]],家計簿[勘定科目],年別詳細[[#Headers],[特別出費]])","v":0}]
[null,null,2031,{"$f":"SUMIFS(家計簿[金額],家計簿[年],年別詳細[[#This Row],[年]],家計簿[収入/支出],年別詳細[[#Headers],[収入]])","v":0},{"$f":"SUMIFS(家計簿[金額],家計簿[年],年別詳細[[#This Row],[年]],家計簿[収入/支出],年別詳細[[#Headers],[支出]])","v":0},{"$f":"SUMIFS(家計簿[金額],家計簿[年],年別詳細[[#This Row],[年]],家計簿[固定費/変動費],年別詳細[[#Headers],[固定費]])","v":0},{"$f":"SUMIFS(家計簿[金額],家計簿[年],年別詳細[[#This Row],[年]],家計簿[固定費/変動費],年別詳細[[#Headers],[変動費]])","v":0},{"$f":"SUMIFS(家計簿[金額],家計簿[年],年別詳細[[#This Row],[年]],家計簿[勘定科目],年別詳細[[#Headers],[給料]])","v":0},{"$f":"SUMIFS(家計簿[金額],家計簿[年],年別詳細[[#This Row],[年]],家計簿[勘定科目],年別詳細[[#Headers],[ボーナス]])","v":0},{"$f":"SUMIFS(家計簿[金額],家計簿[年],年別詳細[[#This Row],[年]],家計簿[勘定科目],年別詳細[[#Headers],[家賃補助]])","v":0},{"$f":"SUMIFS(家計簿[金額],家計簿[年],年別詳細[[#This Row],[年]],家計簿[勘定科目],年別詳細[[#Headers],[児童手当]])","v":0},{"$f":"SUMIFS(家計簿[金額],家計簿[年],年別詳細[[#This Row],[年]],家計簿[勘定科目],年別詳細[[#Headers],[配当金]])","v":0},{"$f":"SUMIFS(家計簿[金額],家計簿[年],年別詳細[[#This Row],[年]],家計簿[勘定科目],年別詳細[[#Headers],[特別収入]])","v":0},{"$f":"SUMIFS(家計簿[金額],家計簿[年],年別詳細[[#This Row],[年]],家計簿[勘定科目],年別詳細[[#Headers],[家賃]])","v":0},{"$f":"SUMIFS(家計簿[金額],家計簿[年],年別詳細[[#This Row],[年]],家計簿[勘定科目],年別詳細[[#Headers],[電気代]])","v":0},{"$f":"SUMIFS(家計簿[金額],家計簿[年],年別詳細[[#This Row],[年]],家計簿[勘定科目],年別詳細[[#Headers],[ガス代]])","v":0},{"$f":"SUMIFS(家計簿[金額],家計簿[年],年別詳細[[#This Row],[年]],家計簿[勘定科目],年別詳細[[#Headers],[水道代]])","v":0},{"$f":"SUMIFS(家計簿[金額],家計簿[年],年別詳細[[#This Row],[年]],家計簿[勘定科目],年別詳細[[#Headers],[通信費]])","v":0},{"$f":"SUMIFS(家計簿[金額],家計簿[年],年別詳細[[#This Row],[年]],家計簿[勘定科目],)","v":0},{"$f":"SUMIFS(家計簿[金額],家計簿[年],年別詳細[[#This Row],[年]],家計簿[勘定科目],)","v":0},{"$f":"SUMIFS(家計簿[金額],家計簿[年],年別詳細[[#This Row],[年]],家計簿[勘定科目],)","v":0},{"$f":"SUMIFS(家計簿[金額],家計簿[年],年別詳細[[#This Row],[年]],家計簿[勘定科目],年別詳細[[#Headers],[食費]])","v":0},{"$f":"SUMIFS(家計簿[金額],家計簿[年],年別詳細[[#This Row],[年]],家計簿[勘定科目],年別詳細[[#Headers],[日用品]])","v":0},{"$f":"SUMIFS(家計簿[金額],家計簿[年],年別詳細[[#This Row],[年]],家計簿[勘定科目],年別詳細[[#Headers],[衣服]])","v":0},{"$f":"SUMIFS(家計簿[金額],家計簿[年],年別詳細[[#This Row],[年]],家計簿[勘定科目],年別詳細[[#Headers],[教育費]])","v":0},{"$f":"SUMIFS(家計簿[金額],家計簿[年],年別詳細[[#This Row],[年]],家計簿[勘定科目],年別詳細[[#Headers],[外食費]])","v":0},{"$f":"SUMIFS(家計簿[金額],家計簿[年],年別詳細[[#This Row],[年]],家計簿[勘定科目],年別詳細[[#Headers],[移動費]])","v":0},{"$f":"SUMIFS(家計簿[金額],家計簿[年],年別詳細[[#This Row],[年]],家計簿[勘定科目],年別詳細[[#Headers],[旅費]])","v":0},{"$f":"SUMIFS(家計簿[金額],家計簿[年],年別詳細[[#This Row],[年]],家計簿[勘定科目],年別詳細[[#Headers],[娯楽費]])","v":0},{"$f":"SUMIFS(家計簿[金額],家計簿[年],年別詳細[[#This Row],[年]],家計簿[勘定科目],年別詳細[[#Headers],[医療費]])","v":0},{"$f":"SUMIFS(家計簿[金額],家計簿[年],年別詳細[[#This Row],[年]],家計簿[勘定科目],年別詳細[[#Headers],[特別出費]])","v":0}]
[null,null,2032,{"$f":"SUMIFS(家計簿[金額],家計簿[年],年別詳細[[#This Row],[年]],家計簿[収入/支出],年別詳細[[#Headers],[収入]])","v":0},{"$f":"SUMIFS(家計簿[金額],家計簿[年],年別詳細[[#This Row],[年]],家計簿[収入/支出],年別詳細[[#Headers],[支出]])","v":0},{"$f":"SUMIFS(家計簿[金額],家計簿[年],年別詳細[[#This Row],[年]],家計簿[固定費/変動費],年別詳細[[#Headers],[固定費]])","v":0},{"$f":"SUMIFS(家計簿[金額],家計簿[年],年別詳細[[#This Row],[年]],家計簿[固定費/変動費],年別詳細[[#Headers],[変動費]])","v":0},{"$f":"SUMIFS(家計簿[金額],家計簿[年],年別詳細[[#This Row],[年]],家計簿[勘定科目],年別詳細[[#Headers],[給料]])","v":0},{"$f":"SUMIFS(家計簿[金額],家計簿[年],年別詳細[[#This Row],[年]],家計簿[勘定科目],年別詳細[[#Headers],[ボーナス]])","v":0},{"$f":"SUMIFS(家計簿[金額],家計簿[年],年別詳細[[#This Row],[年]],家計簿[勘定科目],年別詳細[[#Headers],[家賃補助]])","v":0},{"$f":"SUMIFS(家計簿[金額],家計簿[年],年別詳細[[#This Row],[年]],家計簿[勘定科目],年別詳細[[#Headers],[児童手当]])","v":0},{"$f":"SUMIFS(家計簿[金額],家計簿[年],年別詳細[[#This Row],[年]],家計簿[勘定科目],年別詳細[[#Headers],[配当金]])","v":0},{"$f":"SUMIFS(家計簿[金額],家計簿[年],年別詳細[[#This Row],[年]],家計簿[勘定科目],年別詳細[[#Headers],[特別収入]])","v":0},{"$f":"SUMIFS(家計簿[金額],家計簿[年],年別詳細[[#This Row],[年]],家計簿[勘定科目],年別詳細[[#Headers],[家賃]])","v":0},{"$f":"SUMIFS(家計簿[金額],家計簿[年],年別詳細[[#This Row],[年]],家計簿[勘定科目],年別詳細[[#Headers],[電気代]])","v":0},{"$f":"SUMIFS(家計簿[金額],家計簿[年],年別詳細[[#This Row],[年]],家計簿[勘定科目],年別詳細[[#Headers],[ガス代]])","v":0},{"$f":"SUMIFS(家計簿[金額],家計簿[年],年別詳細[[#This Row],[年]],家計簿[勘定科目],年別詳細[[#Headers],[水道代]])","v":0},{"$f":"SUMIFS(家計簿[金額],家計簿[年],年別詳細[[#This Row],[年]],家計簿[勘定科目],年別詳細[[#Headers],[通信費]])","v":0},{"$f":"SUMIFS(家計簿[金額],家計簿[年],年別詳細[[#This Row],[年]],家計簿[勘定科目],)","v":0},{"$f":"SUMIFS(家計簿[金額],家計簿[年],年別詳細[[#This Row],[年]],家計簿[勘定科目],)","v":0},{"$f":"SUMIFS(家計簿[金額],家計簿[年],年別詳細[[#This Row],[年]],家計簿[勘定科目],)","v":0},{"$f":"SUMIFS(家計簿[金額],家計簿[年],年別詳細[[#This Row],[年]],家計簿[勘定科目],年別詳細[[#Headers],[食費]])","v":0},{"$f":"SUMIFS(家計簿[金額],家計簿[年],年別詳細[[#This Row],[年]],家計簿[勘定科目],年別詳細[[#Headers],[日用品]])","v":0},{"$f":"SUMIFS(家計簿[金額],家計簿[年],年別詳細[[#This Row],[年]],家計簿[勘定科目],年別詳細[[#Headers],[衣服]])","v":0},{"$f":"SUMIFS(家計簿[金額],家計簿[年],年別詳細[[#This Row],[年]],家計簿[勘定科目],年別詳細[[#Headers],[教育費]])","v":0},{"$f":"SUMIFS(家計簿[金額],家計簿[年],年別詳細[[#This Row],[年]],家計簿[勘定科目],年別詳細[[#Headers],[外食費]])","v":0},{"$f":"SUMIFS(家計簿[金額],家計簿[年],年別詳細[[#This Row],[年]],家計簿[勘定科目],年別詳細[[#Headers],[移動費]])","v":0},{"$f":"SUMIFS(家計簿[金額],家計簿[年],年別詳細[[#This Row],[年]],家計簿[勘定科目],年別詳細[[#Headers],[旅費]])","v":0},{"$f":"SUMIFS(家計簿[金額],家計簿[年],年別詳細[[#This Row],[年]],家計簿[勘定科目],年別詳細[[#Headers],[娯楽費]])","v":0},{"$f":"SUMIFS(家計簿[金額],家計簿[年],年別詳細[[#This Row],[年]],家計簿[勘定科目],年別詳細[[#Headers],[医療費]])","v":0},{"$f":"SUMIFS(家計簿[金額],家計簿[年],年別詳細[[#This Row],[年]],家計簿[勘定科目],年別詳細[[#Headers],[特別出費]])","v":0}]
[null,null,2033,{"$f":"SUMIFS(家計簿[金額],家計簿[年],年別詳細[[#This Row],[年]],家計簿[収入/支出],年別詳細[[#Headers],[収入]])","v":0},{"$f":"SUMIFS(家計簿[金額],家計簿[年],年別詳細[[#This Row],[年]],家計簿[収入/支出],年別詳細[[#Headers],[支出]])","v":0},{"$f":"SUMIFS(家計簿[金額],家計簿[年],年別詳細[[#This Row],[年]],家計簿[固定費/変動費],年別詳細[[#Headers],[固定費]])","v":0},{"$f":"SUMIFS(家計簿[金額],家計簿[年],年別詳細[[#This Row],[年]],家計簿[固定費/変動費],年別詳細[[#Headers],[変動費]])","v":0},{"$f":"SUMIFS(家計簿[金額],家計簿[年],年別詳細[[#This Row],[年]],家計簿[勘定科目],年別詳細[[#Headers],[給料]])","v":0},{"$f":"SUMIFS(家計簿[金額],家計簿[年],年別詳細[[#This Row],[年]],家計簿[勘定科目],年別詳細[[#Headers],[ボーナス]])","v":0},{"$f":"SUMIFS(家計簿[金額],家計簿[年],年別詳細[[#This Row],[年]],家計簿[勘定科目],年別詳細[[#Headers],[家賃補助]])","v":0},{"$f":"SUMIFS(家計簿[金額],家計簿[年],年別詳細[[#This Row],[年]],家計簿[勘定科目],年別詳細[[#Headers],[児童手当]])","v":0},{"$f":"SUMIFS(家計簿[金額],家計簿[年],年別詳細[[#This Row],[年]],家計簿[勘定科目],年別詳細[[#Headers],[配当金]])","v":0},{"$f":"SUMIFS(家計簿[金額],家計簿[年],年別詳細[[#This Row],[年]],家計簿[勘定科目],年別詳細[[#Headers],[特別収入]])","v":0},{"$f":"SUMIFS(家計簿[金額],家計簿[年],年別詳細[[#This Row],[年]],家計簿[勘定科目],年別詳細[[#Headers],[家賃]])","v":0},{"$f":"SUMIFS(家計簿[金額],家計簿[年],年別詳細[[#This Row],[年]],家計簿[勘定科目],年別詳細[[#Headers],[電気代]])","v":0},{"$f":"SUMIFS(家計簿[金額],家計簿[年],年別詳細[[#This Row],[年]],家計簿[勘定科目],年別詳細[[#Headers],[ガス代]])","v":0},{"$f":"SUMIFS(家計簿[金額],家計簿[年],年別詳細[[#This Row],[年]],家計簿[勘定科目],年別詳細[[#Headers],[水道代]])","v":0},{"$f":"SUMIFS(家計簿[金額],家計簿[年],年別詳細[[#This Row],[年]],家計簿[勘定科目],年別詳細[[#Headers],[通信費]])","v":0},{"$f":"SUMIFS(家計簿[金額],家計簿[年],年別詳細[[#This Row],[年]],家計簿[勘定科目],)","v":0},{"$f":"SUMIFS(家計簿[金額],家計簿[年],年別詳細[[#This Row],[年]],家計簿[勘定科目],)","v":0},{"$f":"SUMIFS(家計簿[金額],家計簿[年],年別詳細[[#This Row],[年]],家計簿[勘定科目],)","v":0},{"$f":"SUMIFS(家計簿[金額],家計簿[年],年別詳細[[#This Row],[年]],家計簿[勘定科目],年別詳細[[#Headers],[食費]])","v":0},{"$f":"SUMIFS(家計簿[金額],家計簿[年],年別詳細[[#This Row],[年]],家計簿[勘定科目],年別詳細[[#Headers],[日用品]])","v":0},{"$f":"SUMIFS(家計簿[金額],家計簿[年],年別詳細[[#This Row],[年]],家計簿[勘定科目],年別詳細[[#Headers],[衣服]])","v":0},{"$f":"SUMIFS(家計簿[金額],家計簿[年],年別詳細[[#This Row],[年]],家計簿[勘定科目],年別詳細[[#Headers],[教育費]])","v":0},{"$f":"SUMIFS(家計簿[金額],家計簿[年],年別詳細[[#This Row],[年]],家計簿[勘定科目],年別詳細[[#Headers],[外食費]])","v":0},{"$f":"SUMIFS(家計簿[金額],家計簿[年],年別詳細[[#This Row],[年]],家計簿[勘定科目],年別詳細[[#Headers],[移動費]])","v":0},{"$f":"SUMIFS(家計簿[金額],家計簿[年],年別詳細[[#This Row],[年]],家計簿[勘定科目],年別詳細[[#Headers],[旅費]])","v":0},{"$f":"SUMIFS(家計簿[金額],家計簿[年],年別詳細[[#This Row],[年]],家計簿[勘定科目],年別詳細[[#Headers],[娯楽費]])","v":0},{"$f":"SUMIFS(家計簿[金額],家計簿[年],年別詳細[[#This Row],[年]],家計簿[勘定科目],年別詳細[[#Headers],[医療費]])","v":0},{"$f":"SUMIFS(家計簿[金額],家計簿[年],年別詳細[[#This Row],[年]],家計簿[勘定科目],年別詳細[[#Headers],[特別出費]])","v":0}]
[null,null,2034,{"$f":"SUMIFS(家計簿[金額],家計簿[年],年別詳細[[#This Row],[年]],家計簿[収入/支出],年別詳細[[#Headers],[収入]])","v":0},{"$f":"SUMIFS(家計簿[金額],家計簿[年],年別詳細[[#This Row],[年]],家計簿[収入/支出],年別詳細[[#Headers],[支出]])","v":0},{"$f":"SUMIFS(家計簿[金額],家計簿[年],年別詳細[[#This Row],[年]],家計簿[固定費/変動費],年別詳細[[#Headers],[固定費]])","v":0},{"$f":"SUMIFS(家計簿[金額],家計簿[年],年別詳細[[#This Row],[年]],家計簿[固定費/変動費],年別詳細[[#Headers],[変動費]])","v":0},{"$f":"SUMIFS(家計簿[金額],家計簿[年],年別詳細[[#This Row],[年]],家計簿[勘定科目],年別詳細[[#Headers],[給料]])","v":0},{"$f":"SUMIFS(家計簿[金額],家計簿[年],年別詳細[[#This Row],[年]],家計簿[勘定科目],年別詳細[[#Headers],[ボーナス]])","v":0},{"$f":"SUMIFS(家計簿[金額],家計簿[年],年別詳細[[#This Row],[年]],家計簿[勘定科目],年別詳細[[#Headers],[家賃補助]])","v":0},{"$f":"SUMIFS(家計簿[金額],家計簿[年],年別詳細[[#This Row],[年]],家計簿[勘定科目],年別詳細[[#Headers],[児童手当]])","v":0},{"$f":"SUMIFS(家計簿[金額],家計簿[年],年別詳細[[#This Row],[年]],家計簿[勘定科目],年別詳細[[#Headers],[配当金]])","v":0},{"$f":"SUMIFS(家計簿[金額],家計簿[年],年別詳細[[#This Row],[年]],家計簿[勘定科目],年別詳細[[#Headers],[特別収入]])","v":0},{"$f":"SUMIFS(家計簿[金額],家計簿[年],年別詳細[[#This Row],[年]],家計簿[勘定科目],年別詳細[[#Headers],[家賃]])","v":0},{"$f":"SUMIFS(家計簿[金額],家計簿[年],年別詳細[[#This Row],[年]],家計簿[勘定科目],年別詳細[[#Headers],[電気代]])","v":0},{"$f":"SUMIFS(家計簿[金額],家計簿[年],年別詳細[[#This Row],[年]],家計簿[勘定科目],年別詳細[[#Headers],[ガス代]])","v":0},{"$f":"SUMIFS(家計簿[金額],家計簿[年],年別詳細[[#This Row],[年]],家計簿[勘定科目],年別詳細[[#Headers],[水道代]])","v":0},{"$f":"SUMIFS(家計簿[金額],家計簿[年],年別詳細[[#This Row],[年]],家計簿[勘定科目],年別詳細[[#Headers],[通信費]])","v":0},{"$f":"SUMIFS(家計簿[金額],家計簿[年],年別詳細[[#This Row],[年]],家計簿[勘定科目],)","v":0},{"$f":"SUMIFS(家計簿[金額],家計簿[年],年別詳細[[#This Row],[年]],家計簿[勘定科目],)","v":0},{"$f":"SUMIFS(家計簿[金額],家計簿[年],年別詳細[[#This Row],[年]],家計簿[勘定科目],)","v":0},{"$f":"SUMIFS(家計簿[金額],家計簿[年],年別詳細[[#This Row],[年]],家計簿[勘定科目],年別詳細[[#Headers],[食費]])","v":0},{"$f":"SUMIFS(家計簿[金額],家計簿[年],年別詳細[[#This Row],[年]],家計簿[勘定科目],年別詳細[[#Headers],[日用品]])","v":0},{"$f":"SUMIFS(家計簿[金額],家計簿[年],年別詳細[[#This Row],[年]],家計簿[勘定科目],年別詳細[[#Headers],[衣服]])","v":0},{"$f":"SUMIFS(家計簿[金額],家計簿[年],年別詳細[[#This Row],[年]],家計簿[勘定科目],年別詳細[[#Headers],[教育費]])","v":0},{"$f":"SUMIFS(家計簿[金額],家計簿[年],年別詳細[[#This Row],[年]],家計簿[勘定科目],年別詳細[[#Headers],[外食費]])","v":0},{"$f":"SUMIFS(家計簿[金額],家計簿[年],年別詳細[[#This Row],[年]],家計簿[勘定科目],年別詳細[[#Headers],[移動費]])","v":0},{"$f":"SUMIFS(家計簿[金額],家計簿[年],年別詳細[[#This Row],[年]],家計簿[勘定科目],年別詳細[[#Headers],[旅費]])","v":0},{"$f":"SUMIFS(家計簿[金額],家計簿[年],年別詳細[[#This Row],[年]],家計簿[勘定科目],年別詳細[[#Headers],[娯楽費]])","v":0},{"$f":"SUMIFS(家計簿[金額],家計簿[年],年別詳細[[#This Row],[年]],家計簿[勘定科目],年別詳細[[#Headers],[医療費]])","v":0},{"$f":"SUMIFS(家計簿[金額],家計簿[年],年別詳細[[#This Row],[年]],家計簿[勘定科目],年別詳細[[#Headers],[特別出費]])","v":0}]
[null,null,2035,{"$f":"SUMIFS(家計簿[金額],家計簿[年],年別詳細[[#This Row],[年]],家計簿[収入/支出],年別詳細[[#Headers],[収入]])","v":0},{"$f":"SUMIFS(家計簿[金額],家計簿[年],年別詳細[[#This Row],[年]],家計簿[収入/支出],年別詳細[[#Headers],[支出]])","v":0},{"$f":"SUMIFS(家計簿[金額],家計簿[年],年別詳細[[#This Row],[年]],家計簿[固定費/変動費],年別詳細[[#Headers],[固定費]])","v":0},{"$f":"SUMIFS(家計簿[金額],家計簿[年],年別詳細[[#This Row],[年]],家計簿[固定費/変動費],年別詳細[[#Headers],[変動費]])","v":0},{"$f":"SUMIFS(家計簿[金額],家計簿[年],年別詳細[[#This Row],[年]],家計簿[勘定科目],年別詳細[[#Headers],[給料]])","v":0},{"$f":"SUMIFS(家計簿[金額],家計簿[年],年別詳細[[#This Row],[年]],家計簿[勘定科目],年別詳細[[#Headers],[ボーナス]])","v":0},{"$f":"SUMIFS(家計簿[金額],家計簿[年],年別詳細[[#This Row],[年]],家計簿[勘定科目],年別詳細[[#Headers],[家賃補助]])","v":0},{"$f":"SUMIFS(家計簿[金額],家計簿[年],年別詳細[[#This Row],[年]],家計簿[勘定科目],年別詳細[[#Headers],[児童手当]])","v":0},{"$f":"SUMIFS(家計簿[金額],家計簿[年],年別詳細[[#This Row],[年]],家計簿[勘定科目],年別詳細[[#Headers],[配当金]])","v":0},{"$f":"SUMIFS(家計簿[金額],家計簿[年],年別詳細[[#This Row],[年]],家計簿[勘定科目],年別詳細[[#Headers],[特別収入]])","v":0},{"$f":"SUMIFS(家計簿[金額],家計簿[年],年別詳細[[#This Row],[年]],家計簿[勘定科目],年別詳細[[#Headers],[家賃]])","v":0},{"$f":"SUMIFS(家計簿[金額],家計簿[年],年別詳細[[#This Row],[年]],家計簿[勘定科目],年別詳細[[#Headers],[電気代]])","v":0},{"$f":"SUMIFS(家計簿[金額],家計簿[年],年別詳細[[#This Row],[年]],家計簿[勘定科目],年別詳細[[#Headers],[ガス代]])","v":0},{"$f":"SUMIFS(家計簿[金額],家計簿[年],年別詳細[[#This Row],[年]],家計簿[勘定科目],年別詳細[[#Headers],[水道代]])","v":0},{"$f":"SUMIFS(家計簿[金額],家計簿[年],年別詳細[[#This Row],[年]],家計簿[勘定科目],年別詳細[[#Headers],[通信費]])","v":0},{"$f":"SUMIFS(家計簿[金額],家計簿[年],年別詳細[[#This Row],[年]],家計簿[勘定科目],)","v":0},{"$f":"SUMIFS(家計簿[金額],家計簿[年],年別詳細[[#This Row],[年]],家計簿[勘定科目],)","v":0},{"$f":"SUMIFS(家計簿[金額],家計簿[年],年別詳細[[#This Row],[年]],家計簿[勘定科目],)","v":0},{"$f":"SUMIFS(家計簿[金額],家計簿[年],年別詳細[[#This Row],[年]],家計簿[勘定科目],年別詳細[[#Headers],[食費]])","v":0},{"$f":"SUMIFS(家計簿[金額],家計簿[年],年別詳細[[#This Row],[年]],家計簿[勘定科目],年別詳細[[#Headers],[日用品]])","v":0},{"$f":"SUMIFS(家計簿[金額],家計簿[年],年別詳細[[#This Row],[年]],家計簿[勘定科目],年別詳細[[#Headers],[衣服]])","v":0},{"$f":"SUMIFS(家計簿[金額],家計簿[年],年別詳細[[#This Row],[年]],家計簿[勘定科目],年別詳細[[#Headers],[教育費]])","v":0},{"$f":"SUMIFS(家計簿[金額],家計簿[年],年別詳細[[#This Row],[年]],家計簿[勘定科目],年別詳細[[#Headers],[外食費]])","v":0},{"$f":"SUMIFS(家計簿[金額],家計簿[年],年別詳細[[#This Row],[年]],家計簿[勘定科目],年別詳細[[#Headers],[移動費]])","v":0},{"$f":"SUMIFS(家計簿[金額],家計簿[年],年別詳細[[#This Row],[年]],家計簿[勘定科目],年別詳細[[#Headers],[旅費]])","v":0},{"$f":"SUMIFS(家計簿[金額],家計簿[年],年別詳細[[#This Row],[年]],家計簿[勘定科目],年別詳細[[#Headers],[娯楽費]])","v":0},{"$f":"SUMIFS(家計簿[金額],家計簿[年],年別詳細[[#This Row],[年]],家計簿[勘定科目],年別詳細[[#Headers],[医療費]])","v":0},{"$f":"SUMIFS(家計簿[金額],家計簿[年],年別詳細[[#This Row],[年]],家計簿[勘定科目],年別詳細[[#Headers],[特別出費]])","v":0}]
[null,null,2036,{"$f":"SUMIFS(家計簿[金額],家計簿[年],年別詳細[[#This Row],[年]],家計簿[収入/支出],年別詳細[[#Headers],[収入]])","v":0},{"$f":"SUMIFS(家計簿[金額],家計簿[年],年別詳細[[#This Row],[年]],家計簿[収入/支出],年別詳細[[#Headers],[支出]])","v":0},{"$f":"SUMIFS(家計簿[金額],家計簿[年],年別詳細[[#This Row],[年]],家計簿[固定費/変動費],年別詳細[[#Headers],[固定費]])","v":0},{"$f":"SUMIFS(家計簿[金額],家計簿[年],年別詳細[[#This Row],[年]],家計簿[固定費/変動費],年別詳細[[#Headers],[変動費]])","v":0},{"$f":"SUMIFS(家計簿[金額],家計簿[年],年別詳細[[#This Row],[年]],家計簿[勘定科目],年別詳細[[#Headers],[給料]])","v":0},{"$f":"SUMIFS(家計簿[金額],家計簿[年],年別詳細[[#This Row],[年]],家計簿[勘定科目],年別詳細[[#Headers],[ボーナス]])","v":0},{"$f":"SUMIFS(家計簿[金額],家計簿[年],年別詳細[[#This Row],[年]],家計簿[勘定科目],年別詳細[[#Headers],[家賃補助]])","v":0},{"$f":"SUMIFS(家計簿[金額],家計簿[年],年別詳細[[#This Row],[年]],家計簿[勘定科目],年別詳細[[#Headers],[児童手当]])","v":0},{"$f":"SUMIFS(家計簿[金額],家計簿[年],年別詳細[[#This Row],[年]],家計簿[勘定科目],年別詳細[[#Headers],[配当金]])","v":0},{"$f":"SUMIFS(家計簿[金額],家計簿[年],年別詳細[[#This Row],[年]],家計簿[勘定科目],年別詳細[[#Headers],[特別収入]])","v":0},{"$f":"SUMIFS(家計簿[金額],家計簿[年],年別詳細[[#This Row],[年]],家計簿[勘定科目],年別詳細[[#Headers],[家賃]])","v":0},{"$f":"SUMIFS(家計簿[金額],家計簿[年],年別詳細[[#This Row],[年]],家計簿[勘定科目],年別詳細[[#Headers],[電気代]])","v":0},{"$f":"SUMIFS(家計簿[金額],家計簿[年],年別詳細[[#This Row],[年]],家計簿[勘定科目],年別詳細[[#Headers],[ガス代]])","v":0},{"$f":"SUMIFS(家計簿[金額],家計簿[年],年別詳細[[#This Row],[年]],家計簿[勘定科目],年別詳細[[#Headers],[水道代]])","v":0},{"$f":"SUMIFS(家計簿[金額],家計簿[年],年別詳細[[#This Row],[年]],家計簿[勘定科目],年別詳細[[#Headers],[通信費]])","v":0},{"$f":"SUMIFS(家計簿[金額],家計簿[年],年別詳細[[#This Row],[年]],家計簿[勘定科目],)","v":0},{"$f":"SUMIFS(家計簿[金額],家計簿[年],年別詳細[[#This Row],[年]],家計簿[勘定科目],)","v":0},{"$f":"SUMIFS(家計簿[金額],家計簿[年],年別詳細[[#This Row],[年]],家計簿[勘定科目],)","v":0},{"$f":"SUMIFS(家計簿[金額],家計簿[年],年別詳細[[#This Row],[年]],家計簿[勘定科目],年別詳細[[#Headers],[食費]])","v":0},{"$f":"SUMIFS(家計簿[金額],家計簿[年],年別詳細[[#This Row],[年]],家計簿[勘定科目],年別詳細[[#Headers],[日用品]])","v":0},{"$f":"SUMIFS(家計簿[金額],家計簿[年],年別詳細[[#This Row],[年]],家計簿[勘定科目],年別詳細[[#Headers],[衣服]])","v":0},{"$f":"SUMIFS(家計簿[金額],家計簿[年],年別詳細[[#This Row],[年]],家計簿[勘定科目],年別詳細[[#Headers],[教育費]])","v":0},{"$f":"SUMIFS(家計簿[金額],家計簿[年],年別詳細[[#This Row],[年]],家計簿[勘定科目],年別詳細[[#Headers],[外食費]])","v":0},{"$f":"SUMIFS(家計簿[金額],家計簿[年],年別詳細[[#This Row],[年]],家計簿[勘定科目],年別詳細[[#Headers],[移動費]])","v":0},{"$f":"SUMIFS(家計簿[金額],家計簿[年],年別詳細[[#This Row],[年]],家計簿[勘定科目],年別詳細[[#Headers],[旅費]])","v":0},{"$f":"SUMIFS(家計簿[金額],家計簿[年],年別詳細[[#This Row],[年]],家計簿[勘定科目],年別詳細[[#Headers],[娯楽費]])","v":0},{"$f":"SUMIFS(家計簿[金額],家計簿[年],年別詳細[[#This Row],[年]],家計簿[勘定科目],年別詳細[[#Headers],[医療費]])","v":0},{"$f":"SUMIFS(家計簿[金額],家計簿[年],年別詳細[[#This Row],[年]],家計簿[勘定科目],年別詳細[[#Headers],[特別出費]])","v":0}]
[null,null,2037,{"$f":"SUMIFS(家計簿[金額],家計簿[年],年別詳細[[#This Row],[年]],家計簿[収入/支出],年別詳細[[#Headers],[収入]])","v":0},{"$f":"SUMIFS(家計簿[金額],家計簿[年],年別詳細[[#This Row],[年]],家計簿[収入/支出],年別詳細[[#Headers],[支出]])","v":0},{"$f":"SUMIFS(家計簿[金額],家計簿[年],年別詳細[[#This Row],[年]],家計簿[固定費/変動費],年別詳細[[#Headers],[固定費]])","v":0},{"$f":"SUMIFS(家計簿[金額],家計簿[年],年別詳細[[#This Row],[年]],家計簿[固定費/変動費],年別詳細[[#Headers],[変動費]])","v":0},{"$f":"SUMIFS(家計簿[金額],家計簿[年],年別詳細[[#This Row],[年]],家計簿[勘定科目],年別詳細[[#Headers],[給料]])","v":0},{"$f":"SUMIFS(家計簿[金額],家計簿[年],年別詳細[[#This Row],[年]],家計簿[勘定科目],年別詳細[[#Headers],[ボーナス]])","v":0},{"$f":"SUMIFS(家計簿[金額],家計簿[年],年別詳細[[#This Row],[年]],家計簿[勘定科目],年別詳細[[#Headers],[家賃補助]])","v":0},{"$f":"SUMIFS(家計簿[金額],家計簿[年],年別詳細[[#This Row],[年]],家計簿[勘定科目],年別詳細[[#Headers],[児童手当]])","v":0},{"$f":"SUMIFS(家計簿[金額],家計簿[年],年別詳細[[#This Row],[年]],家計簿[勘定科目],年別詳細[[#Headers],[配当金]])","v":0},{"$f":"SUMIFS(家計簿[金額],家計簿[年],年別詳細[[#This Row],[年]],家計簿[勘定科目],年別詳細[[#Headers],[特別収入]])","v":0},{"$f":"SUMIFS(家計簿[金額],家計簿[年],年別詳細[[#This Row],[年]],家計簿[勘定科目],年別詳細[[#Headers],[家賃]])","v":0},{"$f":"SUMIFS(家計簿[金額],家計簿[年],年別詳細[[#This Row],[年]],家計簿[勘定科目],年別詳細[[#Headers],[電気代]])","v":0},{"$f":"SUMIFS(家計簿[金額],家計簿[年],年別詳細[[#This Row],[年]],家計簿[勘定科目],年別詳細[[#Headers],[ガス代]])","v":0},{"$f":"SUMIFS(家計簿[金額],家計簿[年],年別詳細[[#This Row],[年]],家計簿[勘定科目],年別詳細[[#Headers],[水道代]])","v":0},{"$f":"SUMIFS(家計簿[金額],家計簿[年],年別詳細[[#This Row],[年]],家計簿[勘定科目],年別詳細[[#Headers],[通信費]])","v":0},{"$f":"SUMIFS(家計簿[金額],家計簿[年],年別詳細[[#This Row],[年]],家計簿[勘定科目],)","v":0},{"$f":"SUMIFS(家計簿[金額],家計簿[年],年別詳細[[#This Row],[年]],家計簿[勘定科目],)","v":0},{"$f":"SUMIFS(家計簿[金額],家計簿[年],年別詳細[[#This Row],[年]],家計簿[勘定科目],)","v":0},{"$f":"SUMIFS(家計簿[金額],家計簿[年],年別詳細[[#This Row],[年]],家計簿[勘定科目],年別詳細[[#Headers],[食費]])","v":0},{"$f":"SUMIFS(家計簿[金額],家計簿[年],年別詳細[[#This Row],[年]],家計簿[勘定科目],年別詳細[[#Headers],[日用品]])","v":0},{"$f":"SUMIFS(家計簿[金額],家計簿[年],年別詳細[[#This Row],[年]],家計簿[勘定科目],年別詳細[[#Headers],[衣服]])","v":0},{"$f":"SUMIFS(家計簿[金額],家計簿[年],年別詳細[[#This Row],[年]],家計簿[勘定科目],年別詳細[[#Headers],[教育費]])","v":0},{"$f":"SUMIFS(家計簿[金額],家計簿[年],年別詳細[[#This Row],[年]],家計簿[勘定科目],年別詳細[[#Headers],[外食費]])","v":0},{"$f":"SUMIFS(家計簿[金額],家計簿[年],年別詳細[[#This Row],[年]],家計簿[勘定科目],年別詳細[[#Headers],[移動費]])","v":0},{"$f":"SUMIFS(家計簿[金額],家計簿[年],年別詳細[[#This Row],[年]],家計簿[勘定科目],年別詳細[[#Headers],[旅費]])","v":0},{"$f":"SUMIFS(家計簿[金額],家計簿[年],年別詳細[[#This Row],[年]],家計簿[勘定科目],年別詳細[[#Headers],[娯楽費]])","v":0},{"$f":"SUMIFS(家計簿[金額],家計簿[年],年別詳細[[#This Row],[年]],家計簿[勘定科目],年別詳細[[#Headers],[医療費]])","v":0},{"$f":"SUMIFS(家計簿[金額],家計簿[年],年別詳細[[#This Row],[年]],家計簿[勘定科目],年別詳細[[#Headers],[特別出費]])","v":0}]
[null,null,2038,{"$f":"SUMIFS(家計簿[金額],家計簿[年],年別詳細[[#This Row],[年]],家計簿[収入/支出],年別詳細[[#Headers],[収入]])","v":0},{"$f":"SUMIFS(家計簿[金額],家計簿[年],年別詳細[[#This Row],[年]],家計簿[収入/支出],年別詳細[[#Headers],[支出]])","v":0},{"$f":"SUMIFS(家計簿[金額],家計簿[年],年別詳細[[#This Row],[年]],家計簿[固定費/変動費],年別詳細[[#Headers],[固定費]])","v":0},{"$f":"SUMIFS(家計簿[金額],家計簿[年],年別詳細[[#This Row],[年]],家計簿[固定費/変動費],年別詳細[[#Headers],[変動費]])","v":0},{"$f":"SUMIFS(家計簿[金額],家計簿[年],年別詳細[[#This Row],[年]],家計簿[勘定科目],年別詳細[[#Headers],[給料]])","v":0},{"$f":"SUMIFS(家計簿[金額],家計簿[年],年別詳細[[#This Row],[年]],家計簿[勘定科目],年別詳細[[#Headers],[ボーナス]])","v":0},{"$f":"SUMIFS(家計簿[金額],家計簿[年],年別詳細[[#This Row],[年]],家計簿[勘定科目],年別詳細[[#Headers],[家賃補助]])","v":0},{"$f":"SUMIFS(家計簿[金額],家計簿[年],年別詳細[[#This Row],[年]],家計簿[勘定科目],年別詳細[[#Headers],[児童手当]])","v":0},{"$f":"SUMIFS(家計簿[金額],家計簿[年],年別詳細[[#This Row],[年]],家計簿[勘定科目],年別詳細[[#Headers],[配当金]])","v":0},{"$f":"SUMIFS(家計簿[金額],家計簿[年],年別詳細[[#This Row],[年]],家計簿[勘定科目],年別詳細[[#Headers],[特別収入]])","v":0},{"$f":"SUMIFS(家計簿[金額],家計簿[年],年別詳細[[#This Row],[年]],家計簿[勘定科目],年別詳細[[#Headers],[家賃]])","v":0},{"$f":"SUMIFS(家計簿[金額],家計簿[年],年別詳細[[#This Row],[年]],家計簿[勘定科目],年別詳細[[#Headers],[電気代]])","v":0},{"$f":"SUMIFS(家計簿[金額],家計簿[年],年別詳細[[#This Row],[年]],家計簿[勘定科目],年別詳細[[#Headers],[ガス代]])","v":0},{"$f":"SUMIFS(家計簿[金額],家計簿[年],年別詳細[[#This Row],[年]],家計簿[勘定科目],年別詳細[[#Headers],[水道代]])","v":0},{"$f":"SUMIFS(家計簿[金額],家計簿[年],年別詳細[[#This Row],[年]],家計簿[勘定科目],年別詳細[[#Headers],[通信費]])","v":0},{"$f":"SUMIFS(家計簿[金額],家計簿[年],年別詳細[[#This Row],[年]],家計簿[勘定科目],)","v":0},{"$f":"SUMIFS(家計簿[金額],家計簿[年],年別詳細[[#This Row],[年]],家計簿[勘定科目],)","v":0},{"$f":"SUMIFS(家計簿[金額],家計簿[年],年別詳細[[#This Row],[年]],家計簿[勘定科目],)","v":0},{"$f":"SUMIFS(家計簿[金額],家計簿[年],年別詳細[[#This Row],[年]],家計簿[勘定科目],年別詳細[[#Headers],[食費]])","v":0},{"$f":"SUMIFS(家計簿[金額],家計簿[年],年別詳細[[#This Row],[年]],家計簿[勘定科目],年別詳細[[#Headers],[日用品]])","v":0},{"$f":"SUMIFS(家計簿[金額],家計簿[年],年別詳細[[#This Row],[年]],家計簿[勘定科目],年別詳細[[#Headers],[衣服]])","v":0},{"$f":"SUMIFS(家計簿[金額],家計簿[年],年別詳細[[#This Row],[年]],家計簿[勘定科目],年別詳細[[#Headers],[教育費]])","v":0},{"$f":"SUMIFS(家計簿[金額],家計簿[年],年別詳細[[#This Row],[年]],家計簿[勘定科目],年別詳細[[#Headers],[外食費]])","v":0},{"$f":"SUMIFS(家計簿[金額],家計簿[年],年別詳細[[#This Row],[年]],家計簿[勘定科目],年別詳細[[#Headers],[移動費]])","v":0},{"$f":"SUMIFS(家計簿[金額],家計簿[年],年別詳細[[#This Row],[年]],家計簿[勘定科目],年別詳細[[#Headers],[旅費]])","v":0},{"$f":"SUMIFS(家計簿[金額],家計簿[年],年別詳細[[#This Row],[年]],家計簿[勘定科目],年別詳細[[#Headers],[娯楽費]])","v":0},{"$f":"SUMIFS(家計簿[金額],家計簿[年],年別詳細[[#This Row],[年]],家計簿[勘定科目],年別詳細[[#Headers],[医療費]])","v":0},{"$f":"SUMIFS(家計簿[金額],家計簿[年],年別詳細[[#This Row],[年]],家計簿[勘定科目],年別詳細[[#Headers],[特別出費]])","v":0}]
[null,null,2039,{"$f":"SUMIFS(家計簿[金額],家計簿[年],年別詳細[[#This Row],[年]],家計簿[収入/支出],年別詳細[[#Headers],[収入]])","v":0},{"$f":"SUMIFS(家計簿[金額],家計簿[年],年別詳細[[#This Row],[年]],家計簿[収入/支出],年別詳細[[#Headers],[支出]])","v":0},{"$f":"SUMIFS(家計簿[金額],家計簿[年],年別詳細[[#This Row],[年]],家計簿[固定費/変動費],年別詳細[[#Headers],[固定費]])","v":0},{"$f":"SUMIFS(家計簿[金額],家計簿[年],年別詳細[[#This Row],[年]],家計簿[固定費/変動費],年別詳細[[#Headers],[変動費]])","v":0},{"$f":"SUMIFS(家計簿[金額],家計簿[年],年別詳細[[#This Row],[年]],家計簿[勘定科目],年別詳細[[#Headers],[給料]])","v":0},{"$f":"SUMIFS(家計簿[金額],家計簿[年],年別詳細[[#This Row],[年]],家計簿[勘定科目],年別詳細[[#Headers],[ボーナス]])","v":0},{"$f":"SUMIFS(家計簿[金額],家計簿[年],年別詳細[[#This Row],[年]],家計簿[勘定科目],年別詳細[[#Headers],[家賃補助]])","v":0},{"$f":"SUMIFS(家計簿[金額],家計簿[年],年別詳細[[#This Row],[年]],家計簿[勘定科目],年別詳細[[#Headers],[児童手当]])","v":0},{"$f":"SUMIFS(家計簿[金額],家計簿[年],年別詳細[[#This Row],[年]],家計簿[勘定科目],年別詳細[[#Headers],[配当金]])","v":0},{"$f":"SUMIFS(家計簿[金額],家計簿[年],年別詳細[[#This Row],[年]],家計簿[勘定科目],年別詳細[[#Headers],[特別収入]])","v":0},{"$f":"SUMIFS(家計簿[金額],家計簿[年],年別詳細[[#This Row],[年]],家計簿[勘定科目],年別詳細[[#Headers],[家賃]])","v":0},{"$f":"SUMIFS(家計簿[金額],家計簿[年],年別詳細[[#This Row],[年]],家計簿[勘定科目],年別詳細[[#Headers],[電気代]])","v":0},{"$f":"SUMIFS(家計簿[金額],家計簿[年],年別詳細[[#This Row],[年]],家計簿[勘定科目],年別詳細[[#Headers],[ガス代]])","v":0},{"$f":"SUMIFS(家計簿[金額],家計簿[年],年別詳細[[#This Row],[年]],家計簿[勘定科目],年別詳細[[#Headers],[水道代]])","v":0},{"$f":"SUMIFS(家計簿[金額],家計簿[年],年別詳細[[#This Row],[年]],家計簿[勘定科目],年別詳細[[#Headers],[通信費]])","v":0},{"$f":"SUMIFS(家計簿[金額],家計簿[年],年別詳細[[#This Row],[年]],家計簿[勘定科目],)","v":0},{"$f":"SUMIFS(家計簿[金額],家計簿[年],年別詳細[[#This Row],[年]],家計簿[勘定科目],)","v":0},{"$f":"SUMIFS(家計簿[金額],家計簿[年],年別詳細[[#This Row],[年]],家計簿[勘定科目],)","v":0},{"$f":"SUMIFS(家計簿[金額],家計簿[年],年別詳細[[#This Row],[年]],家計簿[勘定科目],年別詳細[[#Headers],[食費]])","v":0},{"$f":"SUMIFS(家計簿[金額],家計簿[年],年別詳細[[#This Row],[年]],家計簿[勘定科目],年別詳細[[#Headers],[日用品]])","v":0},{"$f":"SUMIFS(家計簿[金額],家計簿[年],年別詳細[[#This Row],[年]],家計簿[勘定科目],年別詳細[[#Headers],[衣服]])","v":0},{"$f":"SUMIFS(家計簿[金額],家計簿[年],年別詳細[[#This Row],[年]],家計簿[勘定科目],年別詳細[[#Headers],[教育費]])","v":0},{"$f":"SUMIFS(家計簿[金額],家計簿[年],年別詳細[[#This Row],[年]],家計簿[勘定科目],年別詳細[[#Headers],[外食費]])","v":0},{"$f":"SUMIFS(家計簿[金額],家計簿[年],年別詳細[[#This Row],[年]],家計簿[勘定科目],年別詳細[[#Headers],[移動費]])","v":0},{"$f":"SUMIFS(家計簿[金額],家計簿[年],年別詳細[[#This Row],[年]],家計簿[勘定科目],年別詳細[[#Headers],[旅費]])","v":0},{"$f":"SUMIFS(家計簿[金額],家計簿[年],年別詳細[[#This Row],[年]],家計簿[勘定科目],年別詳細[[#Headers],[娯楽費]])","v":0},{"$f":"SUMIFS(家計簿[金額],家計簿[年],年別詳細[[#This Row],[年]],家計簿[勘定科目],年別詳細[[#Headers],[医療費]])","v":0},{"$f":"SUMIFS(家計簿[金額],家計簿[年],年別詳細[[#This Row],[年]],家計簿[勘定科目],年別詳細[[#Headers],[特別出費]])","v":0}]
[null,null,2040,{"$f":"SUMIFS(家計簿[金額],家計簿[年],年別詳細[[#This Row],[年]],家計簿[収入/支出],年別詳細[[#Headers],[収入]])","v":0},{"$f":"SUMIFS(家計簿[金額],家計簿[年],年別詳細[[#This Row],[年]],家計簿[収入/支出],年別詳細[[#Headers],[支出]])","v":0},{"$f":"SUMIFS(家計簿[金額],家計簿[年],年別詳細[[#This Row],[年]],家計簿[固定費/変動費],年別詳細[[#Headers],[固定費]])","v":0},{"$f":"SUMIFS(家計簿[金額],家計簿[年],年別詳細[[#This Row],[年]],家計簿[固定費/変動費],年別詳細[[#Headers],[変動費]])","v":0},{"$f":"SUMIFS(家計簿[金額],家計簿[年],年別詳細[[#This Row],[年]],家計簿[勘定科目],年別詳細[[#Headers],[給料]])","v":0},{"$f":"SUMIFS(家計簿[金額],家計簿[年],年別詳細[[#This Row],[年]],家計簿[勘定科目],年別詳細[[#Headers],[ボーナス]])","v":0},{"$f":"SUMIFS(家計簿[金額],家計簿[年],年別詳細[[#This Row],[年]],家計簿[勘定科目],年別詳細[[#Headers],[家賃補助]])","v":0},{"$f":"SUMIFS(家計簿[金額],家計簿[年],年別詳細[[#This Row],[年]],家計簿[勘定科目],年別詳細[[#Headers],[児童手当]])","v":0},{"$f":"SUMIFS(家計簿[金額],家計簿[年],年別詳細[[#This Row],[年]],家計簿[勘定科目],年別詳細[[#Headers],[配当金]])","v":0},{"$f":"SUMIFS(家計簿[金額],家計簿[年],年別詳細[[#This Row],[年]],家計簿[勘定科目],年別詳細[[#Headers],[特別収入]])","v":0},{"$f":"SUMIFS(家計簿[金額],家計簿[年],年別詳細[[#This Row],[年]],家計簿[勘定科目],年別詳細[[#Headers],[家賃]])","v":0},{"$f":"SUMIFS(家計簿[金額],家計簿[年],年別詳細[[#This Row],[年]],家計簿[勘定科目],年別詳細[[#Headers],[電気代]])","v":0},{"$f":"SUMIFS(家計簿[金額],家計簿[年],年別詳細[[#This Row],[年]],家計簿[勘定科目],年別詳細[[#Headers],[ガス代]])","v":0},{"$f":"SUMIFS(家計簿[金額],家計簿[年],年別詳細[[#This Row],[年]],家計簿[勘定科目],年別詳細[[#Headers],[水道代]])","v":0},{"$f":"SUMIFS(家計簿[金額],家計簿[年],年別詳細[[#This Row],[年]],家計簿[勘定科目],年別詳細[[#Headers],[通信費]])","v":0},{"$f":"SUMIFS(家計簿[金額],家計簿[年],年別詳細[[#This Row],[年]],家計簿[勘定科目],)","v":0},{"$f":"SUMIFS(家計簿[金額],家計簿[年],年別詳細[[#This Row],[年]],家計簿[勘定科目],)","v":0},{"$f":"SUMIFS(家計簿[金額],家計簿[年],年別詳細[[#This Row],[年]],家計簿[勘定科目],)","v":0},{"$f":"SUMIFS(家計簿[金額],家計簿[年],年別詳細[[#This Row],[年]],家計簿[勘定科目],年別詳細[[#Headers],[食費]])","v":0},{"$f":"SUMIFS(家計簿[金額],家計簿[年],年別詳細[[#This Row],[年]],家計簿[勘定科目],年別詳細[[#Headers],[日用品]])","v":0},{"$f":"SUMIFS(家計簿[金額],家計簿[年],年別詳細[[#This Row],[年]],家計簿[勘定科目],年別詳細[[#Headers],[衣服]])","v":0},{"$f":"SUMIFS(家計簿[金額],家計簿[年],年別詳細[[#This Row],[年]],家計簿[勘定科目],年別詳細[[#Headers],[教育費]])","v":0},{"$f":"SUMIFS(家計簿[金額],家計簿[年],年別詳細[[#This Row],[年]],家計簿[勘定科目],年別詳細[[#Headers],[外食費]])","v":0},{"$f":"SUMIFS(家計簿[金額],家計簿[年],年別詳細[[#This Row],[年]],家計簿[勘定科目],年別詳細[[#Headers],[移動費]])","v":0},{"$f":"SUMIFS(家計簿[金額],家計簿[年],年別詳細[[#This Row],[年]],家計簿[勘定科目],年別詳細[[#Headers],[旅費]])","v":0},{"$f":"SUMIFS(家計簿[金額],家計簿[年],年別詳細[[#This Row],[年]],家計簿[勘定科目],年別詳細[[#Headers],[娯楽費]])","v":0},{"$f":"SUMIFS(家計簿[金額],家計簿[年],年別詳細[[#This Row],[年]],家計簿[勘定科目],年別詳細[[#Headers],[医療費]])","v":0},{"$f":"SUMIFS(家計簿[金額],家計簿[年],年別詳細[[#This Row],[年]],家計簿[勘定科目],年別詳細[[#Headers],[特別出費]])","v":0}]